Workbook

Sheet Unit
A1: SITE | B1: SITE_CODE | C1: UNIT_ID | D1: CONTEXT_DESCRIPTION | E1: PHASE | F1: DATING | G1: UNIT_COMMENTS | H1: BURNING_PC | I1: GNAWING_PC | J1: FRAGMENTATION | K1: HOMOGENEITY
A2: Brompton Castle | B2: BC17 | C2: BC17 1001 | D2: Subsoil | E2: Unphased | F2: 18th and 19th century | G2: Build up of subsoil through centuries of farming and use of site as a garden
A3: Brompton Castle | B3: BC17 | C3: BC17 1003 | D3: Stony deposits in grey loamy soil | E3: Unphased | F3: Unknown | G3: Garden
A4: Brompton Castle | B4: BC17 | C4: BC17 2002 | D4: Stony rubble in orange/brown soil | E4: Unphased | F4: Unknown | G4: Garden
A5: Brompton Castle | B5: BC17 | C5: BC17 Unstrata | D5: Unknown | E5: Unphased | F5: Unknown
A6: Brompton Castle | B6: BC18 | C6: BC18 1002 | D6: Disturbed cobble surface | E6: 2 | F6: Unknown
A7: Brompton Castle | B7: BC18 | C7: BC18 1003 | D7: Spread from construction/levelling of mound | E7: 1 | F7: Unknown | G7: Upcast, artificial mound
A8: Brompton Castle | B8: BC18 | C8: BC18 2001 | D8: Topsoil | E8: 8 | G8: Deposits either side of medieval wall
A9: Brompton Castle | B9: BC18 | C9: BC18 2002 | D9: Wall demolition | E9: 7 | F9: Medieval | G9: Demolition of the wall
A10: Brompton Castle | B10: BC18 | C10: BC18 2003 | D10: Build up on outside of wall | E10: 6 | F10: Medieval | G10: Soil accumulating naturally
A11: Brompton Castle | B11: BC18 | C11: BC18 2005 | D11: Upper wall consutruction | E11: 4 | F11: Medieval | G11: Consolidate the wall foundations
A12: Brompton Castle | B12: BC18 | C12: BC18 2006 | D12: Upper wall consutruction | E12: 4 | F12: Medieval | G12: Consolidate the wall foundations
A13: Brompton Castle | B13: BC18 | C13: BC18 2007 | D13: Orange/brown silt with charcoal | E13: 3 | F13: Medieval | G13: Consolidate the wall foundations
A14: Brompton Castle | B14: BC18 | C14: BC18 2010 | D14: Occupation on inside of wall | E14: 5 | F14: Medieval | G14: Ground level at which construction of wall began
A15: Brompton Castle | B15: BC18 | C15: BC18 2011 | D15: Dark brown silty loam with limestone | E15: 3 | F15: Medieval | G15: Consolidate the wall foundations
A16: Brompton Castle | B16: BC18 | C16: BC18 2012 | D16: Compacted friable soil | E16: 3 | F16: Medieval
A17: Brompton Castle | B17: BC18 | C17: BC18 2013 | D17: Compacted grey soil | E17: 3 | F17: Medieval | G17: Fairly rapid deposit
A18: Brompton Castle | B18: BC18 | C18: BC18 3001 | D18: Topsoil | E18: 7 | G18: Mound overlying several phases of wall
A19: Brompton Castle | B19: BC18 | C19: BC18 3002 | D19: Topsoil | E19: 7 | F19: Recent | G19: Centre of the mound, dumped recently
A20: Brompton Castle | B20: BC18 | C20: BC18 3004 | D20: Final make up of bank | E20: 6 | F20: Medieval | G20: Mound makeup
A21: Brompton Castle | B21: BC18 | C21: BC18 3007 | D21: Spread of soil/rubble - base of bank | E21: 4 | F21: Medieval
A22: Brompton Castle | B22: BC18 | C22: BC18 4002 | D22: Rubble | E22: 2 | G22: Demolition of stone structure
A23: Brompton Castle | B23: BC19 | C23: BC19 5004 | D23: Major build up to west of wall (exterior) | E23: 3
A24: Brompton Castle | B24: BC19 | C24: BC19 5006 | D24: Major build up to west of wall (exterior) | E24: 3
A25: Brompton Castle | B25: BC19 | C25: BC19 5007 | D25: Major build up to west of wall (exterior) | E25: 3
A26: Brompton Castle | B26: BC19 | C26: BC19 5008 | D26: Major build up to west of wall (exterior) | E26: 3 | G26: Dumped rapidly outside of the wall
A27: Brompton Castle | B27: BC19 | C27: BC19 5010 | D27: Working layer/construction on inside of wall - Burnt soil | E27: 4 | G27: Industrial/domestic activity inside the wall which scorched the stonework
A28: Brompton Castle | B28: BC19 | C28: BC19 5012 | D28: Working layer/stone raft on exterior of wall | E28: 5 | G28: Debris from construction of wall
A29: Brompton Castle | B29: BC19 | C29: BC19 5014 | D29: Working layer/stone raft on exterior of wall | E29: 6 | G29: Post-date construction of the wall
A30: Brompton Castle | B30: BC19 | C30: BC19 6001 | D30: Stone wall | E30: 1 | G30: Built from roughly coursed stonework with a rubble core and clay bonded
A31: Brompton Castle | B31: BC19 | C31: BC19 7001 | D31: Dark brown loamy soil | E31: 1 | G31: Built up over demolition deposits
A32: Brompton Castle | B32: BC19 | C32: BC19 7007 | D32: Stony soil | E32: 4 | G32: Demolition fo building
A33: Brompton Castle | B33: BC19 | C33: BC19 7008 | D33: Stony soil | E33: 4 | G33: Demolition fo building
A34: Brompton Castle | B34: BC19 | C34: BC19 8001 | D34: Field, topsoil | E34: 1
A35: Brompton Castle | B35: BC19 | C35: BC19 8003 | D35: Demolition | E35: 3 | G35: Demolition of wall
A36: Brompton Castle | B36: BC19 | C36: BC19 8004 | D36: WW2 slit trench | E36: 2 | F36: WW2 - 1939-1945 | G36: Pit may be connected with use of field for training by Home Guard during WW2
A37: Brompton Castle | B37: BC19 | C37: BC19 8005 | D37: Demolition | E37: 3 | G37: Demolition of wall
A38: Brompton Castle | B38: BC19 | C38: BC19 8007 | D38: Exterior surface | E38: 4 | G38: In between wall and buttress
A39: Brompton Castle | B39: BC19 | C39: BC19 8008 | D39: Demolition/underpinning for barn | E39: 7 | G39: Demolition of structure, compacted to firm base for construction of building
A40: Brompton Castle | B40: BC19 | C40: BC19 8011 | D40: Ash, burnt clay, charcoal - Industrial activity | E40: 8 | G40: Intense burning, hearth
A41: Brompton Castle | B41: BC19 | C41: BC19 8017 | D41: Burnt deposits - Industrial activity | E41: 8 | G41: Fill of hearth
A42: Brompton Castle | B42: BC21 | C42: BC21 9001 | D42: Agricultural build up | E42: 3
A43: Brompton Castle | B43: BC21 | C43: BC21 9002 | D43: Mid-brown loam | E43: 2 | F43: Recent
A44: Brompton Castle | B44: BC21 | C44: BC21 9004 | D44: Agricultural build up | E44: 3
A45: Brompton Castle | B45: BC21 | C45: BC21 9006 | D45: Collapse | E45: 6
A46: Brompton Castle | B46: BC21 | C46: BC21 9007 | D46: Buildings in use | E46: 8
A47: Brompton Castle | B47: BC21 | C47: BC21 9008 | D47: Agricultural build up | E47: 3
A48: Brompton Castle | B48: BC21 | C48: BC21 9014 | D48: Collapse | E48: 6
A49: Brompton Castle | B49: BC21 | C49: BC21 9015 | D49: Collapse | E49: 6
A50: Brompton Castle | B50: BC21 | C50: BC21 9016 | D50: Demolition | E50: 4
A51: Brompton Castle | B51: BC21 | C51: BC21 9017 | D51: Building in use | E51: 8
A52: Brompton Castle | B52: BC21 | C52: BC21 9019 | D52: Building in use | E52: 8
A53: Brompton Castle | B53: BC21 | C53: BC21 9023 | D53: Demolition | E53: 4
A54: Brompton Castle | B54: BC21 | C54: BC21 9026 | D54: Collapse | E54: 6
A55: Brompton Castle | B55: BC21 | C55: BC21 9029 | D55: Collapse | E55: 6
... A60: Brompton Castle | B60: BC21 | C60: BC21 9036 | D60: Open ground | E60: 14
A61: Brompton Castle | B61: BC21 | C61: BC21 9042 | D61: Open ground | E61: 14 | F61: AD 1033-1165

Sheet Specimen
H1: Watson 1979 | I1: cm | J1: grams | K1: e.g. from texture | N1: inc. tuber calcis | O1: inc. glenoid | S1: relevant BONE_ID(s)
A2: BONE_ID | B2: UNIT_ID | C2: REC_DATE | D2: TAXON | E2: ELEMENT | F2: SIDE | G2: FRAGS | H2: DZ | I2: LENGTH | J2: WEIGHT | K2: AGE | L2: SEX | M2: PORTION | N2: PROX_FUSION | O2: DIST_FUSION | P2: SURFACE | Q2: BURNING | R2: GNAWING | S2: ARTIC_WITH | T2: ARTIC_TYPE | U2: FOR_ATTENTION | V2: COMMENTS
A3: 1 | B3: BC17 1001 | C3: 45914 | D3: Ovis/Capra | E3: Pelvis | F3: Left | G3: 1 | H3: 1 | I3: 11 | J3: 16 | M3: Acetabulum | N3: Fused | P3: Good | V3: Sawing marks, sawn through ilium
A4: 2 | B4: BC17 1001 | C4: 45914 | D4: Indet. mammal | E4: Indet. | F4: Indet. | G4: 2 | I4: 2 | J4: 2 | M4: Fragment | P4: Average
A5: 3 | B5: BC17 1001 | C5: 45914 | D5: Indet. mammal | E5: Indet. | F5: Indet. | G5: 3 | I5: 3 | J5: 2 | M5: Fragment | P5: Average
A6: 4 | B6: BC17 1001 | C6: 45914 | D6: Indet. mammal | E6: Indet. | F6: Indet. | G6: 8 | I6: 4 | J6: 20 | M6: Fragment | P6: Average
A7: 5 | B7: BC17 1001 | C7: 45914 | D7: Indet. mammal | E7: Indet. | F7: Indet. | G7: 3 | I7: 5 | J7: 7 | M7: Fragment | P7: Average
A8: 6 | B8: BC17 1001 | C8: 45914 | D8: Indet. mammal | E8: Indet. | F8: Indet. | G8: 2 | I8: 6 | J8: 5 | M8: Fragment | P8: Average
A9: 7 | B9: BC17 1001 | C9: 45914 | D9: Medium mammal | E9: Rib | F9: Indet. | G9: 1 | I9: 2 | J9: 1 | M9: Fragment | P9: Average
A10: 8 | B10: BC17 1001 | C10: 45914 | D10: Large mammal | E10: Lumbar vert. | F10: Indet. | G10: 1 | I10: 6 | J10: 15 | M10: Fragment | P10: Average
A11: 9 | B11: BC17 1001 | C11: 45914 | D11: Large mammal | E11: Rib | F11: Indet. | G11: 1 | I11: 11 | J11: 18 | M11: Fragment | P11: Average | V11: Sawing marks through one end of rib
A12: 10 | B12: BC17 1001 | C12: 45914 | D12: Large mammal | E12: Rib | F12: Indet. | G12: 1 | I12: 5 | J12: 5 | M12: Fragment | P12: Average
A13: 11 | B13: BC17 1001 | C13: 45914 | D13: Corvus sp. | E13: Tarsometatarsus | F13: Right | G13: 2 | I13: 5 | J13: 1 | M13: Complete | O13: Fused | P13: Average | V13: Two pieces fit together but have different colouring, broken and then disposed of in different soil deposits
A14: 12 | B14: BC17 1001 | C14: 45914 | D14: Ovis/Capra | E14: Tooth | F14: Indet. | G14: 1 | I14: 3 | J14: 4 | M14: Complete | P14: Average
A15: 13 | B15: BC17 1001 | C15: 45914 | D15: Ovis/Capra | E15: Tooth | F15: Indet. | G15: 1 | I15: 3 | J15: 3 | M15: Complete | P15: Average
A16: 14 | B16: BC17 1001 | C16: 45914 | D16: Ovis/Capra | E16: Tooth | F16: Indet. | G16: 1 | I16: 3 | J16: 1 | M16: Complete | P16: Average
A17: 15 | B17: BC17 1001 | C17: 45914 | D17: Bos taurus | E17: Pelvis | F17: Indet. | G17: 1 | I17: 12 | J17: 46 | M17: Fragment | P17: Average
A18: 16 | B18: BC17 1001 | C18: 45914 | D18: Large mammal | E18: Indet. | F18: Indet. | G18: 1 | I18: 5 | J18: 12 | M18: Fragment | P18: Average
A19: 17 | B19: BC17 1001 | C19: 45914 | D19: Bos taurus | E19: Pelvis | F19: Indet. | G19: 1 | I19: 5 | J19: 17 | M19: Fragment | P19: Average
A20: 18 | B20: BC17 1001 | C20: 45914 | D20: Ovis/Capra | E20: Tibia | F20: Left | G20: 1 | I20: 5 | J20: 8 | M20: Shaft cylinder | P20: Average | V20: Green break
A21: 19 | B21: BC17 1001 | C21: 45914 | D21: Ovis/Capra | E21: Tibia | F21: Right | G21: 1 | I21: 9 | J21: 19 | M21: Shaft cylinder | P21: Average | V21: Sawing marks, sawn through shaft, Zone 9
A22: 20 | B22: BC17 1001 | C22: 45914 | D22: Large mammal | E22: Rib | F22: Indet. | G22: 1 | I22: 6 | J22: 10 | M22: Fragment | P22: Average
A23: 21 | B23: BC17 1001 | C23: 45914 | D23: Bos taurus | E23: Pelvis | F23: Indet. | G23: 1 | I23: 8 | J23: 19 | M23: Fragment | P23: Average
A24: 22 | B24: BC17 1001 | C24: 45914 | D24: Medium mammal | E24: Thoracic vert. | F24: Indet. | G24: 1 | I24: 5 | J24: 4 | M24: Fragment | P24: Average
A25: 23 | B25: BC17 1001 | C25: 45914 | D25: Ovis/Capra | E25: Humerus | F25: Left | G25: 1 | I25: 7 | J25: 14 | M25: Shaft cylinder | P25: Average
A26: 24 | B26: BC17 1001 | C26: 45914 | D26: Sus scrofa | E26: Metacarpal 3 | F26: Left | G26: 1 | H26: 1 | I26: 6 | J26: 5 | M26: Near-complete | O26: Unfused shaft | P26: Average
A27: 25 | B27: BC17 1001 | C27: 45914 | D27: Small mammal | E27: Indet. | F27: Indet. | G27: 1 | I27: 2 | J27: 1 | M27: Fragment | P27: Very poor | Q27: Calcined
A28: 26 | B28: BC17 1001 | C28: 45914 | D28: Large mammal | E28: Indet. | F28: Indet. | G28: 1 | I28: 5 | J28: 11 | M28: Fragment | P28: Average
A29: 27 | B29: BC17 1001 | C29: 45914 | D29: Large mammal | E29: Rib | F29: Indet. | G29: 1 | I29: 7 | J29: 11 | M29: Fragment | P29: Average
A30: 28 | B30: BC17 1001 | C30: 45914 | D30: Small mammal | E30: Rib | F30: Indet. | G30: 1 | I30: 5 | J30: 1 | M30: Fragment | P30: Average
A31: 29 | B31: BC17 1001 | C31: 45914 | D31: Corvus sp. | E31: Ulna | F31: Left | G31: 1 | I31: 2 | J31: 1 | M31: Dist | P31: Average
A32: 30 | B32: BC17 1003 | C32: 45914 | D32: Bos taurus | E32: Mandible | F32: Left | G32: 2 | I32: 8 | J32: 27 | M32: Fragment | P32: Average
A33: 31 | B33: BC17 1003 | C33: 45914 | D33: Bos taurus | E33: Mandible | F33: Left | G33: 4 | I33: N/A | J33: 53 | M33: Fragment | P33: Average | V33: broken but can be fit back together, fragments from the same bone
A34: 32 | B34: BC17 1003 | C34: 45914 | D34: Bos taurus | E34: Tooth | F34: Indet. | G34: 1 | I34: 4 | J34: 15 | M34: Near-complete | P34: Average
A35: 33 | B35: BC17 1003 | C35: 45914 | D35: Bos taurus | E35: Tooth | F35: Indet. | G35: 1 | I35: 3 | J35: 8 | M35: Fragment | P35: Average
A36: 34 | B36: BC17 1003 | C36: 45914 | D36: Bos taurus | E36: Tooth | F36: Indet. | G36: 1 | I36: 2 | J36: 3 | M36: Fragment | P36: Average
A37: 35 | B37: BC17 1003 | C37: 45914 | D37: Bos taurus | E37: Tooth | F37: Indet. | G37: 1 | I37: 3 | J37: 2 | M37: Fragment | P37: Average
A38: 36 | B38: BC17 1003 | C38: 45914 | D38: Indet. mammal | E38: Indet. | F38: Indet. | G38: 3 | I38: 2 | J38: 2 | M38: Fragment | P38: Average
A39: 37 | B39: BC17 1003 | C39: 45914 | D39: Indet. mammal | E39: Indet. | F39: Indet. | G39: 3 | I39: 3 | J39: 2 | M39: Fragment | P39: Average
A40: 38 | B40: BC17 1003 | C40: 45914 | D40: Indet. mammal | E40: Indet. | F40: Indet. | G40: 2 | I40: 4 | J40: 1 | M40: Fragment | P40: Average
A41: 39 | B41: BC17 1003 | C41: 45914 | D41: Indet. mammal | E41: Indet. | F41: Indet. | G41: 1 | I41: 5 | J41: 2 | M41: Fragment | P41: Average
A42: 40 | B42: BC17 1003 | C42: 45914 | D42: Large mammal | E42: Rib | F42: Indet. | G42: 1 | I42: 8 | J42: 13 | M42: Fragment | P42: Average
A43: 41 | B43: BC17 1003 | C43: 45914 | D43: Medium mammal | E43: Rib | F43: Indet. | G43: 1 | I43: 6 | J43: 4 | M43: Fragment | P43: Average
A44: 42 | B44: BC17 1003 | C44: 45914 | D44: Medium mammal | E44: Rib | F44: Indet. | G44: 1 | I44: 4 | J44: 1 | M44: Fragment | P44: Average
A45: 43 | B45: BC17 1003 | C45: 45914 | D45: Medium mammal | E45: Long bone | F45: Indet. | G45: 1 | I45: 3 | J45: 3 | M45: Shaft splinter | P45: Average
... A52: 50 | B52: BC17 1003 | C52: 45914 | D52: Anser anser | E52: Humerus | F52: Left | G52: 1 | I52: 7 | J52: 10 | M52: Prox | P52: Average
A53: 51 | B53: BC17 1003 | C53: 45914 | D53: Sus scrofa | E53: Humerus | F53: Right | G53: 1 | H53: 1 | I53: 9 | J53: 40 | M53: Dist | P53: Poor | R53: Carnivore - light
A54: 52 | B54: BC17 1003 | C54: 45915 | D54: Cervus elaphus | E54: Metatarsal | F54: Indet. | G54: 1 | I54: 6 | J54: 8 | M54: Shaft splinter | P54: Average
A55: 53 | B55: BC17 1003 | C55: 45915 | D55: Ovis/Capra | E55: Ulna | F55: Left | G55: 1 | H55: 1 | I55: 7 | J55: 6 | M55: Prox | P55: Average
A56: 54 | B56: BC17 1003 | C56: 45915 | D56: Medium bird | E56: Long bone | F56: Indet. | G56: 1 | I56: 4 | J56: 1 | M56: Shaft cylinder | P56: Average
A57: 55 | B57: BC17 1003 | C57: 45915 | D57: Large mammal | E57: Vert. | F57: Indet. | G57: 1 | I57: 6 | J57: 16 | M57: Fragment | P57: Average
A58: 56 | B58: BC17 1003 | C58: 45915 | D58: Large mammal | E58: Long bone | F58: Indet. | G58: 1 | I58: 8 | J58: 25 | M58: Fragment | P58: Average
A59: 57 | B59: BC17 1003 | C59: 45917 | D59: Sus scrofa | E59: Radius | F59: Right | G59: 1 | I59: 8 | J59: 11 | M59: Shaft cylinder | P59: Average
A60: 58 | B60: BC17 1003 | C60: 45917 | D60: Sus scrofa | E60: Tibia | F60: Left | G60: 1 | I60: 10 | J60: 28 | M60: Shaft cylinder | P60: Average
A61: 59 | B61: BC17 1003 | C61: 45917 | D61: Sus scrofa | E61: Accessory MP | F61: Indet. | G61: 1 | I61: 4 | J61: 1 | M61: Complete | P61: Average
A62: 60 | B62: BC17 1003 | C62: 45918 | D62: Bos taurus | E62: Pelvis | F62: Left | G62: 1 | H62: 1 | I62: 17 | J62: 146 | M62: Acetabulum | N62: Fused | P62: Average
A63: 61 | B63: BC17 1003 | C63: 45918 | D63: Bos taurus | E63: Scapula | F63: Left | G63: 1 | I63: 7 | J63: 20 | M63: Fragment | P63: Average
A64: 62 | B64: BC17 1003 | C64: 45918 | D64: Bos taurus | E64: Radius | F64: Left | G64: 1 | I64: 7 | J64: 40 | M64: Shaft cylinder | P64: Average
A65: 63 | B65: BC17 2002 | C65: 45918 | D65: Large mammal | E65: Long bone | F65: Indet. | G65: 1 | I65: 6 | J65: 19 | M65: Shaft splinter | P65: Good
A66: 64 | B66: BC17 Unstrata | C66: 45918 | D66: Indet. mammal | E66: Indet. | F66: Indet. | G66: 1 | I66: 1 | J66: 1 | M66: Fragment | P66: Average
A67: 65 | B67: BC17 Unstrata | C67: 45918 | D67: Indet. mammal | E67: Indet. | F67: Indet. | G67: 3 | I67: 2 | J67: 1 | M67: Fragment | P67: Average
A68: 66 | B68: BC17 Unstrata | C68: 45918 | D68: Indet. mammal | E68: Indet. | F68: Indet. | G68: 2 | I68: 3 | J68: 2 | M68: Fragment | P68: Average
A69: 67 | B69: BC17 Unstrata | C69: 45918 | D69: Large mammal | E69: Vert. | F69: Indet. | G69: 1 | I69: 3 | J69: 3 | M69: Fragment | N69: Unfused shaft | P69: Average
A70: 68 | B70: BC17 Unstrata | C70: 45918 | D70: Small mammal | E70: Lumbar vert. | F70: Indet. | G70: 1 | I70: 3 | J70: 1 | M70: Fragment | P70: Good
A71: 69 | B71: BC18 1002 | C71: 45918 | D71: Bos taurus | E71: Sacrum | F71: Central | G71: 6 | I71: N/A | J71: 157 | M71: Fragment | P71: Average | V71: broken but can be fit back together, fragments from the same bone
A72: 70 | B72: BC18 1002 | C72: 45918 | D72: Large mammal | E72: Scapula | F72: Indet. | G72: 1 | I72: 9 | J72: 19 | M72: Fragment | P72: Average
A73: 71 | B73: BC18 1002 | C73: 45918 | D73: Indet. mammal | E73: Indet. | F73: Indet. | G73: 2 | I73: 2 | J73: 1 | M73: Fragment | P73: Average
A74: 72 | B74: BC18 1002 | C74: 45918 | D74: Indet. mammal | E74: Indet. | F74: Indet. | G74: 3 | I74: 3 | J74: 3 | M74: Fragment | P74: Average
A75: 73 | B75: BC18 1002 | C75: 45918 | D75: Indet. mammal | E75: Indet. | F75: Indet. | G75: 1 | I75: 7 | J75: 2 | M75: Fragment | P75: Average
A76: 74 | B76: BC18 1002 | C76: 45918 | D76: Medium mammal | E76: Indet. | F76: Indet. | G76: 1 | I76: 3 | J76: 3 | M76: Shaft splinter | P76: Average
A77: 75 | B77: BC18 1002 | C77: 45918 | D77: Medium mammal | E77: Indet. | F77: Indet. | G77: 1 | I77: 4 | J77: 2 | M77: Shaft splinter | P77: Average
A78: 76 | B78: BC18 1002 | C78: 45918 | D78: Medium mammal | E78: Indet. | F78: Indet. | G78: 1 | I78: 5 | J78: 4 | M78: Shaft splinter | P78: Average
A79: 77 | B79: BC18 1002 | C79: 45918 | D79: Large mammal | E79: Indet. | F79: Indet. | G79: 1 | I79: 3 | J79: 9 | M79: Shaft splinter | P79: Average
A80: 78 | B80: BC18 1002 | C80: 45918 | D80: Large mammal | E80: Indet. | F80: Indet. | G80: 1 | I80: 4 | J80: 6 | M80: Shaft splinter | P80: Average
A81: 79 | B81: BC18 1002 | C81: 45918 | D81: Medium bird | E81: Indet. | F81: Indet. | G81: 1 | I81: 3 | J81: 1 | M81: Shaft splinter | P81: Average
A82: 80 | B82: BC18 1002 | C82: 45918 | D82: Medium bird | E82: Indet. | F82: Indet. | G82: 1 | I82: 4 | J82: 1 | M82: Shaft splinter | P82: Average
A83: 81 | B83: BC18 1002 | C83: 45918 | D83: Bos taurus | E83: Dist. phalanx | F83: LM/RL | G83: 1 | H83: 0.5 | I83: 6 | J83: 12 | M83: Near-complete | P83: Average
A84: 82 | B84: BC18 1002 | C84: 45918 | D84: Medium bird | E84: Tibiotarsus | F84: Right | G84: 1 | I84: 4 | J84: 1 | K84: Young | M84: Shaft cylinder | P84: Average
A85: 83 | B85: BC18 1002 | C85: 45918 | D85: Medium bird | E85: Long bone | F85: Indet. | G85: 1 | I85: 3 | J85: 1 | M85: Fragment | P85: Average
A86: 84 | B86: BC18 1002 | C86: 45918 | D86: Large mammal | E86: Vert. | F86: Indet. | G86: 1 | I86: 7 | J86: 33 | M86: Fragment | P86: Average
A87: 85 | B87: BC18 1002 | C87: 45918 | D87: Large mammal | E87: Vert. | F87: Indet. | G87: 1 | I87: 6 | J87: 13 | M87: Fragment | P87: Average
A88: 86 | B88: BC18 1002 | C88: 45918 | D88: Large mammal | E88: Vert. | F88: Indet. | G88: 1 | I88: 5 | J88: 16 | M88: Fragment | P88: Average
A89: 87 | B89: BC18 1002 | C89: 45918 | D89: Indet. mammal | E89: Indet. | F89: Indet. | G89: 1 | I89: 2 | J89: 3 | M89: Fragment | P89: Average
A90: 88 | B90: BC18 1003 | C90: 45918 | D90: Bos taurus | E90: Humerus | F90: Left | G90: 1 | I90: 11 | J90: 57 | M90: Shaft splinter | P90: Good | V90: green break
A91: 89 | B91: BC18 1003 | C91: 45918 | D91: Bos taurus | E91: Thoracic vert. | F91: Indet. | G91: 1 | I91: 9 | J91: 20 | M91: Fragment | P91: Good
A92: 90 | B92: BC18 1003 | C92: 45918 | D92: Bos taurus | E92: Tooth | F92: Indet. | G92: 1 | I92: 4 | J92: 17 | M92: Near-complete | P92: Average
A93: 91 | B93: BC18 1003 | C93: 45918 | D93: Large mammal | E93: Long bone | F93: Indet. | G93: 1 | I93: 4 | J93: 8 | M93: Fragment | P93: Average
A94: 92 | B94: BC18 1003 | C94: 45918 | D94: Large mammal | E94: Long bone | F94: Indet. | G94: 1 | I94: 6 | J94: 19 | M94: Fragment | P94: Average
A95: 93 | B95: BC18 1003 | C95: 45918 | D95: Large mammal | E95: Long bone | F95: Indet. | G95: 2 | I95: 10 | J95: 40 | M95: Fragment | P95: Average
A96: 94 | B96: BC18 1003 | C96: 45918 | D96: Large mammal | E96: Long bone | F96: Indet. | G96: 1 | I96: 11 | J96: 16 | M96: Fragment | P96: Average
A97: 95 | B97: BC18 1003 | C97: 45918 | D97: Indet. mammal | E97: Indet. | F97: Indet. | G97: 2 | I97: 3 | J97: 5 | M97: Fragment | P97: Average
A98: 96 | B98: BC18 1003 | C98: 45918 | D98: Indet. mammal | E98: Indet. | F98: Indet. | G98: 3 | I98: 4 | J98: 12 | M98: Fragment | P98: Average
A99: 97 | B99: BC18 1003 | C99: 45918 | D99: Indet. mammal | E99: Indet. | F99: Indet. | G99: 1 | I99: 5 | J99: 6 | M99: Fragment | P99: Average
A100: 98 | B100: BC18 1003 | C100: 45918 | D100: Medium bird | E100: Indet. | F100: Indet. | G100: 1 | I100: 6 | J100: 1 | M100: Fragment | P100: Average
A101: 99 | B101: BC18 1003 | C101: 45918 | D101: Indet. mammal | E101: Indet. | F101: Indet. | G101: 1 | I101: 8 | J101: 6 | M101: Fragment | P101: Average
A102: 100 | B102: BC18 1003 | C102: 45918 | D102: Ovis/Capra | E102: Tibia | F102: Right | G102: 1 | I102: 8 | J102: 15 | M102: Shaft cylinder | P102: Good
A103: 101 | B103: BC18 1003 | C103: 45918 | D103: Bos taurus | E103: Calcaneum | F103: Right | G103: 1 | H103: 1 | I103: 9 | J103: 38 | M103: Near-complete | N103: Unfused shaft | P103: Average
A104: 102 | B104: BC18 2001 | C104: 45918 | D104: Indet. mammal | E104: Indet. | F104: Indet. | G104: 13 | I104: 2 | J104: 10 | M104: Fragment | P104: Average
A105: 103 | B105: BC18 2001 | C105: 45918 | D105: Indet. mammal | E105: Indet. | F105: Indet. | G105: 7 | I105: 3 | J105: 12 | M105: Fragment | P105: Average
A106: 104 | B106: BC18 2001 | C106: 45918 | D106: Indet. mammal | E106: Indet. | F106: Indet. | G106: 5 | I106: 4 | J106: 11 | M106: Fragment | P106: Average
...

Sheet Zones
B1: TAXON | C1: (auto) | D1: (auto) | E1: Frontal | F1: Maxilla | G1: Premaxilla | H1: Nasal | I1: Lacrimal | J1: Zygomatic | K1: Parietal | L1: Occipital | M1: Temporal | N1: Petrous | O1: Basioccipital | Q1: <-- Zones for skulls, not listed in Dobney & Reilly 1988
A2: BONE_ID | B2: =if(A2 ="", "", vlookup(A2, Specimen!A:E, 4, FALSE)) -> TAXON | C2: ELEMENT | D2: SIDE | E2: Z_1 | F2: Z_2 | G2: Z_3 | H2: Z_4 | I2: Z_5 | J2: Z_6 | K2: Z_7 | L2: Z_8 | M2: Z_9 | N2: Z_10 | O2: Z_11 | P2: Z_12
A3: 1 | B3: =if(A3 ="", "", vlookup(A3, Specimen!A:E, 4, FALSE)) -> Ovis/Capra | C3: =if(A3 ="", "", vlookup(A3, Specimen!A:F, 5, FALSE)) -> Pelvis | D3: =if(A3 ="", "", vlookup(A3, Specimen!A:G, 6, FALSE)) -> Left | E3: TRUE | F3: TRUE | G3: FALSE | H3: TRUE | I3: TRUE | J3: TRUE | K3: FALSE | L3: FALSE | M3: FALSE | N3: FALSE | O3: FALSE | P3: FALSE
A4: 18 | B4: =if(A4 ="", "", vlookup(A4, Specimen!A:E, 4, FALSE)) -> Ovis/Capra | C4: =if(A4 ="", "", vlookup(A4, Specimen!A:F, 5, FALSE)) -> Tibia | D4: =if(A4 ="", "", vlookup(A4, Specimen!A:G, 6, FALSE)) -> Left | E4: FALSE | F4: FALSE | G4: FALSE | H4: FALSE | I4: FALSE | J4: FALSE | K4: TRUE | L4: FALSE | M4: FALSE | N4: FALSE | O4: FALSE | P4: FALSE
A5: 19 | B5: =if(A5 ="", "", vlookup(A5, Specimen!A:E, 4, FALSE)) -> Ovis/Capra | C5: =if(A5 ="", "", vlookup(A5, Specimen!A:F, 5, FALSE)) -> Tibia | D5: =if(A5 ="", "", vlookup(A5, Specimen!A:G, 6, FALSE)) -> Right | E5: FALSE | F5: FALSE | G5: FALSE | H5: FALSE | I5: FALSE | J5: FALSE | K5: TRUE | L5: TRUE | M5: TRUE | N5: FALSE | O5: FALSE | P5: FALSE
A6: 23 | B6: =if(A6 ="", "", vlookup(A6, Specimen!A:E, 4, FALSE)) -> Ovis/Capra | C6: =if(A6 ="", "", vlookup(A6, Specimen!A:F, 5, FALSE)) -> Humerus | D6: =if(A6 ="", "", vlookup(A6, Specimen!A:G, 6, FALSE)) -> Left | E6: FALSE | F6: FALSE | G6: FALSE | H6: FALSE | I6: FALSE | J6: FALSE | K6: TRUE | L6: TRUE | M6: TRUE | N6: TRUE | O6: TRUE | P6: FALSE
A7: 24 | B7: =if(A7 ="", "", vlookup(A7, Specimen!A:E, 4, FALSE)) -> Sus scrofa | C7: =if(A7 ="", "", vlookup(A7, Specimen!A:F, 5, FALSE)) -> Metacarpal 3 | D7: =if(A7 ="", "", vlookup(A7, Specimen!A:G, 6, FALSE)) -> Left | E7: FALSE | F7: FALSE | G7: TRUE | H7: FALSE | I7: FALSE | J7: FALSE | K7: FALSE | L7: FALSE | M7: FALSE | N7: FALSE | O7: FALSE | P7: FALSE
A8: 51 | B8: =if(A8 ="", "", vlookup(A8, Specimen!A:E, 4, FALSE)) -> Sus scrofa | C8: =if(A8 ="", "", vlookup(A8, Specimen!A:F, 5, FALSE)) -> Humerus | D8: =if(A8 ="", "", vlookup(A8, Specimen!A:G, 6, FALSE)) -> Right | E8: FALSE | F8: FALSE | G8: FALSE | H8: FALSE | I8: FALSE | J8: FALSE | K8: TRUE | L8: TRUE | M8: FALSE | N8: FALSE | O8: FALSE | P8: FALSE
A9: 53 | B9: =if(A9 ="", "", vlookup(A9, Specimen!A:E, 4, FALSE)) -> Ovis/Capra | C9: =if(A9 ="", "", vlookup(A9, Specimen!A:F, 5, FALSE)) -> Ulna | D9: =if(A9 ="", "", vlookup(A9, Specimen!A:G, 6, FALSE)) -> Left | E9: TRUE | F9: TRUE | G9: TRUE | H9: TRUE | I9: TRUE | J9: FALSE | K9: FALSE | L9: FALSE | M9: FALSE | N9: FALSE | O9: FALSE | P9: FALSE
A10: 57 | B10: =if(A10 ="", "", vlookup(A10, Specimen!A:E, 4, FALSE)) -> Sus scrofa | C10: =if(A10 ="", "", vlookup(A10, Specimen!A:F, 5, FALSE)) -> Radius | D10: =if(A10 ="", "", vlookup(A10, Specimen!A:G, 6, FALSE)) -> Right | E10: FALSE | F10: FALSE | G10: FALSE | H10: FALSE | I10: TRUE | J10: TRUE | K10: TRUE | L10: TRUE | M10: FALSE | N10: FALSE | O10: FALSE | P10: FALSE
A11: 58 | B11: =if(A11 ="", "", vlookup(A11, Specimen!A:E, 4, FALSE)) -> Sus scrofa | C11: =if(A11 ="", "", vlookup(A11, Specimen!A:F, 5, FALSE)) -> Tibia | D11: =if(A11 ="", "", vlookup(A11, Specimen!A:G, 6, FALSE)) -> Left | E11: FALSE | F11: FALSE | G11: FALSE | H11: FALSE | I11: FALSE | J11: FALSE | K11: FALSE | L11: TRUE | M11: TRUE | N11: TRUE | O11: FALSE | P11: FALSE
A12: 60 | B12: =if(A12 ="", "", vlookup(A12, Specimen!A:E, 4, FALSE)) -> Bos taurus | C12: =if(A12 ="", "", vlookup(A12, Specimen!A:F, 5, FALSE)) -> Pelvis | D12: =if(A12 ="", "", vlookup(A12, Specimen!A:G, 6, FALSE)) -> Left | E12: TRUE | F12: TRUE | G12: FALSE | H12: TRUE | I12: FALSE | J12: FALSE | K12: FALSE | L12: FALSE | M12: FALSE | N12: FALSE | O12: FALSE | P12: FALSE
A13: 81 | B13: =if(A13 ="", "", vlookup(A13, Specimen!A:E, 4, FALSE)) -> Bos taurus | C13: =if(A13 ="", "", vlookup(A13, Specimen!A:F, 5, FALSE)) -> Dist. phalanx | D13: =if(A13 ="", "", vlookup(A13, Specimen!A:G, 6, FALSE)) -> LM/RL | E13: TRUE | F13: TRUE | G13: FALSE | H13: FALSE | I13: FALSE | J13: FALSE | K13: FALSE | L13: FALSE | M13: FALSE | N13: FALSE | O13: FALSE | P13: FALSE
A14: 100 | B14: =if(A14 ="", "", vlookup(A14, Specimen!A:E, 4, FALSE)) -> Ovis/Capra | C14: =if(A14 ="", "", vlookup(A14, Specimen!A:F, 5, FALSE)) -> Tibia | D14: =if(A14 ="", "", vlookup(A14, Specimen!A:G, 6, FALSE)) -> Right | E14: FALSE | F14: FALSE | G14: FALSE | H14: FALSE | I14: FALSE | J14: FALSE | K14: TRUE | L14: TRUE | M14: FALSE | N14: FALSE | O14: FALSE | P14: FALSE
... A201: 1205 | B201: =if(A201 ="", "", vlookup(A201, Specimen!A:E, 4, FALSE)) -> Bos taurus | C201: =if(A201 ="", "", vlookup(A201, Specimen!A:F, 5, FALSE)) -> Astragalus | D201: =if(A201 ="", "", vlookup(A201, Specimen!A:G, 6, FALSE)) -> Left | E201: TRUE | F201: TRUE | G201: TRUE | H201: TRUE | I201: FALSE | J201: FALSE | K201: FALSE | L201: FALSE | M201: FALSE | N201: FALSE | O201: FALSE | P201: FALSE
B202: =if(A202 ="", "", vlookup(A202, Specimen!A:E, 4, FALSE)) | C202: =if(A202 ="", "", vlookup(A202, Specimen!A:F, 5, FALSE)) | D202: =if(A202 ="", "", vlookup(A202, Specimen!A:G, 6, FALSE)) | E202: FALSE | F202: FALSE | G202: FALSE | H202: FALSE | I202: FALSE | J202: FALSE | K202: FALSE | L202: FALSE | M202: FALSE | N202: FALSE | O202: FALSE | P202: FALSE
B203: =if(A203 ="", "", vlookup(A203, Specimen!A:E, 4, FALSE)) | C203: =if(A203 ="", "", vlookup(A203, Specimen!A:F, 5, FALSE)) | D203: =if(A203 ="", "", vlookup(A203, Specimen!A:G, 6, FALSE)) | E203: FALSE | F203: FALSE | G203: FALSE | H203: FALSE | I203: FALSE | J203: FALSE | K203: FALSE | L203: FALSE | M203: FALSE | N203: FALSE | O203: FALSE | P203: FALSE
B204: =if(A204 ="", "", vlookup(A204, Specimen!A:E, 4, FALSE)) | C204: =if(A204 ="", "", vlookup(A204, Specimen!A:F, 5, FALSE)) | D204: =if(A204 ="", "", vlookup(A204, Specimen!A:G, 6, FALSE)) | E204: FALSE | F204: FALSE | G204: FALSE | H204: FALSE | I204: FALSE | J204: FALSE | K204: FALSE | L204: FALSE | M204: FALSE | N204: FALSE | O204: FALSE | P204: FALSE
B205: =if(A205 ="", "", vlookup(A205, Specimen!A:E, 4, FALSE)) | C205: =if(A205 ="", "", vlookup(A205, Specimen!A:F, 5, FALSE)) | D205: =if(A205 ="", "", vlookup(A205, Specimen!A:G, 6, FALSE)) | E205: FALSE | F205: FALSE | G205: FALSE | H205: FALSE | I205: FALSE | J205: FALSE | K205: FALSE | L205: FALSE | M205: FALSE | N205: FALSE | O205: FALSE | P205: FALSE
B206: =if(A206 ="", "", vlookup(A206, Specimen!A:E, 4, FALSE)) | C206: =if(A206 ="", "", vlookup(A206, Specimen!A:F, 5, FALSE)) | D206: =if(A206 ="", "", vlookup(A206, Specimen!A:G, 6, FALSE)) | E206: FALSE | F206: FALSE | G206: FALSE | H206: FALSE | I206: FALSE | J206: FALSE | K206: FALSE | L206: FALSE | M206: FALSE | N206: FALSE | O206: FALSE | P206: FALSE
B207: =if(A207 ="", "", vlookup(A207, Specimen!A:E, 4, FALSE)) | C207: =if(A207 ="", "", vlookup(A207, Specimen!A:F, 5, FALSE)) | D207: =if(A207 ="", "", vlookup(A207, Specimen!A:G, 6, FALSE)) | E207: FALSE | F207: FALSE | G207: FALSE | H207: FALSE | I207: FALSE | J207: FALSE | K207: FALSE | L207: FALSE | M207: FALSE | N207: FALSE | O207: FALSE | P207: FALSE
B208: =if(A208 ="", "", vlookup(A208, Specimen!A:E, 4, FALSE)) | C208: =if(A208 ="", "", vlookup(A208, Specimen!A:F, 5, FALSE)) | D208: =if(A208 ="", "", vlookup(A208, Specimen!A:G, 6, FALSE)) | E208: FALSE | F208: FALSE | G208: FALSE | H208: FALSE | I208: FALSE | J208: FALSE | K208: FALSE | L208: FALSE | M208: FALSE | N208: FALSE | O208: FALSE | P208: FALSE
B209: =if(A209 ="", "", vlookup(A209, Specimen!A:E, 4, FALSE)) | C209: =if(A209 ="", "", vlookup(A209, Specimen!A:F, 5, FALSE)) | D209: =if(A209 ="", "", vlookup(A209, Specimen!A:G, 6, FALSE)) | E209: FALSE | F209: FALSE | G209: FALSE | H209: FALSE | I209: FALSE | J209: FALSE | K209: FALSE | L209: FALSE | M209: FALSE | N209: FALSE | O209: FALSE | P209: FALSE
B210: =if(A210 ="", "", vlookup(A210, Specimen!A:E, 4, FALSE)) | C210: =if(A210 ="", "", vlookup(A210, Specimen!A:F, 5, FALSE)) | D210: =if(A210 ="", "", vlookup(A210, Specimen!A:G, 6, FALSE)) | E210: FALSE | F210: FALSE | G210: FALSE | H210: FALSE | I210: FALSE | J210: FALSE | K210: FALSE | L210: FALSE | M210: FALSE | N210: FALSE | O210: FALSE | P210: FALSE
B211: =if(A211 ="", "", vlookup(A211, Specimen!A:E, 4, FALSE)) | C211: =if(A211 ="", "", vlookup(A211, Specimen!A:F, 5, FALSE)) | D211: =if(A211 ="", "", vlookup(A211, Specimen!A:G, 6, FALSE)) | E211: FALSE | F211: FALSE | G211: FALSE | H211: FALSE | I211: FALSE | J211: FALSE | K211: FALSE | L211: FALSE | M211: FALSE | N211: FALSE | O211: FALSE | P211: FALSE
B212: =if(A212 ="", "", vlookup(A212, Specimen!A:E, 4, FALSE)) | C212: =if(A212 ="", "", vlookup(A212, Specimen!A:F, 5, FALSE)) | D212: =if(A212 ="", "", vlookup(A212, Specimen!A:G, 6, FALSE)) | E212: FALSE | F212: FALSE | G212: FALSE | H212: FALSE | I212: FALSE | J212: FALSE | K212: FALSE | L212: FALSE | M212: FALSE | N212: FALSE | O212: FALSE | P212: FALSE
B213: =if(A213 ="", "", vlookup(A213, Specimen!A:E, 4, FALSE)) | C213: =if(A213 ="", "", vlookup(A213, Specimen!A:F, 5, FALSE)) | D213: =if(A213 ="", "", vlookup(A213, Specimen!A:G, 6, FALSE)) | E213: FALSE | F213: FALSE | G213: FALSE | H213: FALSE | I213: FALSE | J213: FALSE | K213: FALSE | L213: FALSE | M213: FALSE | N213: FALSE | O213: FALSE | P213: FALSE
... B283: =if(A283 ="", "", vlookup(A283, Specimen!A:E, 4, FALSE)) | C283: =if(A283 ="", "", vlookup(A283, Specimen!A:F, 5, FALSE)) | D283: =if(A283 ="", "", vlookup(A283, Specimen!A:G, 6, FALSE)) | E283: FALSE | F283: FALSE | G283: FALSE | H283: FALSE | I283: FALSE | J283: FALSE | K283: FALSE | L283: FALSE | M283: FALSE | N283: FALSE | O283: FALSE | P283: FALSE
B284: =if(A284 ="", "", vlookup(A284, #REF!, 4, FALSE)) | C284: =if(A284 ="", "", vlookup(A284, Specimen!A:F, 5, FALSE)) | D284: =if(A284 ="", "", vlookup(A284, Specimen!A:G, 6, FALSE)) | E284: FALSE | F284: FALSE | G284: FALSE | H284: FALSE | I284: FALSE | J284: FALSE | K284: FALSE | L284: FALSE | M284: FALSE | N284: FALSE | O284: FALSE | P284: FALSE
B285: =if(A285 ="", "", vlookup(A285, #REF!, 4, FALSE)) | C285: =if(A285 ="", "", vlookup(A285, Specimen!A:F, 5, FALSE)) | D285: =if(A285 ="", "", vlookup(A285, Specimen!A:G, 6, FALSE)) | E285: FALSE | F285: FALSE | G285: FALSE | H285: FALSE | I285: FALSE | J285: FALSE | K285: FALSE | L285: FALSE | M285: FALSE | N285: FALSE | O285: FALSE | P285: FALSE
B286: =if(A286 ="", "", vlookup(A286, #REF!, 4, FALSE)) | C286: =if(A286 ="", "", vlookup(A286, Specimen!A:F, 5, FALSE)) | D286: =if(A286 ="", "", vlookup(A286, Specimen!A:G, 6, FALSE)) | E286: FALSE | F286: FALSE | G286: FALSE | H286: FALSE | I286: FALSE | J286: FALSE | K286: FALSE | L286: FALSE | M286: FALSE | N286: FALSE | O286: FALSE | P286: FALSE
B287: =if(A287 ="", "", vlookup(A287, #REF!, 4, FALSE)) | C287: =if(A287 ="", "", vlookup(A287, Specimen!A:F, 5, FALSE)) | D287: =if(A287 ="", "", vlookup(A287, Specimen!A:G, 6, FALSE)) | E287: FALSE | F287: FALSE | G287: FALSE | H287: FALSE | I287: FALSE | J287: FALSE | K287: FALSE | L287: FALSE | M287: FALSE | N287: FALSE | O287: FALSE | P287: FALSE
B288: =if(A288 ="", "", vlookup(A288, #REF!, 4, FALSE)) | C288: =if(A288 ="", "", vlookup(A288, Specimen!A:F, 5, FALSE)) | D288: =if(A288 ="", "", vlookup(A288, Specimen!A:G, 6, FALSE)) | E288: FALSE | F288: FALSE | G288: FALSE | H288: FALSE | I288: FALSE | J288: FALSE | K288: FALSE | L288: FALSE | M288: FALSE | N288: FALSE | O288: FALSE | P288: FALSE
B289: =if(A289 ="", "", vlookup(A289, #REF!, 4, FALSE)) | C289: =if(A289 ="", "", vlookup(A289, Specimen!A:F, 5, FALSE)) | D289: =if(A289 ="", "", vlookup(A289, Specimen!A:G, 6, FALSE)) | E289: FALSE | F289: FALSE | G289: FALSE | H289: FALSE | I289: FALSE | J289: FALSE | K289: FALSE | L289: FALSE | M289: FALSE | N289: FALSE | O289: FALSE | P289: FALSE
B290: =if(A290 ="", "", vlookup(A290, #REF!, 4, FALSE)) | C290: =if(A290 ="", "", vlookup(A290, Specimen!A:F, 5, FALSE)) | D290: =if(A290 ="", "", vlookup(A290, Specimen!A:G, 6, FALSE)) | E290: FALSE | F290: FALSE | G290: FALSE | H290: FALSE | I290: FALSE | J290: FALSE | K290: FALSE | L290: FALSE | M290: FALSE | N290: FALSE | O290: FALSE | P290: FALSE
B291: =if(A291 ="", "", vlookup(A291, #REF!, 4, FALSE)) | C291: =if(A291 ="", "", vlookup(A291, Specimen!A:F, 5, FALSE)) | D291: =if(A291 ="", "", vlookup(A291, Specimen!A:G, 6, FALSE)) | E291: FALSE | F291: FALSE | G291: FALSE | H291: FALSE | I291: FALSE | J291: FALSE | K291: FALSE | L291: FALSE | M291: FALSE | N291: FALSE | O291: FALSE | P291: FALSE
B292: =if(A292 ="", "", vlookup(A292, #REF!, 4, FALSE)) | C292: =if(A292 ="", "", vlookup(A292, Specimen!A:F, 5, FALSE)) | D292: =if(A292 ="", "", vlookup(A292, Specimen!A:G, 6, FALSE)) | E292: FALSE | F292: FALSE | G292: FALSE | H292: FALSE | I292: FALSE | J292: FALSE | K292: FALSE | L292: FALSE | M292: FALSE | N292: FALSE | O292: FALSE | P292: FALSE
B293: =if(A293 ="", "", vlookup(A293, #REF!, 4, FALSE)) | C293: =if(A293 ="", "", vlookup(A293, Specimen!A:F, 5, FALSE)) | D293: =if(A293 ="", "", vlookup(A293, Specimen!A:G, 6, FALSE)) | E293: FALSE | F293: FALSE | G293: FALSE | H293: FALSE | I293: FALSE | J293: FALSE | K293: FALSE | L293: FALSE | M293: FALSE | N293: FALSE | O293: FALSE | P293: FALSE
B294: =if(A294 ="", "", vlookup(A294, #REF!, 4, FALSE)) | C294: =if(A294 ="", "", vlookup(A294, Specimen!A:F, 5, FALSE)) | D294: =if(A294 ="", "", vlookup(A294, Specimen!A:G, 6, FALSE)) | E294: FALSE | F294: FALSE | G294: FALSE | H294: FALSE | I294: FALSE | J294: FALSE | K294: FALSE | L294: FALSE | M294: FALSE | N294: FALSE | O294: FALSE | P294: FALSE
B295: =if(A295 ="", "", vlookup(A295, #REF!, 4, FALSE)) | C295: =if(A295 ="", "", vlookup(A295, Specimen!A:F, 5, FALSE)) | D295: =if(A295 ="", "", vlookup(A295, Specimen!A:G, 6, FALSE)) | E295: FALSE | F295: FALSE | G295: FALSE | H295: FALSE | I295: FALSE | J295: FALSE | K295: FALSE | L295: FALSE | M295: FALSE | N295: FALSE | O295: FALSE | P295: FALSE
... B999: =if(A999 ="", "", vlookup(A999, #REF!, 4, FALSE)) | C999: =if(A999 ="", "", vlookup(A999, Specimen!A:F, 5, FALSE)) | D999: =if(A999 ="", "", vlookup(A999, Specimen!A:G, 6, FALSE)) | E999: FALSE | F999: FALSE | G999: FALSE | H999: FALSE | I999: FALSE | J999: FALSE | K999: FALSE | L999: FALSE | M999: FALSE | N999: FALSE | O999: FALSE | P999: FALSE
C1000: =if(A1000 ="", "", vlookup(A1000, Specimen!A:F, 5, FALSE)) | D1000: =if(A1000 ="", "", vlookup(A1000, Specimen!A:G, 6, FALSE)) | E1000: FALSE | F1000: FALSE | G1000: FALSE | H1000: FALSE | I1000: FALSE | J1000: FALSE | K1000: FALSE | L1000: FALSE | M1000: FALSE | N1000: FALSE | O1000: FALSE | P1000: FALSE
C1001: =if(A1001 ="", "", vlookup(A1001, Specimen!A:F, 5, FALSE)) | D1001: =if(A1001 ="", "", vlookup(A1001, Specimen!A:G, 6, FALSE)) | E1001: FALSE | F1001: FALSE | G1001: FALSE | H1001: FALSE | I1001: FALSE | J1001: FALSE | K1001: FALSE | L1001: FALSE | M1001: FALSE | N1001: FALSE | O1001: FALSE | P1001: FALSE
C1002: =if(A1002 ="", "", vlookup(A1002, Specimen!A:F, 5, FALSE)) | D1002: =if(A1002 ="", "", vlookup(A1002, Specimen!A:G, 6, FALSE)) | E1002: FALSE | F1002: FALSE | G1002: FALSE | H1002: FALSE | I1002: FALSE | J1002: FALSE | K1002: FALSE | L1002: FALSE | M1002: FALSE | N1002: FALSE | O1002: FALSE | P1002: FALSE
C1003: =if(A1003 ="", "", vlookup(A1003, Specimen!A:F, 5, FALSE)) | D1003: =if(A1003 ="", "", vlookup(A1003, Specimen!A:G, 6, FALSE)) | E1003: FALSE | F1003: FALSE | G1003: FALSE | H1003: FALSE | I1003: FALSE | J1003: FALSE | K1003: FALSE | L1003: FALSE | M1003: FALSE | N1003: FALSE | O1003: FALSE | P1003: FALSE
C1004: =if(A1004 ="", "", vlookup(A1004, Specimen!A:F, 5, FALSE)) | D1004: =if(A1004 ="", "", vlookup(A1004, Specimen!A:G, 6, FALSE)) | E1004: FALSE | F1004: FALSE | G1004: FALSE | H1004: FALSE | I1004: FALSE | J1004: FALSE | K1004: FALSE | L1004: FALSE | M1004: FALSE | N1004: FALSE | O1004: FALSE | P1004: FALSE
C1005: =if(A1005 ="", "", vlookup(A1005, Specimen!A:F, 5, FALSE)) | D1005: =if(A1005 ="", "", vlookup(A1005, Specimen!A:G, 6, FALSE)) | E1005: FALSE | F1005: FALSE | G1005: FALSE | H1005: FALSE | I1005: FALSE | J1005: FALSE | K1005: FALSE | L1005: FALSE | M1005: FALSE | N1005: FALSE | O1005: FALSE | P1005: FALSE
C1006: =if(A1006 ="", "", vlookup(A1006, Specimen!A:F, 5, FALSE)) | D1006: =if(A1006 ="", "", vlookup(A1006, Specimen!A:G, 6, FALSE)) | E1006: FALSE | F1006: FALSE | G1006: FALSE | H1006: FALSE | I1006: FALSE | J1006: FALSE | K1006: FALSE | L1006: FALSE | M1006: FALSE | N1006: FALSE | O1006: FALSE | P1006: FALSE
C1007: =if(A1007 ="", "", vlookup(A1007, Specimen!A:F, 5, FALSE)) | D1007: =if(A1007 ="", "", vlookup(A1007, Specimen!A:G, 6, FALSE)) | E1007: FALSE | F1007: FALSE | G1007: FALSE | H1007: FALSE | I1007: FALSE | J1007: FALSE | K1007: FALSE | L1007: FALSE | M1007: FALSE | N1007: FALSE | O1007: FALSE | P1007: FALSE
C1008: =if(A1008 ="", "", vlookup(A1008, Specimen!A:F, 5, FALSE)) | D1008: =if(A1008 ="", "", vlookup(A1008, Specimen!A:G, 6, FALSE)) | E1008: FALSE | F1008: FALSE | G1008: FALSE | H1008: FALSE | I1008: FALSE | J1008: FALSE | K1008: FALSE | L1008: FALSE | M1008: FALSE | N1008: FALSE | O1008: FALSE | P1008: FALSE
C1009: =if(A1009 ="", "", vlookup(A1009, Specimen!A:F, 5, FALSE)) | D1009: =if(A1009 ="", "", vlookup(A1009, Specimen!A:G, 6, FALSE)) | E1009: FALSE | F1009: FALSE | G1009: FALSE | H1009: FALSE | I1009: FALSE | J1009: FALSE | K1009: FALSE | L1009: FALSE | M1009: FALSE | N1009: FALSE | O1009: FALSE | P1009: FALSE
C1010: =if(A1010 ="", "", vlookup(A1010, Specimen!A:F, 5, FALSE)) | D1010: =if(A1010 ="", "", vlookup(A1010, Specimen!A:G, 6, FALSE)) | E1010: FALSE | F1010: FALSE | G1010: FALSE | H1010: FALSE | I1010: FALSE | J1010: FALSE | K1010: FALSE | L1010: FALSE | M1010: FALSE | N1010: FALSE | O1010: FALSE | P1010: FALSE
C1011: =if(A1011 ="", "", vlookup(A1011, Specimen!A:F, 5, FALSE)) | D1011: =if(A1011 ="", "", vlookup(A1011, Specimen!A:G, 6, FALSE)) | E1011: FALSE | F1011: FALSE | G1011: FALSE | H1011: FALSE | I1011: FALSE | J1011: FALSE | K1011: FALSE | L1011: FALSE | M1011: FALSE | N1011: FALSE | O1011: FALSE | P1011: FALSE
... C1180: =if(A1180 ="", "", vlookup(A1180, Specimen!A:F, 5, FALSE)) | D1180: =if(A1180 ="", "", vlookup(A1180, Specimen!A:G, 6, FALSE)) | E1180: FALSE | F1180: FALSE | G1180: FALSE | H1180: FALSE | I1180: FALSE | J1180: FALSE | K1180: FALSE | L1180: FALSE | M1180: FALSE | N1180: FALSE | O1180: FALSE | P1180: FALSE

Sheet Teeth
B1: TAXON | C1: (auto) | D1: basic tooth status | R1: teeth with Grant stages | W1: where position not known
A2: BONE_ID | B2: =if(A2 ="", "", vlookup(A2, Specimen!A:E, 4, FALSE)) -> TAXON | C2: ELEMENT | D2: dI1 | E2: dI2 | F2: dI3 | G2: dC | H2: I1 | I2: I2 | J2: I3 | K2: C | L2: dP1 | M2: dP2 | N2: dP3 | O2: P1 | P2: P2 | Q2: P3 | R2: dP4 | S2: P4 | T2: M1 | U2: M2 | V2: M3 | W2: LOOSE_CLASS | X2: TEETH_COMMENTS | Y2: GRANT TOTAL | Z2: AGE
A3: 12 | B3: =if(A3 ="", "", vlookup(A3, Specimen!A:E, 4, FALSE)) -> Ovis/Capra | C3: =if(A3 ="", "", vlookup(A3, Specimen!A:F, 5, FALSE)) -> Tooth | W3: Molar
A4: 13 | B4: =if(A4 ="", "", vlookup(A4, Specimen!A:E, 4, FALSE)) -> Ovis/Capra | C4: =if(A4 ="", "", vlookup(A4, Specimen!A:F, 5, FALSE)) -> Tooth | W4: Molar
A5: 14 | B5: =if(A5 ="", "", vlookup(A5, Specimen!A:E, 4, FALSE)) -> Ovis/Capra | C5: =if(A5 ="", "", vlookup(A5, Specimen!A:F, 5, FALSE)) -> Tooth | W5: Canine
A6: 32 | B6: =if(A6 ="", "", vlookup(A6, Specimen!A:E, 4, FALSE)) -> Bos taurus | C6: =if(A6 ="", "", vlookup(A6, Specimen!A:F, 5, FALSE)) -> Tooth | W6: Molar
A7: 33 | B7: =if(A7 ="", "", vlookup(A7, Specimen!A:E, 4, FALSE)) -> Bos taurus | C7: =if(A7 ="", "", vlookup(A7, Specimen!A:F, 5, FALSE)) -> Tooth | W7: Molar
A8: 34 | B8: =if(A8 ="", "", vlookup(A8, Specimen!A:E, 4, FALSE)) -> Bos taurus | C8: =if(A8 ="", "", vlookup(A8, Specimen!A:F, 5, FALSE)) -> Tooth | W8: Molar
A9: 35 | B9: =if(A9 ="", "", vlookup(A9, Specimen!A:E, 4, FALSE)) -> Bos taurus | C9: =if(A9 ="", "", vlookup(A9, Specimen!A:F, 5, FALSE)) -> Tooth | W9: Molar
A10: 90 | B10: =if(A10 ="", "", vlookup(A10, Specimen!A:E, 4, FALSE)) -> Bos taurus | C10: =if(A10 ="", "", vlookup(A10, Specimen!A:F, 5, FALSE)) -> Tooth | W10: Molar
A11: 110 | B11: =if(A11 ="", "", vlookup(A11, Specimen!A:E, 4, FALSE)) -> Ovis/Capra | C11: =if(A11 ="", "", vlookup(A11, Specimen!A:F, 5, FALSE)) -> Tooth | W11: Molar
A12: 111 | B12: =if(A12 ="", "", vlookup(A12, Specimen!A:E, 4, FALSE)) -> Indet. mammal | C12: =if(A12 ="", "", vlookup(A12, Specimen!A:F, 5, FALSE)) -> Tooth | W12: Premolar/Molar | X12: broken, just the root
A13: 114 | B13: =if(A13 ="", "", vlookup(A13, Specimen!A:E, 4, FALSE)) -> Ovis/Capra | C13: =if(A13 ="", "", vlookup(A13, Specimen!A:F, 5, FALSE)) -> Tooth | W13: Incisor
A14: 115 | B14: =if(A14 ="", "", vlookup(A14, Specimen!A:E, 4, FALSE)) -> Sus scrofa | C14: =if(A14 ="", "", vlookup(A14, Specimen!A:F, 5, FALSE)) -> Tooth | W14: Molar
A15: 116 | B15: =if(A15 ="", "", vlookup(A15, Specimen!A:E, 4, FALSE)) -> Sus scrofa | C15: =if(A15 ="", "", vlookup(A15, Specimen!A:F, 5, FALSE)) -> Tooth | W15: Premolar | X15: dp4
A16: 136 | B16: =if(A16 ="", "", vlookup(A16, Specimen!A:E, 4, FALSE)) -> Felis catus | C16: =if(A16 ="", "", vlookup(A16, Specimen!A:F, 5, FALSE)) -> Mandible | K16: 90 Present, wear indet. | Q16: 91 Alveolus only | S16: 2 Visible in crypt | T16: 2 Visible in crypt
A17: 137 | B17: =if(A17 ="", "", vlookup(A17, Specimen!A:E, 4, FALSE)) -> Felis catus | C17: =if(A17 ="", "", vlookup(A17, Specimen!A:F, 5, FALSE)) -> Mandible | K17: 91 Alveolus only | Q17: 91 Alveolus only | R17: 90 Present, wear indet. | S17: 2 Visible in crypt | T17: 2 Visible in crypt
A18: 145 | B18: =if(A18 ="", "", vlookup(A18, Specimen!A:E, 4, FALSE)) -> Bos taurus | C18: =if(A18 ="", "", vlookup(A18, Specimen!A:F, 5, FALSE)) -> Tooth | W18: Molar
A19: 146 | B19: =if(A19 ="", "", vlookup(A19, Specimen!A:E, 4, FALSE)) -> Bos taurus | C19: =if(A19 ="", "", vlookup(A19, Specimen!A:F, 5, FALSE)) -> Tooth | W19: Molar
A20: 147 | B20: =if(A20 ="", "", vlookup(A20, Specimen!A:E, 4, FALSE)) -> Bos taurus | C20: =if(A20 ="", "", vlookup(A20, Specimen!A:F, 5, FALSE)) -> Tooth | W20: Premolar
A21: 148 | B21: =if(A21 ="", "", vlookup(A21, Specimen!A:E, 4, FALSE)) -> Bos taurus | C21: =if(A21 ="", "", vlookup(A21, Specimen!A:F, 5, FALSE)) -> Tooth | W21: Premolar
A22: 149 | B22: =if(A22 ="", "", vlookup(A22, Specimen!A:E, 4, FALSE)) -> Bos taurus | C22: =if(A22 ="", "", vlookup(A22, Specimen!A:F, 5, FALSE)) -> Tooth | W22: Incisor
A23: 194 | B23: =if(A23 ="", "", vlookup(A23, Specimen!A:E, 4, FALSE)) -> Sus scrofa | C23: =if(A23 ="", "", vlookup(A23, Specimen!A:F, 5, FALSE)) -> Mandible | K23: 90 Present, wear indet.
A24: 198 | B24: =if(A24 ="", "", vlookup(A24, Specimen!A:E, 4, FALSE)) -> Sus scrofa | C24: =if(A24 ="", "", vlookup(A24, Specimen!A:F, 5, FALSE)) -> Tooth | W24: Canine
A25: 199 | B25: =if(A25 ="", "", vlookup(A25, Specimen!A:E, 4, FALSE)) -> Sus scrofa | C25: =if(A25 ="", "", vlookup(A25, Specimen!A:F, 5, FALSE)) -> Tooth | W25: Canine
A26: 200 | B26: =if(A26 ="", "", vlookup(A26, Specimen!A:E, 4, FALSE)) -> Sus scrofa | C26: =if(A26 ="", "", vlookup(A26, Specimen!A:F, 5, FALSE)) -> Tooth | W26: Incisor
A27: 201 | B27: =if(A27 ="", "", vlookup(A27, Specimen!A:E, 4, FALSE)) -> Sus scrofa | C27: =if(A27 ="", "", vlookup(A27, Specimen!A:F, 5, FALSE)) -> Tooth | W27: Incisor
A28: 202 | B28: =if(A28 ="", "", vlookup(A28, Specimen!A:E, 4, FALSE)) -> Sus scrofa | C28: =if(A28 ="", "", vlookup(A28, Specimen!A:F, 5, FALSE)) -> Tooth | W28: Incisor | X28: broken, mostly just root
A29: 203 | B29: =if(A29 ="", "", vlookup(A29, Specimen!A:E, 4, FALSE)) -> Sus scrofa | C29: =if(A29 ="", "", vlookup(A29, Specimen!A:F, 5, FALSE)) -> Tooth | W29: Premolar
A30: 204 | B30: =if(A30 ="", "", vlookup(A30, Specimen!A:E, 4, FALSE)) -> Ovis/Capra | C30: =if(A30 ="", "", vlookup(A30, Specimen!A:F, 5, FALSE)) -> Tooth | W30: Molar
A31: 205 | B31: =if(A31 ="", "", vlookup(A31, Specimen!A:E, 4, FALSE)) -> Ovis/Capra | C31: =if(A31 ="", "", vlookup(A31, Specimen!A:F, 5, FALSE)) -> Tooth | R31: 90 Present, wear indet. | W31: Premolar
A32: 206 | B32: =if(A32 ="", "", vlookup(A32, Specimen!A:E, 4, FALSE)) -> Ovis/Capra | C32: =if(A32 ="", "", vlookup(A32, Specimen!A:F, 5, FALSE)) -> Tooth | W32: Premolar
A33: 207 | B33: =if(A33 ="", "", vlookup(A33, Specimen!A:E, 4, FALSE)) -> Ovis/Capra | C33: =if(A33 ="", "", vlookup(A33, Specimen!A:F, 5, FALSE)) -> Tooth | W33: Molar
A34: 208 | B34: =if(A34 ="", "", vlookup(A34, Specimen!A:E, 4, FALSE)) -> Ovis/Capra | C34: =if(A34 ="", "", vlookup(A34, Specimen!A:F, 5, FALSE)) -> Tooth | W34: Molar
A35: 238 | B35: =if(A35 ="", "", vlookup(A35, Specimen!A:E, 4, FALSE)) -> Sus scrofa | C35: =if(A35 ="", "", vlookup(A35, Specimen!A:F, 5, FALSE)) -> Tooth | W35: Premolar/Molar | X35: broken
A36: 240 | B36: =if(A36 ="", "", vlookup(A36, Specimen!A:E, 4, FALSE)) -> Sus scrofa | C36: =if(A36 ="", "", vlookup(A36, Specimen!A:F, 5, FALSE)) -> Mandible | P36: 91 Alveolus only | Q36: 91 Alveolus only | S36: 7 Grant stage b | T36: 13 Grant stage h | U36: 8 Grant stage c | V36: 91 Alveolus only
A37: 241 | B37: =if(A37 ="", "", vlookup(A37, Specimen!A:E, 4, FALSE)) -> Sus scrofa | C37: =if(A37 ="", "", vlookup(A37, Specimen!A:F, 5, FALSE)) -> Tooth | W37: Canine
A38: 243 | B38: =if(A38 ="", "", vlookup(A38, Specimen!A:E, 4, FALSE)) -> Bos taurus | C38: =if(A38 ="", "", vlookup(A38, Specimen!A:F, 5, FALSE)) -> Tooth | W38: Molar
A39: 246 | B39: =if(A39 ="", "", vlookup(A39, Specimen!A:E, 4, FALSE)) -> Bos taurus | C39: =if(A39 ="", "", vlookup(A39, Specimen!A:F, 5, FALSE)) -> Tooth | W39: Incisor
A40: 250 | B40: =if(A40 ="", "", vlookup(A40, Specimen!A:E, 4, FALSE)) -> Sus scrofa | C40: =if(A40 ="", "", vlookup(A40, Specimen!A:F, 5, FALSE)) -> Maxilla | Q40: 90 Present, wear indet. | S40: 90 Present, wear indet. | T40: 90 Present, wear indet.
A41: 258 | B41: =if(A41 ="", "", vlookup(A41, Specimen!A:E, 4, FALSE)) -> Ovis/Capra | C41: =if(A41 ="", "", vlookup(A41, Specimen!A:F, 5, FALSE)) -> Tooth | R41: 90 Present, wear indet. | W41: Premolar
A42: 260 | B42: =if(A42 ="", "", vlookup(A42, Specimen!A:E, 4, FALSE)) -> Sus scrofa | C42: =if(A42 ="", "", vlookup(A42, Specimen!A:F, 5, FALSE)) -> Mandible | H42: 90 Present, wear indet. | I42: 91 Alveolus only | J42: 91 Alveolus only
A43: 278 | B43: =if(A43 ="", "", vlookup(A43, Specimen!A:E, 4, FALSE)) -> Sus scrofa | C43: =if(A43 ="", "", vlookup(A43, Specimen!A:F, 5, FALSE)) -> Tooth | W43: Premolar
A44: 279 | B44: =if(A44 ="", "", vlookup(A44, Specimen!A:E, 4, FALSE)) -> Sus scrofa | C44: =if(A44 ="", "", vlookup(A44, Specimen!A:F, 5, FALSE)) -> Tooth | W44: Incisor
A45: 280 | B45: =if(A45 ="", "", vlookup(A45, Specimen!A:E, 4, FALSE)) -> Sus scrofa | C45: =if(A45 ="", "", vlookup(A45, Specimen!A:F, 5, FALSE)) -> Tooth | W45: Incisor/Canine
A46: 281 | B46: =if(A46 ="", "", vlookup(A46, Specimen!A:E, 4, FALSE)) -> Sus scrofa | C46: =if(A46 ="", "", vlookup(A46, Specimen!A:F, 5, FALSE)) -> Tooth | W46: Canine
A47: 282 | B47: =if(A47 ="", "", vlookup(A47, Specimen!A:E, 4, FALSE)) -> Indet. mammal | C47: =if(A47 ="", "", vlookup(A47, Specimen!A:F, 5, FALSE)) -> Tooth | W47: Incisor
A48: 283 | B48: =if(A48 ="", "", vlookup(A48, Specimen!A:E, 4, FALSE)) -> Ovis/Capra | C48: =if(A48 ="", "", vlookup(A48, Specimen!A:F, 5, FALSE)) -> Tooth | W48: Premolar
A49: 292 | B49: =if(A49 ="", "", vlookup(A49, Specimen!A:E, 4, FALSE)) -> Sus scrofa | C49: =if(A49 ="", "", vlookup(A49, Specimen!A:F, 5, FALSE)) -> Maxilla | K49: 90 Present, wear indet.
A50: 294 | B50: =if(A50 ="", "", vlookup(A50, Specimen!A:E, 4, FALSE)) -> Bos taurus | C50: =if(A50 ="", "", vlookup(A50, Specimen!A:F, 5, FALSE)) -> Mandible | U50: 90 Present, wear indet. | V50: 90 Present, wear indet.
A51: 306 | B51: =if(A51 ="", "", vlookup(A51, Specimen!A:E, 4, FALSE)) -> Ovis/Capra | C51: =if(A51 ="", "", vlookup(A51, Specimen!A:F, 5, FALSE)) -> Tooth | W51: Molar
A52: 307 | B52: =if(A52 ="", "", vlookup(A52, Specimen!A:E, 4, FALSE)) -> Ovis/Capra | C52: =if(A52 ="", "", vlookup(A52, Specimen!A:F, 5, FALSE)) -> Tooth | X52: just a fragment
A53: 308 | B53: Sus scrofa | C53: =if(A53 ="", "", vlookup(A53, Specimen!A:F, 5, FALSE)) -> Tooth | R53: 10 Grant stage e | W53: Premolar
A54: 335 | B54: =if(A54 ="", "", vlookup(A54, Specimen!A:E, 4, FALSE)) -> Canis familiaris | C54: =if(A54 ="", "", vlookup(A54, Specimen!A:F, 5, FALSE)) -> Mandible | T54: 90 Present, wear indet. | U54: 90 Present, wear indet. | V54: 91 Alveolus only
A55: 336 | B55: =if(A55 ="", "", vlookup(A55, Specimen!A:E, 4, FALSE)) -> Canis familiaris | C55: =if(A55 ="", "", vlookup(A55, Specimen!A:F, 5, FALSE)) -> Tooth | W55: Canine | X55: broken
A56: 368 | B56: =if(A56 ="", "", vlookup(A56, Specimen!A:E, 4, FALSE)) -> Sus scrofa | C56: =if(A56 ="", "", vlookup(A56, Specimen!A:F, 5, FALSE)) -> Tooth | W56: Canine
A57: 369 | B57: =if(A57 ="", "", vlookup(A57, Specimen!A:E, 4, FALSE)) -> Sus scrofa | C57: =if(A57 ="", "", vlookup(A57, Specimen!A:F, 5, FALSE)) -> Mandible | P57: 91 Alveolus only | Q57: 90 Present, wear indet. | R57: 10 Grant stage e | T57: 7 Grant stage b
A58: 370 | B58: =if(A58 ="", "", vlookup(A58, Specimen!A:E, 4, FALSE)) -> Bos taurus | C58: =if(A58 ="", "", vlookup(A58, Specimen!A:F, 5, FALSE)) -> Tooth | R58: 90 Present, wear indet. | W58: Premolar
A59: 371 | B59: =if(A59 ="", "", vlookup(A59, Specimen!A:E, 4, FALSE)) -> Bos taurus | C59: =if(A59 ="", "", vlookup(A59, Specimen!A:F, 5, FALSE)) -> Tooth | S59: 90 Present, wear indet. | W59: Premolar
A60: 395 | B60: =if(A60 ="", "", vlookup(A60, Specimen!A:E, 4, FALSE)) -> Ovis/Capra | C60: =if(A60 ="", "", vlookup(A60, Specimen!A:F, 5, FALSE)) -> Mandible | P60: 90 Present, wear indet. | Q60: 90 Present, wear indet. | R60: 9 Grant stage d
A61: 402 | B61: =if(A61 ="", "", vlookup(A61, Specimen!A:E, 4, FALSE)) -> Sus scrofa | C61: =if(A61 ="", "", vlookup(A61, Specimen!A:F, 5, FALSE)) -> Tooth | W61: Incisor
A62: 436 | B62: =if(A62 ="", "", vlookup(A62, Specimen!A:E, 4, FALSE)) -> Bos taurus | C62: =if(A62 ="", "", vlookup(A62, Specimen!A:F, 5, FALSE)) -> Tooth | W62: Molar
A63: 454 | B63: =if(A63 ="", "", vlookup(A63, Specimen!A:E, 4, FALSE)) -> Bos taurus | C63: =if(A63 ="", "", vlookup(A63, Specimen!A:F, 5, FALSE)) -> Tooth | W63: Premolar
A64: 455 | B64: =if(A64 ="", "", vlookup(A64, Specimen!A:E, 4, FALSE)) -> Bos taurus | C64: =if(A64 ="", "", vlookup(A64, Specimen!A:F, 5, FALSE)) -> Tooth | W64: Molar
A65: 456 | B65: =if(A65 ="", "", vlookup(A65, Specimen!A:E, 4, FALSE)) -> Bos taurus | C65: =if(A65 ="", "", vlookup(A65, Specimen!A:F, 5, FALSE)) -> Tooth | X65: just a fragment
A66: 457 | B66: =if(A66 ="", "", vlookup(A66, Specimen!A:E, 4, FALSE)) -> Ovis/Capra | C66: =if(A66 ="", "", vlookup(A66, Specimen!A:F, 5, FALSE)) -> Tooth | R66: 90 Present, wear indet. | W66: Premolar
A67: 458 | B67: =if(A67 ="", "", vlookup(A67, Specimen!A:E, 4, FALSE)) -> Ovis/Capra | C67: =if(A67 ="", "", vlookup(A67, Specimen!A:F, 5, FALSE)) -> Tooth | W67: Incisor
A68: 472 | B68: =if(A68 ="", "", vlookup(A68, Specimen!A:E, 4, FALSE)) -> Ovis/Capra | C68: =if(A68 ="", "", vlookup(A68, Specimen!A:F, 5, FALSE)) -> Tooth | W68: Incisor
A69: 491 | B69: =if(A69 ="", "", vlookup(A69, Specimen!A:E, 4, FALSE)) -> Ovis/Capra | C69: =if(A69 ="", "", vlookup(A69, Specimen!A:F, 5, FALSE)) -> Tooth | W69: Incisor
A70: 492 | B70: =if(A70 ="", "", vlookup(A70, Specimen!A:E, 4, FALSE)) -> Bos taurus | C70: =if(A70 ="", "", vlookup(A70, Specimen!A:F, 5, FALSE)) -> Tooth | W70: Incisor
A71: 493 | B71: =if(A71 ="", "", vlookup(A71, Specimen!A:E, 4, FALSE)) -> Sus scrofa | C71: =if(A71 ="", "", vlookup(A71, Specimen!A:F, 5, FALSE)) -> Tooth | W71: Premolar/Molar
A72: 494 | B72: =if(A72 ="", "", vlookup(A72, Specimen!A:E, 4, FALSE)) -> Ovis/Capra | C72: =if(A72 ="", "", vlookup(A72, Specimen!A:F, 5, FALSE)) -> Tooth | W72: Premolar
A73: 495 | B73: =if(A73 ="", "", vlookup(A73, Specimen!A:E, 4, FALSE)) -> Sus scrofa | C73: =if(A73 ="", "", vlookup(A73, Specimen!A:F, 5, FALSE)) -> Tooth | W73: Canine
A74: 500 | B74: =if(A74 ="", "", vlookup(A74, Specimen!A:E, 4, FALSE)) -> Ovis/Capra | C74: =if(A74 ="", "", vlookup(A74, Specimen!A:F, 5, FALSE)) -> Tooth | W74: Molar
A75: 501 | B75: =if(A75 ="", "", vlookup(A75, Specimen!A:E, 4, FALSE)) -> Ovis/Capra | C75: =if(A75 ="", "", vlookup(A75, Specimen!A:F, 5, FALSE)) -> Tooth | W75: Molar
A76: 510 | B76: =if(A76 ="", "", vlookup(A76, Specimen!A:E, 4, FALSE)) -> Sus scrofa | C76: =if(A76 ="", "", vlookup(A76, Specimen!A:F, 5, FALSE)) -> Tooth | W76: Canine
A77: 516 | B77: =if(A77 ="", "", vlookup(A77, Specimen!A:E, 4, FALSE)) -> Ovis/Capra | C77: =if(A77 ="", "", vlookup(A77, Specimen!A:F, 5, FALSE)) -> Mandible | P77: 90 Present, wear indet.
A78: 526 | B78: =if(A78 ="", "", vlookup(A78, Specimen!A:E, 4, FALSE)) -> Equus sp. | C78: =if(A78 ="", "", vlookup(A78, Specimen!A:F, 5, FALSE)) -> Tooth | W78: Premolar
A79: 527 | B79: =if(A79 ="", "", vlookup(A79, Specimen!A:E, 4, FALSE)) -> Equus sp. | C79: =if(A79 ="", "", vlookup(A79, Specimen!A:F, 5, FALSE)) -> Tooth | W79: Molar
A80: 527 | B80: =if(A80 ="", "", vlookup(A80, Specimen!A:E, 4, FALSE)) -> Equus sp. | C80: =if(A80 ="", "", vlookup(A80, Specimen!A:F, 5, FALSE)) -> Tooth | W80: Molar
A81: 554 | B81: =if(A81 ="", "", vlookup(A81, Specimen!A:E, 4, FALSE)) -> Sus scrofa | C81: =if(A81 ="", "", vlookup(A81, Specimen!A:F, 5, FALSE)) -> Tooth
A82: 578 | B82: =if(A82 ="", "", vlookup(A82, Specimen!A:E, 4, FALSE)) -> Ovis/Capra | C82: =if(A82 ="", "", vlookup(A82, Specimen!A:F, 5, FALSE)) -> Tooth | W82: Molar
A83: 579 | B83: =if(A83 ="", "", vlookup(A83, Specimen!A:E, 4, FALSE)) -> Ovis/Capra | C83: =if(A83 ="", "", vlookup(A83, Specimen!A:F, 5, FALSE)) -> Tooth | W83: Molar
A84: 580 | B84: =if(A84 ="", "", vlookup(A84, Specimen!A:E, 4, FALSE)) -> Ovis/Capra | C84: =if(A84 ="", "", vlookup(A84, Specimen!A:F, 5, FALSE)) -> Tooth | W84: Molar
A85: 581 | B85: =if(A85 ="", "", vlookup(A85, Specimen!A:E, 4, FALSE)) -> Ovis/Capra | C85: =if(A85 ="", "", vlookup(A85, Specimen!A:F, 5, FALSE)) -> Tooth | W85: Premolar
A86: 582 | B86: =if(A86 ="", "", vlookup(A86, Specimen!A:E, 4, FALSE)) -> Ovis/Capra | C86: =if(A86 ="", "", vlookup(A86, Specimen!A:F, 5, FALSE)) -> Tooth | W86: Incisor
A87: 593 | B87: =if(A87 ="", "", vlookup(A87, Specimen!A:E, 4, FALSE)) -> Bos taurus | C87: =if(A87 ="", "", vlookup(A87, Specimen!A:F, 5, FALSE)) -> Tooth | W87: Molar
A88: 594 | B88: =if(A88 ="", "", vlookup(A88, Specimen!A:E, 4, FALSE)) -> Bos taurus | C88: =if(A88 ="", "", vlookup(A88, Specimen!A:F, 5, FALSE)) -> Tooth | W88: Premolar
A89: 595 | B89: =if(A89 ="", "", vlookup(A89, Specimen!A:E, 4, FALSE)) -> Bos taurus | C89: =if(A89 ="", "", vlookup(A89, Specimen!A:F, 5, FALSE)) -> Tooth | W89: Premolar
A90: 596 | B90: =if(A90 ="", "", vlookup(A90, Specimen!A:E, 4, FALSE)) -> Ovis/Capra | C90: =if(A90 ="", "", vlookup(A90, Specimen!A:F, 5, FALSE)) -> Tooth | W90: Molar
A91: 632 | B91: =if(A91 ="", "", vlookup(A91, Specimen!A:E, 4, FALSE)) -> Canis familiaris | C91: =if(A91 ="", "", vlookup(A91, Specimen!A:F, 5, FALSE)) -> Tooth | W91: Molar
A92: 633 | B92: =if(A92 ="", "", vlookup(A92, Specimen!A:E, 4, FALSE)) -> Ovis/Capra | C92: =if(A92 ="", "", vlookup(A92, Specimen!A:F, 5, FALSE)) -> Tooth | W92: Molar
A93: 634 | B93: =if(A93 ="", "", vlookup(A93, Specimen!A:E, 4, FALSE)) -> Ovis/Capra | C93: =if(A93 ="", "", vlookup(A93, Specimen!A:F, 5, FALSE)) -> Tooth | W93: Premolar
A94: 635 | B94: =if(A94 ="", "", vlookup(A94, Specimen!A:E, 4, FALSE)) -> Ovis/Capra | C94: =if(A94 ="", "", vlookup(A94, Specimen!A:F, 5, FALSE)) -> Tooth | W94: Premolar
A95: 637 | B95: =if(A95 ="", "", vlookup(A95, Specimen!A:E, 4, FALSE)) -> Ovis/Capra | C95: =if(A95 ="", "", vlookup(A95, Specimen!A:F, 5, FALSE)) -> Mandible | P95: 90 Present, wear indet. | Q95: 90 Present, wear indet. | R95: 8 Grant stage c
A96: 639 | B96: =if(A96 ="", "", vlookup(A96, Specimen!A:E, 4, FALSE)) -> Ovis/Capra | C96: =if(A96 ="", "", vlookup(A96, Specimen!A:F, 5, FALSE)) -> Tooth | R96: 90 Present, wear indet. | W96: Premolar
A97: 670 | B97: =if(A97 ="", "", vlookup(A97, Specimen!A:E, 4, FALSE)) -> Bos taurus | C97: =if(A97 ="", "", vlookup(A97, Specimen!A:F, 5, FALSE)) -> Tooth | W97: Premolar
A98: 684 | B98: =if(A98 ="", "", vlookup(A98, Specimen!A:E, 4, FALSE)) -> Ovis/Capra | C98: =if(A98 ="", "", vlookup(A98, Specimen!A:F, 5, FALSE)) -> Tooth | W98: Molar
A99: 730 | B99: =if(A99 ="", "", vlookup(A99, Specimen!A:E, 4, FALSE)) -> Bos taurus | C99: =if(A99 ="", "", vlookup(A99, Specimen!A:F, 5, FALSE)) -> Tooth | W99: Premolar
A100: 731 | B100: =if(A100 ="", "", vlookup(A100, Specimen!A:E, 4, FALSE)) -> Ovis/Capra | C100: =if(A100 ="", "", vlookup(A100, Specimen!A:F, 5, FALSE)) -> Tooth | W100: Molar
...

Sheet Measurement
A1: Unique ID | C1: (auto) | D1: (auto) | E1: code in source | F1: mm
A2: M_ID | B2: BONE_ID | C2: TAXON | D2: ELEMENT | E2: MEASUREMENT | F2: VALUE | G2: MODIFIER | H2: M_COMMENTS
A3: 1 | B3: 1 | C3: =if(B3 ="", "", vlookup(B3, Specimen!A:E, 4, FALSE)) -> Ovis/Capra | D3: =if(B3 ="", "", vlookup(B3, Specimen!A:F, 5, FALSE)) -> Pelvis | E3: LA | F3: 30.2
A4: 2 | B4: 11 | C4: =if(B4 ="", "", vlookup(B4, Specimen!A:E, 4, FALSE)) -> Corvus sp. | D4: =if(B4 ="", "", vlookup(B4, Specimen!A:F, 5, FALSE)) -> Tarsometatarsus | E4: GL | F4: 52.7
A5: 3 | B5: 11 | C5: =if(B5 ="", "", vlookup(B5, Specimen!A:E, 4, FALSE)) -> Corvus sp. | D5: =if(B5 ="", "", vlookup(B5, Specimen!A:F, 5, FALSE)) -> Tarsometatarsus | E5: Bp | F5: 8.8
A6: 4 | B6: 11 | C6: =if(B6 ="", "", vlookup(B6, Specimen!A:E, 4, FALSE)) -> Corvus sp. | D6: =if(B6 ="", "", vlookup(B6, Specimen!A:F, 5, FALSE)) -> Tarsometatarsus | E6: SC | F6: 3.3
A7: 5 | B7: 50 | C7: =if(B7 ="", "", vlookup(B7, Specimen!A:E, 4, FALSE)) -> Anser anser | D7: =if(B7 ="", "", vlookup(B7, Specimen!A:F, 5, FALSE)) -> Humerus | E7: Bp | F7: 33.1
A8: 6 | B8: 53 | C8: =if(B8 ="", "", vlookup(B8, Specimen!A:E, 4, FALSE)) -> Ovis/Capra | D8: =if(B8 ="", "", vlookup(B8, Specimen!A:F, 5, FALSE)) -> Ulna | E8: BPC | F8: 14.9
A9: 7 | B9: 53 | C9: =if(B9 ="", "", vlookup(B9, Specimen!A:E, 4, FALSE)) -> Ovis/Capra | D9: =if(B9 ="", "", vlookup(B9, Specimen!A:F, 5, FALSE)) -> Ulna | E9: DPA | F9: 24.7
A10: 8 | B10: 53 | C10: =if(B10 ="", "", vlookup(B10, Specimen!A:E, 4, FALSE)) -> Ovis/Capra | D10: =if(B10 ="", "", vlookup(B10, Specimen!A:F, 5, FALSE)) -> Ulna | E10: SDO | F10: 21
A11: 9 | B11: 53 | C11: =if(B11 ="", "", vlookup(B11, Specimen!A:E, 4, FALSE)) -> Ovis/Capra | D11: =if(B11 ="", "", vlookup(B11, Specimen!A:F, 5, FALSE)) -> Ulna | E11: LO | F11: 34.1
A12: 10 | B12: 60 | C12: =if(B12 ="", "", vlookup(B12, Specimen!A:E, 4, FALSE)) -> Bos taurus | D12: =if(B12 ="", "", vlookup(B12, Specimen!A:F, 5, FALSE)) -> Pelvis | E12: LA | F12: 70.9
A13: 11 | B13: 81 | C13: =if(B13 ="", "", vlookup(B13, Specimen!A:E, 4, FALSE)) -> Bos taurus | D13: =if(B13 ="", "", vlookup(B13, Specimen!A:F, 5, FALSE)) -> Dist. phalanx | E13: Ld | F13: 47.6
A14: 12 | B14: 81 | C14: =if(B14 ="", "", vlookup(B14, Specimen!A:E, 4, FALSE)) -> Bos taurus | D14: =if(B14 ="", "", vlookup(B14, Specimen!A:F, 5, FALSE)) -> Dist. phalanx | E14: MBS | F14: 19.6
... A181: 179 | B181: 1205 | C181: =if(B181 ="", "", vlookup(B181, Specimen!A:E, 4, FALSE)) -> Bos taurus | D181: =if(B181 ="", "", vlookup(B181, Specimen!A:F, 5, FALSE)) -> Astragalus | E181: Bd | F181: 35.7
C182: =if(B182 ="", "", vlookup(B182, Specimen!A:E, 4, FALSE)) | D182: =if(B182 ="", "", vlookup(B182, Specimen!A:F, 5, FALSE))
C183: =if(B183 ="", "", vlookup(B183, Specimen!A:E, 4, FALSE)) | D183: =if(B183 ="", "", vlookup(B183, Specimen!A:F, 5, FALSE))
C184: =if(B184 ="", "", vlookup(B184, Specimen!A:E, 4, FALSE)) | D184: =if(B184 ="", "", vlookup(B184, Specimen!A:F, 5, FALSE))
C185: =if(B185 ="", "", vlookup(B185, Specimen!A:E, 4, FALSE)) | D185: =if(B185 ="", "", vlookup(B185, Specimen!A:F, 5, FALSE))
C186: =if(B186 ="", "", vlookup(B186, Specimen!A:E, 4, FALSE)) | D186: =if(B186 ="", "", vlookup(B186, Specimen!A:F, 5, FALSE))
C187: =if(B187 ="", "", vlookup(B187, Specimen!A:E, 4, FALSE)) | D187: =if(B187 ="", "", vlookup(B187, Specimen!A:F, 5, FALSE))
C188: =if(B188 ="", "", vlookup(B188, Specimen!A:E, 4, FALSE)) | D188: =if(B188 ="", "", vlookup(B188, Specimen!A:F, 5, FALSE))
C189: =if(B189 ="", "", vlookup(B189, Specimen!A:E, 4, FALSE)) | D189: =if(B189 ="", "", vlookup(B189, Specimen!A:F, 5, FALSE))
C190: =if(B190 ="", "", vlookup(B190, Specimen!A:E, 4, FALSE)) | D190: =if(B190 ="", "", vlookup(B190, Specimen!A:F, 5, FALSE))
C191: =if(B191 ="", "", vlookup(B191, Specimen!A:E, 4, FALSE)) | D191: =if(B191 ="", "", vlookup(B191, Specimen!A:F, 5, FALSE))
C192: =if(B192 ="", "", vlookup(B192, Specimen!A:E, 4, FALSE)) | D192: =if(B192 ="", "", vlookup(B192, Specimen!A:F, 5, FALSE))
C193: =if(B193 ="", "", vlookup(B193, Specimen!A:E, 4, FALSE)) | D193: =if(B193 ="", "", vlookup(B193, Specimen!A:F, 5, FALSE))
... C1001: =if(B1001 ="", "", vlookup(B1001, Specimen!A:E, 4, FALSE)) | D1001: =if(B1001 ="", "", vlookup(B1001, Specimen!A:F, 5, FALSE))

Sheet Butchery
A1: unique ID | C1: (auto) | D1: (auto) | E1: broad category | F1: number, position, orientation, size, depth....
A2: BUTCHERY_ID | B2: BONE_ID | C2: TAXON | D2: ELEMENT | E2: TYPE | F2: DESCRIPTION
A3: 1 | B3: 1 | C3: =if(B3 ="", "", vlookup(B3, Specimen!A:E, 4, FALSE)) -> Ovis/Capra | D3: =if(B3 ="", "", vlookup(B3, Specimen!A:F, 5, FALSE)) -> Pelvis | E3: Saw | F3: Sawing marks, sawn through ilium
A4: 2 | B4: 9 | C4: =if(B4 ="", "", vlookup(B4, Specimen!A:E, 4, FALSE)) -> Large mammal | D4: =if(B4 ="", "", vlookup(B4, Specimen!A:F, 5, FALSE)) -> Rib | E4: Saw | F4: Sawing marks, through one end of rib
A5: 3 | B5: 19 | C5: =if(B5 ="", "", vlookup(B5, Specimen!A:E, 4, FALSE)) -> Ovis/Capra | D5: =if(B5 ="", "", vlookup(B5, Specimen!A:F, 5, FALSE)) -> Tibia | E5: Saw | F5: Sawing marks, sawn through shaft, Zone 9
A6: 4 | B6: 63 | C6: =if(B6 ="", "", vlookup(B6, Specimen!A:E, 4, FALSE)) -> Large mammal | D6: =if(B6 ="", "", vlookup(B6, Specimen!A:F, 5, FALSE)) -> Long bone | E6: Chop | F6: Chop has caused the bone to break in a spiral, chopped in middle of shaft
A7: 5 | B7: 100 | C7: =if(B7 ="", "", vlookup(B7, Specimen!A:E, 4, FALSE)) -> Ovis/Capra | D7: =if(B7 ="", "", vlookup(B7, Specimen!A:F, 5, FALSE)) -> Tibia | E7: Chop | F7: Chop caused bone to break, Zone 8
A8: 6 | B8: 159 | C8: =if(B8 ="", "", vlookup(B8, Specimen!A:E, 4, FALSE)) -> Cervus elaphus | D8: =if(B8 ="", "", vlookup(B8, Specimen!A:F, 5, FALSE)) -> Antler | E8: Chop | F8: Chopped around in a traditional way then snapped in half
A9: 7 | B9: 284 | C9: =if(B9 ="", "", vlookup(B9, Specimen!A:E, 4, FALSE)) -> Sus scrofa | D9: =if(B9 ="", "", vlookup(B9, Specimen!A:F, 5, FALSE)) -> Humerus | E9: Cut | F9: Multiple cut on trochlea of humerus
A10: 8 | B10: 339 | C10: =if(B10 ="", "", vlookup(B10, Specimen!A:E, 4, FALSE)) -> Bos taurus | D10: =if(B10 ="", "", vlookup(B10, Specimen!A:F, 5, FALSE)) -> Rib | E10: Saw | F10: Sawing marks, through one end of rib
A11: 9 | B11: 340 | C11: =if(B11 ="", "", vlookup(B11, Specimen!A:E, 4, FALSE)) -> Bos taurus | D11: =if(B11 ="", "", vlookup(B11, Specimen!A:F, 5, FALSE)) -> Femur | E11: Cut | F11: Multiple cut marks on head of femur
A12: 10 | B12: 568 | C12: =if(B12 ="", "", vlookup(B12, Specimen!A:E, 4, FALSE)) -> Anser anser | D12: =if(B12 ="", "", vlookup(B12, Specimen!A:F, 5, FALSE)) -> Tarsometatarsus | E12: Chop | F12: Chopped off proximal end of bone
A13: 11 | B13: 654 | C13: =if(B13 ="", "", vlookup(B13, Specimen!A:E, 4, FALSE)) -> Bos taurus | D13: =if(B13 ="", "", vlookup(B13, Specimen!A:F, 5, FALSE)) -> Ulna | E13: Saw | F13: Distal end of ulna sawn through
A14: 12 | B14: 672 | C14: =if(B14 ="", "", vlookup(B14, Specimen!A:E, 4, FALSE)) -> Bos taurus | D14: =if(B14 ="", "", vlookup(B14, Specimen!A:F, 5, FALSE)) -> Radius | E14: Saw | F14: Sawn through shaft of radius, Zone 5
... A43: 41 | B43: 1211 | C43: =if(B43 ="", "", vlookup(B43, Specimen!A:E, 4, FALSE)) -> Indet. mammal | D43: =if(B43 ="", "", vlookup(B43, Specimen!A:F, 5, FALSE)) -> Indet. | E43: Scrape | F43: Bone artefact, worked bone. Evidence of steps and scraping. May be a needle, unsure, pointed end with a larger "head"
C44: =if(B44 ="", "", vlookup(B44, Specimen!A:E, 4, FALSE)) | D44: =if(B44 ="", "", vlookup(B44, Specimen!A:F, 5, FALSE))
C45: =if(B45 ="", "", vlookup(B45, Specimen!A:E, 4, FALSE)) | D45: =if(B45 ="", "", vlookup(B45, Specimen!A:F, 5, FALSE))
C46: =if(B46 ="", "", vlookup(B46, Specimen!A:E, 4, FALSE)) | D46: =if(B46 ="", "", vlookup(B46, Specimen!A:F, 5, FALSE))
C47: =if(B47 ="", "", vlookup(B47, Specimen!A:E, 4, FALSE)) | D47: =if(B47 ="", "", vlookup(B47, Specimen!A:F, 5, FALSE))
C48: =if(B48 ="", "", vlookup(B48, Specimen!A:E, 4, FALSE)) | D48: =if(B48 ="", "", vlookup(B48, Specimen!A:F, 5, FALSE))
C49: =if(B49 ="", "", vlookup(B49, Specimen!A:E, 4, FALSE)) | D49: =if(B49 ="", "", vlookup(B49, Specimen!A:F, 5, FALSE))
C50: =if(B50 ="", "", vlookup(B50, Specimen!A:E, 4, FALSE)) | D50: =if(B50 ="", "", vlookup(B50, Specimen!A:F, 5, FALSE))
C51: =if(B51 ="", "", vlookup(B51, Specimen!A:E, 4, FALSE)) | D51: =if(B51 ="", "", vlookup(B51, Specimen!A:F, 5, FALSE))
C52: =if(B52 ="", "", vlookup(B52, Specimen!A:E, 4, FALSE)) | D52: =if(B52 ="", "", vlookup(B52, Specimen!A:F, 5, FALSE))
C53: =if(B53 ="", "", vlookup(B53, Specimen!A:E, 4, FALSE)) | D53: =if(B53 ="", "", vlookup(B53, Specimen!A:F, 5, FALSE))
C54: =if(B54 ="", "", vlookup(B54, Specimen!A:E, 4, FALSE)) | D54: =if(B54 ="", "", vlookup(B54, Specimen!A:F, 5, FALSE))
C55: =if(B55 ="", "", vlookup(B55, Specimen!A:E, 4, FALSE)) | D55: =if(B55 ="", "", vlookup(B55, Specimen!A:F, 5, FALSE))
... C1001: =if(B1001 ="", "", vlookup(B1001, Specimen!A:E, 4, FALSE)) | D1001: =if(B1001 ="", "", vlookup(B1001, Specimen!A:F, 5, FALSE))

Sheet Pivot NISP & DZ

Sheet Pivot metrics
C1: MIN of VALUE | D1: MEASUREMENT
A2: TAXON | B2: ELEMENT | C2: BONE_ID | E2: Bb | F2: Bd | G2: BF | H2: BFp | I2: Bp | J2: BPC | K2: BT | L2: DC | M2: Dic | N2: Did | O2: Dip | P2: Dl | Q2: DLS | R2: Dm | S2: DPA | T2: GB | U2: GL | V2: GLl | W2: GLm | X2: GLpe | Y2: LA | Z2: Ld | AA2: Lm | AB2: LO | AC2: MBS | AD2: SC | AE2: SD | AF2: SDO
A3: =if(C3 ="", "", vlookup(C3, Specimen!A:E, 4, FALSE)) | B3: =if(C3 ="", "", vlookup(C3, Specimen!A:F, 5, FALSE)) | D3: 0
A4: =if(C4 ="", "", vlookup(C4, Specimen!A:E, 4, FALSE)) -> Ovis/Capra | B4: =if(C4 ="", "", vlookup(C4, Specimen!A:F, 5, FALSE)) -> Pelvis | C4: 1 | Y4: 30.2
A5: =if(C5 ="", "", vlookup(C5, Specimen!A:E, 4, FALSE)) -> Corvus sp. | B5: =if(C5 ="", "", vlookup(C5, Specimen!A:F, 5, FALSE)) -> Tarsometatarsus | C5: 11 | I5: 8.8 | U5: 52.7 | AD5: 3.3
A6: =if(C6 ="", "", vlookup(C6, Specimen!A:E, 4, FALSE)) -> Anser anser | B6: =if(C6 ="", "", vlookup(C6, Specimen!A:F, 5, FALSE)) -> Humerus | C6: 50 | I6: 33.1
A7: =if(C7 ="", "", vlookup(C7, Specimen!A:E, 4, FALSE)) -> Ovis/Capra | B7: =if(C7 ="", "", vlookup(C7, Specimen!A:F, 5, FALSE)) -> Ulna | C7: 53 | J7: 14.9 | S7: 24.7 | AB7: 34.1 | AF7: 21
A8: =if(C8 ="", "", vlookup(C8, Specimen!A:E, 4, FALSE)) -> Bos taurus | B8: =if(C8 ="", "", vlookup(C8, Specimen!A:F, 5, FALSE)) -> Pelvis | C8: 60 | Y8: 70.9
A9: =if(C9 ="", "", vlookup(C9, Specimen!A:E, 4, FALSE)) -> Bos taurus | B9: =if(C9 ="", "", vlookup(C9, Specimen!A:F, 5, FALSE)) -> Dist. phalanx | C9: 81 | Q9: 59.5 | Z9: 47.6 | AC9: 19.6
A10: =if(C10 ="", "", vlookup(C10, Specimen!A:E, 4, FALSE)) -> Ovis/Capra | B10: =if(C10 ="", "", vlookup(C10, Specimen!A:F, 5, FALSE)) -> Metatarsal | C10: 142 | I10: 21.1
A11: =if(C11 ="", "", vlookup(C11, Specimen!A:E, 4, FALSE)) -> Bos taurus | B11: =if(C11 ="", "", vlookup(C11, Specimen!A:F, 5, FALSE)) -> Prox. phalanx | C11: 143 | F11: 25.7 | X11: 52.5 | AE11: 24.7
A12: =if(C12 ="", "", vlookup(C12, Specimen!A:E, 4, FALSE)) -> Gallus gallus | B12: =if(C12 ="", "", vlookup(C12, Specimen!A:F, 5, FALSE)) -> Coracoid | C12: 150 | E12: 15.7 | G12: 11.6 | U12: 56.3 | AA12: 53.4
A13: =if(C13 ="", "", vlookup(C13, Specimen!A:E, 4, FALSE)) -> Gallus gallus | B13: =if(C13 ="", "", vlookup(C13, Specimen!A:F, 5, FALSE)) -> Coracoid | C13: 151 | E13: 14.4 | G13: 11.7 | U13: 53.1 | AA13: 51
A14: =if(C14 ="", "", vlookup(C14, Specimen!A:E, 4, FALSE)) -> Phasianus sp. | B14: =if(C14 ="", "", vlookup(C14, Specimen!A:F, 5, FALSE)) -> Coracoid | C14: 152 | E14: 12.3 | G14: 11.2 | U14: 52.8 | AA14: 50.1
A15: =if(C15 ="", "", vlookup(C15, Specimen!A:E, 4, FALSE)) -> Anas platyrhyncos | B15: =if(C15 ="", "", vlookup(C15, Specimen!A:F, 5, FALSE)) -> Coracoid | C15: 153 | E15: 19.1 | G15: 16.3 | U15: 46.9 | AA15: 42.6
A16: =if(C16 ="", "", vlookup(C16, Specimen!A:E, 4, FALSE)) -> Gallus gallus | B16: =if(C16 ="", "", vlookup(C16, Specimen!A:F, 5, FALSE)) -> Ulna | C16: 154 | I16: 8.7 | N16: 9.5 | O16: 11.3 | U16: 66.1 | AD16: 4.3
A17: =if(C17 ="", "", vlookup(C17, Specimen!A:E, 4, FALSE)) -> Gallus gallus | B17: =if(C17 ="", "", vlookup(C17, Specimen!A:F, 5, FALSE)) -> Carpometacarpal | C17: 155 | I17: 10.5 | N17: 6.6 | U17: 33
A18: =if(C18 ="", "", vlookup(C18, Specimen!A:E, 4, FALSE)) -> Gallus gallus | B18: =if(C18 ="", "", vlookup(C18, Specimen!A:F, 5, FALSE)) -> Scapula | C18: 157 | M18: 12.5 | U18: 72.7
A19: =if(C19 ="", "", vlookup(C19, Specimen!A:E, 4, FALSE)) -> Bos taurus | B19: =if(C19 ="", "", vlookup(C19, Specimen!A:F, 5, FALSE)) -> Int. phalanx | C19: 160 | F19: 20.7 | I19: 25.7 | U19: 33.9 | AE19: 20.5
A20: =if(C20 ="", "", vlookup(C20, Specimen!A:E, 4, FALSE)) -> Sus scrofa | B20: =if(C20 ="", "", vlookup(C20, Specimen!A:F, 5, FALSE)) -> Humerus | C20: 284 | F20: 35 | K20: 30.2
A21: =if(C21 ="", "", vlookup(C21, Specimen!A:E, 4, FALSE)) -> Ovis aries | B21: =if(C21 ="", "", vlookup(C21, Specimen!A:F, 5, FALSE)) -> Tibia | C21: 321 | F21: 25.7 | AE21: 14.9
A22: =if(C22 ="", "", vlookup(C22, Specimen!A:E, 4, FALSE)) -> Gallus gallus | B22: =if(C22 ="", "", vlookup(C22, Specimen!A:F, 5, FALSE)) -> Ulna | C22: 413 | I22: 7.9 | O22: 11.2
A23: =if(C23 ="", "", vlookup(C23, Specimen!A:E, 4, FALSE)) -> Ovis/Capra | B23: =if(C23 ="", "", vlookup(C23, Specimen!A:F, 5, FALSE)) -> Humerus | C23: 415 | F23: 29.4 | K23: 23.3 | AE23: 12.4
A24: =if(C24 ="", "", vlookup(C24, Specimen!A:E, 4, FALSE)) -> Bos taurus | B24: =if(C24 ="", "", vlookup(C24, Specimen!A:F, 5, FALSE)) -> Astragalus | C24: 429 | F24: 35.6 | P24: 33.4 | R24: 36.5 | V24: 57.1 | W24: 53.3
A25: =if(C25 ="", "", vlookup(C25, Specimen!A:E, 4, FALSE)) -> Bos taurus | B25: =if(C25 ="", "", vlookup(C25, Specimen!A:F, 5, FALSE)) -> Astragalus | C25: 430 | F25: 36.4 | P25: 34 | R25: 31.1 | V25: 59 | W25: 55.3
A26: =if(C26 ="", "", vlookup(C26, Specimen!A:E, 4, FALSE)) -> Bos taurus | B26: =if(C26 ="", "", vlookup(C26, Specimen!A:F, 5, FALSE)) -> Dist. phalanx | C26: 431 | Q26: 83.6 | Z26: 61.1 | AC26: 26.2
A27: =if(C27 ="", "", vlookup(C27, Specimen!A:E, 4, FALSE)) -> Bos taurus | B27: =if(C27 ="", "", vlookup(C27, Specimen!A:F, 5, FALSE)) -> Int. phalanx | C27: 433 | F27: 29.8 | I27: 34.3 | U27: 43.5 | AE27: 27.3
A28: =if(C28 ="", "", vlookup(C28, Specimen!A:E, 4, FALSE)) -> Ovis/Capra | B28: =if(C28 ="", "", vlookup(C28, Specimen!A:F, 5, FALSE)) -> Metacarpal | C28: 450 | I28: 21.2
A29: =if(C29 ="", "", vlookup(C29, Specimen!A:E, 4, FALSE)) -> Equus sp. | B29: =if(C29 ="", "", vlookup(C29, Specimen!A:F, 5, FALSE)) -> Femur | C29: 504 | F29: 71.5
A30: =if(C30 ="", "", vlookup(C30, Specimen!A:E, 4, FALSE)) -> Bos taurus | B30: =if(C30 ="", "", vlookup(C30, Specimen!A:F, 5, FALSE)) -> Int. phalanx | C30: 506 | F30: 28.5 | I30: 33.6 | U30: 47.9 | AE30: 26.3
A31: =if(C31 ="", "", vlookup(C31, Specimen!A:E, 4, FALSE)) -> Ovis/Capra | B31: =if(C31 ="", "", vlookup(C31, Specimen!A:F, 5, FALSE)) -> Calcaneum | C31: 514 | T31: 21.8 | U31: 54.3
A32: =if(C32 ="", "", vlookup(C32, Specimen!A:E, 4, FALSE)) -> Bos taurus | B32: =if(C32 ="", "", vlookup(C32, Specimen!A:F, 5, FALSE)) -> Prox. phalanx | C32: 529 | F32: 27 | I32: 26 | X32: 53.4 | AE32: 22.6
A33: =if(C33 ="", "", vlookup(C33, Specimen!A:E, 4, FALSE)) -> Ovis/Capra | B33: =if(C33 ="", "", vlookup(C33, Specimen!A:F, 5, FALSE)) -> Astragalus | C33: 530 | F33: 19.4 | P33: 16.1 | V33: 28.7 | W33: 26.4
A34: =if(C34 ="", "", vlookup(C34, Specimen!A:E, 4, FALSE)) -> Ovis aries | B34: =if(C34 ="", "", vlookup(C34, Specimen!A:F, 5, FALSE)) -> Astragalus | C34: 603 | F34: 16.7 | P34: 13.7 | V34: 24.9 | W34: 23.6
A35: =if(C35 ="", "", vlookup(C35, Specimen!A:E, 4, FALSE)) -> Bos taurus | B35: =if(C35 ="", "", vlookup(C35, Specimen!A:F, 5, FALSE)) -> Horn core | C35: 613 | Y35: 65.2
A36: =if(C36 ="", "", vlookup(C36, Specimen!A:E, 4, FALSE)) -> Bos taurus | B36: =if(C36 ="", "", vlookup(C36, Specimen!A:F, 5, FALSE)) -> Prox. phalanx | C36: 619 | F36: 24.9 | I36: 27 | X36: 54.1 | AE36: 17.8
A37: =if(C37 ="", "", vlookup(C37, Specimen!A:E, 4, FALSE)) -> Bos taurus | B37: =if(C37 ="", "", vlookup(C37, Specimen!A:F, 5, FALSE)) -> Int. phalanx | C37: 620 | F37: 14.9 | I37: 18.6 | U37: 29 | AE37: 13.3
A38: =if(C38 ="", "", vlookup(C38, Specimen!A:E, 4, FALSE)) -> Ovis/Capra | B38: =if(C38 ="", "", vlookup(C38, Specimen!A:F, 5, FALSE)) -> Prox. phalanx | C38: 652 | I38: 12.8
A39: =if(C39 ="", "", vlookup(C39, Specimen!A:E, 4, FALSE)) -> Ovis/Capra | B39: =if(C39 ="", "", vlookup(C39, Specimen!A:F, 5, FALSE)) -> Tibia | C39: 653 | F39: 28
A40: =if(C40 ="", "", vlookup(C40, Specimen!A:E, 4, FALSE)) -> Bos taurus | B40: =if(C40 ="", "", vlookup(C40, Specimen!A:F, 5, FALSE)) -> Radius | C40: 672 | H40: 78.5 | I40: 84.9
A41: =if(C41 ="", "", vlookup(C41, Specimen!A:E, 4, FALSE)) -> Ovis aries | B41: =if(C41 ="", "", vlookup(C41, Specimen!A:F, 5, FALSE)) -> Astragalus | C41: 679 | F41: 20.2 | P41: 16.4 | V41: 29.9 | W41: 27.9
A42: =if(C42 ="", "", vlookup(C42, Specimen!A:E, 4, FALSE)) -> Bos taurus | B42: =if(C42 ="", "", vlookup(C42, Specimen!A:F, 5, FALSE)) -> Metatarsal | C42: 706 | F42: 48.2 | I42: 48 | U42: 227.5 | AE42: 22.7
A43: =if(C43 ="", "", vlookup(C43, Specimen!A:E, 4, FALSE)) -> Bos taurus | B43: =if(C43 ="", "", vlookup(C43, Specimen!A:F, 5, FALSE)) -> Prox. phalanx | C43: 743 | F43: 30.4 | I43: 31.4 | X43: 64.3 | AE43: 27
A44: =if(C44 ="", "", vlookup(C44, Specimen!A:E, 4, FALSE)) -> Ovis/Capra | B44: =if(C44 ="", "", vlookup(C44, Specimen!A:F, 5, FALSE)) -> Femur | C44: 745 | I44: 47.4 | L44: 21.4
A45: =if(C45 ="", "", vlookup(C45, Specimen!A:E, 4, FALSE)) -> Ovis/Capra | B45: =if(C45 ="", "", vlookup(C45, Specimen!A:F, 5, FALSE)) -> Femur | C45: 746 | F45: 35.3
A46: =if(C46 ="", "", vlookup(C46, Specimen!A:E, 4, FALSE)) -> Ovis/Capra | B46: =if(C46 ="", "", vlookup(C46, Specimen!A:F, 5, FALSE)) -> Humerus | C46: 752 | F46: 34.3
A47: =if(C47 ="", "", vlookup(C47, Specimen!A:E, 4, FALSE)) -> Ovis aries | B47: =if(C47 ="", "", vlookup(C47, Specimen!A:F, 5, FALSE)) -> Humerus | C47: 790 | F47: 30.6
A48: =if(C48 ="", "", vlookup(C48, Specimen!A:E, 4, FALSE)) -> Ovis aries | B48: =if(C48 ="", "", vlookup(C48, Specimen!A:F, 5, FALSE)) -> Humerus | C48: 794 | F48: 30.2
A49: =if(C49 ="", "", vlookup(C49, Specimen!A:E, 4, FALSE)) -> Bos taurus | B49: =if(C49 ="", "", vlookup(C49, Specimen!A:F, 5, FALSE)) -> Prox. phalanx | C49: 802 | F49: 26.6 | I49: 28.6 | X49: 58.8 | AE49: 25.6
A50: =if(C50 ="", "", vlookup(C50, Specimen!A:E, 4, FALSE)) -> Bos taurus | B50: =if(C50 ="", "", vlookup(C50, Specimen!A:F, 5, FALSE)) -> Prox. phalanx | C50: 823 | F50: 26.1 | I50: 27.9 | X50: 58.4 | AE50: 24.3
A51: =if(C51 ="", "", vlookup(C51, Specimen!A:E, 4, FALSE)) -> Ovis aries | B51: =if(C51 ="", "", vlookup(C51, Specimen!A:F, 5, FALSE)) -> Calcaneum | C51: 840 | T51: 25.9 | U51: 54.7
A52: =if(C52 ="", "", vlookup(C52, Specimen!A:E, 4, FALSE)) -> Ovis/Capra | B52: =if(C52 ="", "", vlookup(C52, Specimen!A:F, 5, FALSE)) -> Prox. phalanx | C52: 877 | F52: 16.5 | I52: 17.3 | X52: 44.4 | AE52: 14.8
A53: =if(C53 ="", "", vlookup(C53, Specimen!A:E, 4, FALSE)) -> Bos taurus | B53: =if(C53 ="", "", vlookup(C53, Specimen!A:F, 5, FALSE)) -> Int. phalanx | C53: 878 | F53: 29 | I53: 34.7 | U53: 40.7 | AE53: 25
A54: =if(C54 ="", "", vlookup(C54, Specimen!A:E, 4, FALSE)) -> Bos taurus | B54: =if(C54 ="", "", vlookup(C54, Specimen!A:F, 5, FALSE)) -> Astragalus | C54: 895 | P54: 35.4 | R54: 34.6 | V54: 62.5 | W54: 57.2
A55: =if(C55 ="", "", vlookup(C55, Specimen!A:E, 4, FALSE)) -> Bos taurus | B55: =if(C55 ="", "", vlookup(C55, Specimen!A:F, 5, FALSE)) -> Prox. phalanx | C55: 896 | F55: 26 | I55: 30.6 | X55: 61.1 | AE55: 21.8
A56: =if(C56 ="", "", vlookup(C56, Specimen!A:E, 4, FALSE)) -> Bos taurus | B56: =if(C56 ="", "", vlookup(C56, Specimen!A:F, 5, FALSE)) -> Int. phalanx | C56: 897 | F56: 26.2 | I56: 28.9 | U56: 33.1 | AE56: 22.2
A57: =if(C57 ="", "", vlookup(C57, Specimen!A:E, 4, FALSE)) -> Bos taurus | B57: =if(C57 ="", "", vlookup(C57, Specimen!A:F, 5, FALSE)) -> Astragalus | C57: 916 | F57: 38.9 | P57: 33.7 | R57: 34.7 | V57: 58.5 | W57: 53.8
A58: =if(C58 ="", "", vlookup(C58, Specimen!A:E, 4, FALSE)) -> Bos taurus | B58: =if(C58 ="", "", vlookup(C58, Specimen!A:F, 5, FALSE)) -> Prox. phalanx | C58: 947 | F58: 25.1 | I58: 27.4 | X58: 60.2 | AE58: 24
A59: =if(C59 ="", "", vlookup(C59, Specimen!A:E, 4, FALSE)) -> Ovis/Capra | B59: =if(C59 ="", "", vlookup(C59, Specimen!A:F, 5, FALSE)) -> Femur | C59: 970 | L59: 18.7
A60: =if(C60 ="", "", vlookup(C60, Specimen!A:E, 4, FALSE)) -> Ovis aries | B60: =if(C60 ="", "", vlookup(C60, Specimen!A:F, 5, FALSE)) -> Astragalus | C60: 1051 | F60: 18.1 | P60: 16.6 | V60: 28.2 | W60: 27.5
A61: =if(C61 ="", "", vlookup(C61, Specimen!A:E, 4, FALSE)) -> Bos taurus | B61: =if(C61 ="", "", vlookup(C61, Specimen!A:F, 5, FALSE)) -> Astragalus | C61: 1079 | F61: 44.2 | P61: 35.3 | R61: 33.3 | V61: 61 | W61: 55.7
A62: =if(C62 ="", "", vlookup(C62, Specimen!A:E, 4, FALSE)) -> Bos taurus | B62: =if(C62 ="", "", vlookup(C62, Specimen!A:F, 5, FALSE)) -> Astragalus | C62: 1205 | F62: 35.7 | P62: 32.7 | R62: 26.6 | V62: 57.5 | W62: 52.1
A63: =if(C63 ="", "", vlookup(C63, Specimen!A:E, 4, FALSE)) | B63: =if(C63 ="", "", vlookup(C63, Specimen!A:F, 5, FALSE))
A64: =if(C64 ="", "", vlookup(C64, Specimen!A:E, 4, FALSE)) | B64: =if(C64 ="", "", vlookup(C64, Specimen!A:F, 5, FALSE))
A65: =if(C65 ="", "", vlookup(C65, Specimen!A:E, 4, FALSE)) | B65: =if(C65 ="", "", vlookup(C65, Specimen!A:F, 5, FALSE))
A66: =if(C66 ="", "", vlookup(C66, Specimen!A:E, 4, FALSE)) | B66: =if(C66 ="", "", vlookup(C66, Specimen!A:F, 5, FALSE))
A67: =if(C67 ="", "", vlookup(C67, Specimen!A:E, 4, FALSE)) | B67: =if(C67 ="", "", vlookup(C67, Specimen!A:F, 5, FALSE))
A68: =if(C68 ="", "", vlookup(C68, Specimen!A:E, 4, FALSE)) | B68: =if(C68 ="", "", vlookup(C68, Specimen!A:F, 5, FALSE))
A69: =if(C69 ="", "", vlookup(C69, Specimen!A:E, 4, FALSE)) | B69: =if(C69 ="", "", vlookup(C69, Specimen!A:F, 5, FALSE))
A70: =if(C70 ="", "", vlookup(C70, Specimen!A:E, 4, FALSE)) | B70: =if(C70 ="", "", vlookup(C70, Specimen!A:F, 5, FALSE))
A71: =if(C71 ="", "", vlookup(C71, Specimen!A:E, 4, FALSE)) | B71: =if(C71 ="", "", vlookup(C71, Specimen!A:F, 5, FALSE))
A72: =if(C72 ="", "", vlookup(C72, Specimen!A:E, 4, FALSE)) | B72: =if(C72 ="", "", vlookup(C72, Specimen!A:F, 5, FALSE))
A73: =if(C73 ="", "", vlookup(C73, Specimen!A:E, 4, FALSE)) | B73: =if(C73 ="", "", vlookup(C73, Specimen!A:F, 5, FALSE))
A74: =if(C74 ="", "", vlookup(C74, Specimen!A:E, 4, FALSE)) | B74: =if(C74 ="", "", vlookup(C74, Specimen!A:F, 5, FALSE))
... A1000: =if(C1000 ="", "", vlookup(C1000, Specimen!A:E, 4, FALSE)) | B1000: =if(C1000 ="", "", vlookup(C1000, Specimen!A:F, 5, FALSE))

Sheet CODES
A1: Unit | C1: ADD ADDITIONAL CODES BY ENTERING THEM INTO THE RELEVANT GREY BOXES
A2: BURNING_PC | B2: 0-5% | C2: 6-10% | D2: 11-25% | E2: 26-50% | F2: 51-75% | G2: 76-100%
A3: GNAWING_PC | B3: 0-5% | C3: 6-10% | D3: 11-25% | E3: 26-50% | F3: 51-75% | G3: 76-100%
A4: FRAGMENTATION | B4: Very light | C4: Light | D4: Normal | E4: Severe | F4: Very severe
A5: HOMOGENEITY | B5: V. homogeneous | C5: Homogeneous | D5: Normal | E5: Mixed | F5: V. mixed
A7: Specimen
A8: SIDE | B8: Left | C8: Right | D8: Central | E8: Both | F8: LL/RM | G8: LM/RL | H8: Indet.
A9: AGE | B9: Adult | C9: Young
A10: SEX | B10: Male | C10: Female | D10: Probably male | E10: Probably female
A11: PORTION | B11: Prox | C11: Dist | D11: Both | E11: Shaft cylinder | F11: Shaft splinter | G11: Complete | H11: Near-complete | I11: Fragment | J11: Centrum | K11: Dorsal process | L11: Transverse process | M11: Zygapophysis | N11: Acetabulum | O11: Ischium | P11: Ilium | Q11: Pubis
A13: FUSION | B13: Fused | C13: Fusing | D13: Unfused shaft | E13: Unfused end | F13: Unfused both
A14: SURFACE | B14: Very good | C14: Good | D14: Average | E14: Poor | F14: Very poor
A15: BURNING | B15: Burnt | C15: Carbonized | D15: Calcined | E15: See comment
A16: GNAWING | B16: Carnivore - light | C16: Carnivore - heavy | D16: Rodent | E16: Prob. carnivore | F16: Prob. rodent
A17: DIGESTION | B17: Digested | C17: Prob. digested
A18: ARTIC_TYPE | B18: Articulated | C18: Prob. articulated | D18: Paired | E18: Prob. paired | F18: Fused
A20: Teeth
A21: [main teeth] | B21: 0 Unformed | C21: 1 Perforation in crypt | D21: 2 Visible in crypt | E21: 3 Erupting | F21: 4 Half erupted | G21: 5 Almost erupted | H21: 6 Grant stage a | I21: 7 Grant stage b | J21: 8 Grant stage c | K21: 9 Grant stage d | L21: 10 Grant stage e | M21: 11 Grant stage f | N21: 12 Grant stage g | O21: 13 Grant stage h | P21: 14 Grant stage j | Q21: 15 Grant stage k | R21: 16 Grant stage l | S21: 17 Grant stage m | T21: 18 Grant stage n | U21: 19 Grant stage o | V21: 20 Grant stage p
A22: [all teeth] | B22: 30 Not in wear | C22: 40 In wear | D22: 50 Light wear | E22: 60 Moderate wear | F22: 70 Heavy wear | G22: 80 Very heavy wear | H22: 90 Present, wear indet. | I22: 91 Alveolus only | J22: 92 Lost pre-mortem | K22: 95 Congenitally absent | L22: 99 No data
A23: LOOSE_CLASS | B23: Incisor | C23: Canine | D23: Premolar | E23: Molar | F23: Incisor/Canine | G23: Premolar/Molar
A25: Measurement
A26: SOURCE | B26: vdD | C26: Davis 1996
A27: MODIFIER | B27: Normal | C27: Unfused / young | D27: Burnt | E27: Eroded | F27: Pathological | G27: See comment
A29: Butchery
A30: TYPE | B30: Cut | C30: Chop | D30: Saw | E30: Scrape | F30: Impact

Sheet TAXA
A2: TAXON | B2: Common_name | C2: Level | D2: Status | E2: Size_class | F2: QGroup | G2: ID | H2: Lumped_1 | I2: Lumped_2 | J2: Group | K2: Family | L2: Genus | M2: Species
A3: Ovis aries | B3: Sheep | C3: Species | D3: Domestic | E3: 3 | F3: 1 | G3: TRUE | H3: Sheep / goat | I3: Sheep / goat | J3: Mammal
A4: Capra hircus | B4: Goat | C4: Species | D4: Domestic | E4: 3 | F4: 1 | G4: TRUE | H4: Sheep / goat | I4: Sheep / goat | J4: Mammal
A5: Ovis/Capra | B5: Sheep / goat | C5: Informal | D5: Domestic | E5: 3 | F5: 1 | G5: TRUE | H5: Sheep / goat | I5: Sheep / goat | J5: Mammal
A6: Bos taurus | B6: Cattle | C6: Species | D6: Domestic | E6: 5 | F6: 1 | G6: TRUE | H6: Cattle | I6: Cattle | J6: Mammal
A7: Bos primigenius | B7: Aurochs | C7: Species | D7: Wild | E7: 6 | F7: 1 | G7: TRUE | H7: Aurochs | I7: Cattle | J7: Mammal
A8: Bos sp. | B8: Cattle / aurochs | C8: Genus | D8: Uncertain | E8: 5 | F8: 1 | G8: TRUE | H8: Cattle / aurochs | I8: Cattle | J8: Mammal
A9: Sus scrofa | B9: Pig | C9: Species | D9: Uncertain | E9: 4 | F9: 2 | G9: TRUE | H9: Pig | I9: Pig | J9: Mammal
A10: Sus scrofa (dom.) | B10: Domestic pig | C10: Species | D10: Domestic | E10: 4 | F10: 2 | G10: TRUE | H10: Domestic pig | I10: Pig | J10: Mammal
A11: Sus scrofa (wild) | B11: Wild pig | C11: Species | D11: Wild | E11: 4 | F11: 2 | G11: TRUE | H11: Wild pig | I11: Pig | J11: Mammal
A12: Canis familiaris | B12: Dog | C12: Species | D12: Domestic | E12: 3 | F12: 4 | G12: TRUE | H12: Dog | I12: Dog / wolf | J12: Mammal
A13: Canis lupus | B13: Wolf | C13: Species | D13: Wild | E13: 3 | F13: 4 | G13: TRUE | H13: Wolf | I13: Dog / wolf | J13: Mammal
A14: Canis sp. | B14: Dog / wolf | C14: Genus | D14: Uncertain | E14: 3 | F14: 4 | G14: TRUE | H14: Dog / wolf | I14: Dog / wolf | J14: Mammal
... A56: Small carnivore | B56: Small carnivore | C56: Order | D56: Uncertain | E56: 2 | F56: 4 | G56: FALSE | H56: Small carnivore | I56: Small carnivore | J56: Mammal
A57: Phoca vitulina | B57: Harbour seal | C57: Species | D57: Wild | E57: 4 | G57: TRUE | H57: Harbour seal | I57: Seal | J57: Mammal
A58: Halichoerus grypus | B58: Grey seal | C58: Species | D58: Wild | E58: 4 | G58: TRUE | H58: Grey seal | I58: Seal | J58: Mammal
A59: Phocidae | B59: Seal | C59: Family | D59: Wild | E59: 4 | G59: TRUE | H59: Seal | I59: Seal | J59: Mammal
A60: Small cetacean | B60: Small cetacean | C60: Order | D60: Wild | E60: 6 | G60: FALSE | H60: Small cetacean | I60: Cetacean | J60: Mammal
A61: Large cetacean | B61: Large cetacean | C61: Order | D61: Wild | E61: 6 | G61: FALSE | H61: Large cetacean | I61: Cetacean | J61: Mammal
A62: Rattus rattus | B62: Black rat | C62: Species | D62: Wild | E62: 1 | F62: 4 | G62: TRUE | H62: Rat | I62: Rat | J62: Mammal
A63: Rattus norvegicus | B63: Brown rat | C63: Species | D63: Wild | E63: 1 | F63: 4 | G63: TRUE | H63: Rat | I63: Rat | J63: Mammal
A64: Rattus sp. | B64: Rat | C64: Genus | D64: Wild | E64: 1 | F64: 4 | G64: TRUE | H64: Rat | I64: Rat | J64: Mammal
A65: Cricetus cricetus | B65: Hamster | C65: Species | D65: Wild | E65: 1 | F65: 4 | G65: TRUE | H65: Hamster | I65: Hamster | J65: Mammal
A66: Mus musculus | B66: House mouse | C66: Species | D66: Wild | E66: 1 | F66: 4 | G66: TRUE | H66: Mouse | I66: Mouse | J66: Mammal
A67: Mus sp. | B67: Mus sp. | C67: Genus | D67: Wild | E67: 1 | F67: 4 | G67: TRUE | H67: Mouse | I67: Mouse | J67: Mammal
A68: Apodemus sylvaticus | B68: Wood mouse | C68: Species | D68: Wild | E68: 1 | F68: 4 | G68: TRUE | H68: Mouse | I68: Mouse | J68: Mammal
A69: Apodemus flavicollis | B69: Yellow-necked mouse | C69: Species | D69: Wild | E69: 1 | F69: 4 | G69: TRUE | H69: Mouse | I69: Mouse | J69: Mammal
A70: Apodemus sp. | B70: Wood mouse | C70: Genus | D70: Wild | E70: 1 | F70: 4 | G70: TRUE | H70: Mouse | I70: Mouse | J70: Mammal
A71: Mus/Apodemus | B71: Mouse | C71: Informal | D71: Wild | E71: 1 | F71: 4 | G71: TRUE | H71: Mouse | I71: Mouse | J71: Mammal
A72: Micromys minutus | B72: Harvest mouse | C72: Species | D72: Wild | E72: 1 | F72: 4 | G72: TRUE | H72: Mouse | I72: Mouse | J72: Mammal
A73: Muridae | B73: Murid | C73: Family | D73: Wild | E73: 1 | F73: 4 | G73: TRUE | H73: Murid | I73: Rodent | J73: Mammal
A74: Rodentia | B74: Rodent | C74: Order | D74: Wild | F74: 4 | G74: FALSE | H74: Rodent | I74: Rodent | J74: Mammal
A75: Arvicola amphibius | B75: Water vole | C75: Species | D75: Wild | E75: 1 | F75: 4 | G75: TRUE | H75: Water vole | I75: Vole | J75: Mammal
A76: Microtus arvalis | B76: Common vole | C76: Species | D76: Wild | E76: 1 | F76: 4 | G76: TRUE | H76: Common vole | I76: Vole | J76: Mammal
A77: Microtus arvalis orcadensis | B77: Orkney vole | C77: Subspecies | D77: Wild | E77: 1 | F77: 4 | G77: TRUE | H77: Orkney vole | I77: Vole | J77: Mammal
A78: Microtus agrestis | B78: Field vole | C78: Species | D78: Wild | E78: 1 | F78: 4 | G78: TRUE | H78: Field vole | I78: Vole | J78: Mammal
A79: Microtus sp. | B79: Vole | C79: Genus | D79: Wild | E79: 1 | F79: 4 | G79: TRUE | H79: Vole | I79: Vole | J79: Mammal
A80: Myodes glareolus | B80: Bank vole | C80: Species | D80: Wild | E80: 1 | F80: 4 | G80: TRUE | H80: Bank vole | I80: Vole | J80: Mammal
A81: Testudo sp. | B81: Tortoise | C81: Genus | D81: Wild | E81: 2 | G81: TRUE | H81: Tortoise | I81: Testudines | J81: Reptile
A82: Emys orbicularis | B82: Pond turtle | C82: Species | D82: Wild | E82: 2 | G82: TRUE | H82: Pond turtle | I82: Testudines | J82: Reptile
A83: Bufo bufo | B83: Common toad | C83: Species | D83: Wild | E83: 1 | G83: TRUE | H83: Common toad | I83: Anuran | J83: Amphibian
A84: Rana temporaria | B84: Common frog | C84: Species | D84: Wild | E84: 1 | G84: TRUE | H84: Common frog | I84: Anuran | J84: Amphibian
A85: Rana sp. | B85: Frog | C85: Genus | D85: Wild | E85: 1 | G85: TRUE | H85: Frog | I85: Anuran | J85: Amphibian
A86: Anura | B86: Frog / toad | C86: Order | D86: Wild | E86: 1 | G86: TRUE | H86: Frog / toad | I86: Anuran | J86: Amphibian
A87: Large mammal | B87: Large mammal | C87: Size class | D87: Uncertain | E87: 5 | G87: FALSE | H87: Cattle-sized | I87: Cattle-sized | J87: Mammal
A88: Pig-sized | B88: Pig-sized | C88: Size class | D88: Uncertain | E88: 4 | G88: FALSE | H88: Pig-sized | I88: Pig-sized | J88: Mammal
A89: Medium mammal | B89: Medium mammal | C89: Size class | D89: Uncertain | E89: 3 | G89: FALSE | H89: Sheep-sized | I89: Sheep-sized | J89: Mammal
A90: Small mammal | B90: Small mammal | C90: Size class | D90: Uncertain | E90: 2 | G90: FALSE | H90: Hare-sized | I90: Hare-sized | J90: Mammal
A91: Micromammal | B91: Micromammal | C91: Size class | D91: Wild | E91: 1 | G91: FALSE | H91: Micromammal | I91: Micromammal | J91: Mammal
A92: Indet. mammal | B92: Indet. mammal | C92: Class | D92: Uncertain | G92: FALSE | H92: Indet. mammal | I92: Indet. mammal | J92: Mammal
A93: Bos/Cervus | B93: Cattle / red deer | C93: Informal | D93: Uncertain | E93: 5 | F93: 1 | G93: FALSE | H93: Cattle / red deer | I93: Cattle / red deer | J93: Mammal
A94: Ovis/Capra/Capreolus | B94: Sheep / goat / roe deer | C94: Informal | D94: Uncertain | E94: 3 | F94: 1 | G94: FALSE | H94: Sheep / goat / roe deer | I94: Sheep / goat / roe deer | J94: Mammal
A95: Large bird | G95: FALSE | H95: Large bird | J95: Bird
A96: Medium bird | G96: FALSE | H96: Medium bird | J96: Bird
A97: Small bird | G97: FALSE | H97: Small bird | J97: Bird
A98: Gallus gallus | G98: TRUE | H98: Gallus gallus | J98: Bird
A99: Phasianus colchicus | G99: TRUE | H99: Phasianus colchicus | J99: Bird
A100: Phasianus sp. | G100: TRUE | H100: Phasianus sp. | J100: Bird
A101: Lagopus lagopus | G101: TRUE | H101: Lagopus lagopus | J101: Bird
A102: Alectoris rufa | G102: TRUE | H102: Alectoris rufa | J102: Bird
A103: Perdix perdix | G103: TRUE | H103: Perdix perdix | J103: Bird
A104: Phasanidae | G104: TRUE | H104: Phasanidae | J104: Bird
A105: Anser anser | G105: TRUE | H105: Anser anser | J105: Bird
A106: Branta canadensis | G106: TRUE | H106: Branta canadensis | J106: Bird
... A142: Columbidae | G142: TRUE | H142: Columbidae | J142: Bird
A143: Gadus morhua | B143: Atlantic cod | D143: Wild | G143: FALSE | H143: Gadus morhua | J143: Fish
A144: Merlangius merlangus | B144: Whiting | D144: Wild | G144: FALSE | H144: Merlangius merlangus | J144: Fish
A145: Pollachius pollachius | B145: Pollock | D145: Wild | G145: FALSE | H145: Pollachius pollachius | J145: Fish
A146: Pollachius virens | B146: Saithe | D146: Wild | G146: FALSE | H146: Pollachius virens | J146: Fish
A147: Pollachius sp. | B147: Saithe / pollock | D147: Wild | G147: FALSE | H147: Pollachius sp. | J147: Fish
A148: Melanogrammus aeglefinus | B148: Haddock | D148: Wild | G148: FALSE | H148: Melanogrammus aeglefinus | J148: Fish
A149: Gadidae | B149: Gadid | D149: Wild | G149: FALSE | H149: Gadidae | J149: Fish
A150: Lota lota | B150: Burbot | D150: Wild | G150: FALSE | H150: Lota lota | J150: Fish
A151: Molva molva | B151: Ling | D151: Wild | G151: FALSE | H151: Molva molva | J151: Fish
A152: Merluccius merluccius | B152: Hake | D152: Wild | G152: FALSE | H152: Merluccius merluccius | J152: Fish
A153: Gadiformes | B153: Gadiform | D153: Wild | G153: FALSE | H153: Gadiformes | J153: Fish
A154: Sander lucioperca | B154: Pike-perch | D154: Wild | G154: FALSE | H154: Sander lucioperca | J154: Fish
A155: Perca fluviatis | B155: Perch | D155: Wild | G155: FALSE | H155: Perca fluviatis | J155: Fish
A156: Scomber scombrus | D156: Wild | G156: FALSE | H156: Scomber scombrus | J156: Fish
A157: Scomber colias | D157: Wild | G157: FALSE | H157: Scomber colias | J157: Fish
A158: Thunnus thynnus | D158: Wild | G158: FALSE | H158: Thunnus thynnus | J158: Fish
A159: Scombridae | B159: Mackerel / tuna | D159: Wild | G159: FALSE | H159: Scombridae | J159: Fish
A160: Clupea harengus | B160: Atlantic herring | D160: Wild | G160: FALSE | H160: Clupea harengus | J160: Fish
A161: Sprattus sprattus | B161: Sprat | D161: Wild | G161: FALSE | H161: Sprattus sprattus | J161: Fish
A162: Alosa alosa | D162: Wild | G162: FALSE | H162: Alosa alosa | J162: Fish
A163: Alosa fallax | D163: Wild | G163: FALSE | H163: Alosa fallax | J163: Fish
A164: Clupeidae | B164: Clupeid | D164: Wild | G164: FALSE | H164: Clupeidae | J164: Fish
A165: Platichthys flesus | B165: Flounder | D165: Wild | G165: FALSE | H165: Platichthys flesus | J165: Fish
A166: Pleuronectes platessa | B166: Plaice | D166: Wild | G166: FALSE | H166: Pleuronectes platessa | J166: Fish
A167: Hippoglossus hippoglossus | B167: Halibut | D167: Wild | G167: FALSE | H167: Hippoglossus hippoglossus | J167: Fish
A168: Pleuronectidae | B168: Pleuronectid | D168: Wild | G168: FALSE | H168: Pleuronectidae | J168: Fish
A169: Scopthalmus maximus | D169: Wild | G169: FALSE | H169: Scopthalmus maximus | J169: Fish
A170: Salmo salar | D170: Wild | G170: FALSE | H170: Salmo salar | J170: Fish
A171: Salmo trutta | D171: Wild | G171: FALSE | H171: Salmo trutta | J171: Fish
A172: Salmo sp. | D172: Wild | G172: FALSE | H172: Salmo sp. | J172: Fish
A173: Hucho hucho | D173: Wild | G173: FALSE | H173: Hucho hucho | J173: Fish
A174: Salmonidae | D174: Wild | G174: FALSE | H174: Salmonidae | J174: Fish
A175: Esox lucius | D175: Wild | G175: FALSE | H175: Esox lucius | J175: Fish
A176: Sander lucioperca | D176: Wild | G176: FALSE | H176: Sander lucioperca | J176: Fish
A177: Perca fluviatis | D177: Wild | G177: FALSE | H177: Perca fluviatis | J177: Fish
...

Sheet ELEMENT
C1: Number for correcting NISP (nb. based on lumped element) | D1: Bovids & Cervids | E1: Pigs | F1: Equids | G1: Canids | H1: Birds | I1: Fish | J1: Only where we want it included in counts | L1: Fusion groups (refs): | M1: Zeder 2006 | N1: Ritz and Wing 1994 | P1: Ritz and Wing 1994
A2: ELEMENT | B2: Cranial | C2: LumpedElement | D2: n1 | E2: n2 | F2: n3 | G2: n4 | H2: n5 | I2: n6 | J2: REGION | K2: Q_Zone | L2: proxOvis | M2: distOvis | N2: proxBos | O2: distBos | P2: proxSus | Q2: distSus
A3: Antler | B3: TRUE | C3: Antler | D3: 2 | J3: Antler / horn core
A4: Horn core | B4: TRUE | C4: Horn core | D4: 2 | J4: Antler / horn core
A5: Skull | B5: TRUE | C5: Skull | D5: 1 | E5: 1 | F5: 1 | G5: 1 | J5: Head | K5: 2
A6: Upper tooth | B6: TRUE | C6: Tooth | D6: 32 | E6: 42 | F6: 40 | G6: 42 | J6: Head
A7: Lower tooth | B7: TRUE | C7: Tooth | D7: 32 | E7: 42 | F7: 40 | G7: 42 | J7: Head
A8: Tooth | B8: TRUE | C8: Tooth | J8: Head
A9: Mandible | B9: TRUE | C9: Mandible | D9: 2 | E9: 2 | F9: 2 | G9: 2 | J9: Head | K9: 2
A10: Hyoid | B10: FALSE | C10: Hyoid | D10: 2 | E10: 2 | F10: 2 | G10: 2 | J10: Head
A11: Atlas | B11: FALSE | C11: Atlas | D11: 1 | E11: 1 | F11: 1 | G11: 1 | J11: Neck | K11: 1
A12: Axis | B12: FALSE | C12: Axis | D12: 1 | E12: 1 | F12: 1 | G12: 1 | J12: Neck | K12: 1
A13: Cervical vert. | B13: FALSE | C13: Cervical vert. | D13: 5 | E13: 5 | F13: 5 | G13: 5 | J13: Neck
A14: Thoracic vert. | B14: FALSE | C14: Vertebrae | D14: 19 | E14: 22 | F14: 24 | G14: 20 | J14: Axial
A15: Lumbar vert. | B15: FALSE | C15: Vertebrae | D15: 19 | E15: 22 | F15: 24 | G15: 20 | J15: Axial
A16: Sacrum | B16: FALSE | C16: Sacrum | D16: 1 | E16: 1 | F16: 1 | G16: 1 | J16: Axial | K16: 1
A17: Caudal vert. | B17: FALSE | C17: Vertebrae | J17: Axial
A18: Vert. | B18: FALSE | C18: Vertebrae | D18: 19 | E18: 22 | F18: 24 | G18: 20 | J18: Axial
A19: Rib | B19: FALSE | C19: Rib | D19: 26 | E19: 32 | J19: Axial
A20: Costal cartilage | B20: FALSE | C20: Costal cartilage | J20: Axial
A21: Long bone | B21: FALSE | C21: Long bone
A22: Sternum | B22: FALSE | C22: Sternum | D22: 1 | E22: 1 | F22: 1 | G22: 1 | J22: Axial
A23: Scapula | B23: FALSE | C23: Scapula | D23: 2 | E23: 2 | F23: 2 | G23: 2 | J23: Upper forelimb | K23: 2 | M23: B | O23: Early | Q23: Early
A24: Clavicle | B24: FALSE | C24: Clavicle
A25: Humerus | B25: FALSE | C25: Humerus | D25: 2 | E25: 2 | F25: 2 | G25: 2 | J25: Upper forelimb | K25: 2 | L25: F | M25: B | N25: Late | O25: Early | P25: Late | Q25: Early
A26: Radius | B26: FALSE | C26: Radius | D26: 2 | E26: 2 | F26: 2 | G26: 2 | J26: Lower forelimb | K26: 2 | L26: A | M26: E | N26: Early | O26: Late | P26: Early | Q26: Late
A27: Ulna | B27: FALSE | C27: Ulna | D27: 2 | E27: 2 | F27: 2 | G27: 2 | J27: Lower forelimb | K27: 2 | L27: E | N27: Late | O27: Late | P27: Late | Q27: Late
A28: Pelvis | B28: FALSE | C28: Pelvis | D28: 2 | E28: 2 | F28: 2 | G28: 2 | J28: Axial | K28: 2 | L28: B | N28: Early | P28: Early
A29: Femur | B29: FALSE | C29: Femur | D29: 2 | E29: 2 | F29: 2 | G29: 2 | J29: Upper hindlimb | K29: 2 | L29: E | M29: E | N29: Late | O29: Late | P29: Late | Q29: Late
A30: Patella | B30: FALSE | C30: Patella | D30: 2 | E30: 2 | F30: 2 | G30: 2 | J30: Upper hindlimb
A31: Tibia | B31: FALSE | C31: Tibia | D31: 2 | E31: 2 | F31: 2 | G31: 2 | J31: Lower hindlimb | K31: 2 | L31: E | M31: D | N31: Late | O31: Middle | P31: Late | Q31: Middle
A32: Fibula | B32: FALSE | C32: Fibula | E32: 2 | F32: 2 | G32: 2 | J32: Lower hindlimb | K32: 2
A33: Indet. | B33: FALSE | C33: Indet.
A34: Prox. phalanx | B34: FALSE | C34: Prox. phalanx | D34: 8 | E34: 8 | F34: 4 | G34: 18 | J34: Feet | K34: 8 | L34: C | N34: Early | P34: Early
A35: Int. phalanx | B35: FALSE | C35: Int. phalanx | D35: 8 | E35: 8 | F35: 4 | G35: 18 | J35: Feet | K35: 8 | L35: C | N35: Early | P35: Early
A36: Dist. phalanx | B36: FALSE | C36: Dist. phalanx | D36: 8 | E36: 8 | F36: 4 | G36: 18 | J36: Feet | K36: 8
A37: Anterior prox. phal. | B37: FALSE | C37: Prox. phalanx | D37: 8 | E37: 8 | F37: 4 | G37: 18 | J37: Feet | K37: 8 | L37: C
A38: Anterior int. phal | B38: FALSE | C38: Int. phalanx | D38: 8 | E38: 8 | F38: 4 | G38: 18 | J38: Feet | K38: 8 | L38: C
A39: Anterior dist. phal. | B39: FALSE | C39: Dist. phalanx | D39: 8 | E39: 8 | F39: 4 | G39: 18 | J39: Feet | K39: 8
A40: Posterior prox. phal. | B40: FALSE | C40: Prox. phalanx | D40: 8 | E40: 8 | F40: 4 | G40: 18 | J40: Feet | K40: 8 | L40: C
A41: Posterior int. phal. | B41: FALSE | C41: Int. phalanx | D41: 8 | E41: 8 | F41: 4 | G41: 18 | J41: Feet | K41: 8 | L41: C
A42: Posterior dist. phal. | B42: FALSE | C42: Dist. phalanx | D42: 8 | E42: 8 | F42: 4 | G42: 18 | J42: Feet | K42: 8
A43: Phalanx | B43: FALSE | C43: Phalanx | J43: Feet
A44: Prox. sesamoid | B44: FALSE | C44: Sesamoid | J44: Feet
A45: Dist. sesamoid | B45: FALSE | C45: Sesamoid | J45: Feet
A46: Accessory prox. phal. | B46: FALSE | C46: Phalanx | J46: Feet
A47: Accessory int. phal | B47: FALSE | C47: Phalanx | J47: Feet
A48: Accessory dist. phal. | B48: FALSE | C48: Phalanx | J48: Feet
A49: Metacarpal | B49: FALSE | C49: Metacarpal | D49: 2 | E49: 8 | F49: 2 | G49: 10 | J49: Lower forelimb | K49: 2 | M49: D | O49: Middle | Q49: Middle
A50: Metacarpal 1 | B50: FALSE | C50: Metacarpal | D50: 2 | E50: 8 | F50: 2 | G50: 10 | J50: Lower forelimb | K50: 2
A51: Metacarpal 2 | B51: FALSE | C51: Metacarpal | D51: 2 | E51: 8 | F51: 2 | G51: 10 | J51: Lower forelimb | K51: 2
A52: Metacarpal 3 | B52: FALSE | C52: Metacarpal | D52: 2 | E52: 8 | F52: 2 | G52: 10 | J52: Lower forelimb | K52: 2
A53: Metacarpal 4 | B53: FALSE | C53: Metacarpal | D53: 2 | E53: 8 | F53: 2 | G53: 10 | J53: Lower forelimb | K53: 2
A54: Metacarpal 5 | B54: FALSE | C54: Metacarpal | D54: 2 | E54: 8 | F54: 2 | G54: 10 | J54: Lower forelimb | K54: 2
A55: Accessory MC | B55: FALSE | C55: Metacarpal | D55: 2 | E55: 8 | F55: 2 | G55: 10 | J55: Lower forelimb
A56: Metapodial | B56: FALSE | C56: Metapodial | M56: D
A57: Accessory MP | B57: FALSE | C57: Metapodial
A58: Metatarsal | B58: FALSE | C58: Metatarsal | D58: 2 | E58: 8 | F58: 2 | G58: 10 | J58: Lower hindlimb | K58: 2 | M58: D | O58: Middle | Q58: Middle
A59: Metatarsal 1 | B59: FALSE | C59: Metatarsal | D59: 2 | E59: 8 | F59: 2 | G59: 10 | J59: Lower hindlimb | K59: 2
A60: Metatarsal 2 | B60: FALSE | C60: Metatarsal | D60: 2 | E60: 8 | F60: 2 | G60: 10 | J60: Lower hindlimb | K60: 2
A61: Metatarsal 3 | B61: FALSE | C61: Metatarsal | D61: 2 | E61: 8 | F61: 2 | G61: 10 | J61: Lower hindlimb | K61: 2
A62: Metatarsal 4 | B62: FALSE | C62: Metatarsal | D62: 2 | E62: 8 | F62: 2 | G62: 10 | J62: Lower hindlimb | K62: 2
A63: Metatarsal 5 | B63: FALSE | C63: Metatarsal | D63: 2 | E63: 8 | F63: 2 | G63: 10 | J63: Lower hindlimb | K63: 2
A64: Accessory MT | B64: FALSE | C64: Metatarsal | D64: 2 | E64: 8 | F64: 2 | G64: 10 | J64: Lower hindlimb
A65: Carpal | B65: FALSE | C65: Carpal | J65: Lower forelimb
A66: Radial carpal | B66: FALSE | C66: Carpal | D66: 12 | E66: 16 | F66: 14 | J66: Lower forelimb
A67: Intermediate carpal | B67: FALSE | C67: Carpal | D67: 12 | E67: 16 | F67: 14 | J67: Lower forelimb
A68: Radial+intermediate carpal | B68: FALSE | C68: Carpal | G68: 14 | J68: Lower forelimb
A69: Ulnar carpal | B69: FALSE | C69: Carpal | D69: 12 | E69: 16 | F69: 14 | G69: 14 | J69: Lower forelimb
A70: 1st carpal | B70: FALSE | C70: Carpal | E70: 16 | F70: 14 | G70: 14 | J70: Lower forelimb
A71: 2nd carpal | B71: FALSE | C71: Carpal | E71: 16 | F71: 14 | G71: 14 | J71: Lower forelimb
A72: 2nd+3rd carpal | B72: FALSE | C72: Carpal | D72: 12 | J72: Lower forelimb
A73: 3rd carpal | B73: FALSE | C73: Carpal | E73: 16 | F73: 14 | G73: 14 | J73: Lower forelimb
A74: 4th carpal | B74: FALSE | C74: Carpal | D74: 12 | E74: 16 | G74: 14 | J74: Lower forelimb
A75: Accessory carpal | B75: FALSE | C75: Carpal | D75: 12 | E75: 16 | F75: 14 | G75: 14 | J75: Lower forelimb
A76: Tarsal | B76: FALSE | C76: Tarsal | J76: Lower hindlimb
A77: Astragalus | B77: FALSE | C77: Astragalus | D77: 2 | E77: 2 | F77: 2 | G77: 2 | J77: Lower hindlimb | K77: 2
A78: Calcaneum | B78: FALSE | C78: Calcaneum | D78: 2 | E78: 2 | F78: 2 | G78: 2 | J78: Lower hindlimb | K78: 2 | L78: E | N78: Middle | P78: Middle
A79: Central+4th tarsal | B79: FALSE | C79: Tarsal | D79: 4 | J79: Lower hindlimb | K79: 2
A80: 1st tarsal | B80: FALSE | C80: Tarsal | E80: 10 | G80: 10 | J80: Lower hindlimb
A81: 1st+2nd tarsal | B81: FALSE | C81: Tarsal | F81: 8 | J81: Lower hindlimb
A82: 2nd tarsal | B82: FALSE | C82: Tarsal | E82: 10 | G82: 10 | J82: Lower hindlimb
A83: 2nd+3rd tarsal | B83: FALSE | C83: Tarsal | D83: 4 | J83: Lower hindlimb
A84: 3rd tarsal | B84: FALSE | C84: Tarsal | E84: 10 | F84: 8 | G84: 10 | J84: Lower hindlimb
A85: 4th tarsal | B85: FALSE | C85: Tarsal | E85: 10 | F85: 8 | G85: 10 | J85: Lower hindlimb
A86: Central tarsal | B86: FALSE | C86: Tarsal | E86: 10 | F86: 8 | G86: 10 | J86: Lower hindlimb
A87: Carapace | B87: FALSE
A88: Plastron | B88: FALSE
A89: Coracoid | B89: FALSE
A90: Furcula | B90: FALSE
A91: Carpometacarpal | B91: FALSE
A92: Tibiotarsus | B92: FALSE
A93: Tarsometatarsus | B93: FALSE
A94: Pygostyle | B94: FALSE
A95: Synsacrum | B95: FALSE
A96: Prox. phal. (main) | B96: FALSE
A97: Int. phal. (main) | B97: FALSE
A98: Dist. phal. (main) | B98: FALSE
... A130: Spine | B130: FALSE
B131: FALSE
...

Sheet REGIONS
A2: REGION | B2: nReg1 | C2: nReg2 | D2: nReg3 | E2: nReg4 | F2: DZReg
A3: Antler / Horn core | B3: 2
A4: Head | B4: 37 | F4: 4
A5: Neck | B5: 7 | C5: 7 | D5: 7 | E5: 7 | F5: 2
A6: Axial | B6: 49 | F6: 3
A7: Upper forelimb | B7: 4 | F7: 6
A8: Lower forelimb | B8: 18 | F8: 20
A9: Upper hindlimb | B9: 4 | F9: 6
A10: Lower hindlimb | B10: 12 | F10: 16
A11: Feet | B11: 24 | F11: 12

Sheet M_CODES
D1: Refs for standards: | F1: Degerbol & Fredskild 1970 | J1: Additional columns should begin "Std_"
A2: ELEMENT | B2: MEASUREMENT | C2: Description | D2: Source | E2: Std_Ovis | F2: Std_Bos | G2: Std_Sus | H2: Std_Canis | I2: Std_Gallus
A3: Scapula | B3: SLC | C3: Smallest length of the Collum scapulae | D3: von den Driesch 1976 | F3: 69
A4: Scapula | B4: GLP | C4: Greatest length of the glenoid process | D4: von den Driesch 1976 | F4: 89
A5: Scapula | B5: LG | C5: Length of the glenoid cavity | D5: von den Driesch 1976
A6: Scapula | B6: BG | C6: Breadth of the glenoid cavity | D6: von den Driesch 1976
A7: Scapula | B7: HS | C7: Height | D7: von den Driesch 1976
A8: Scapula | B8: DHA | C8: Diagonal height | D8: von den Driesch 1976
A9: Scapula | B9: Ld | C9: (Greatest) dorsal length | D9: von den Driesch 1976
A10: Humerus | B10: GL | C10: Greatest length | D10: von den Driesch 1976
A11: Humerus | B11: GLl | C11: Greatest length of the lateral part | D11: von den Driesch 1976
A12: Humerus | B12: GLC | C12: Greatest length from caput | D12: von den Driesch 1976
A13: Humerus | B13: Bp | C13: (Greatest) breadth of the proximal end | D13: von den Driesch 1976
A14: Humerus | B14: Dp | C14: Depth of the proximal end | D14: von den Driesch 1976
A15: Humerus | B15: SD | C15: Smallest breadth of the diaphysis | D15: von den Driesch 1976
A16: Humerus | B16: Bd | C16: (Greatest) breadth of the distal end | D16: von den Driesch 1976 | F16: 92
A17: Humerus | B17: BT | C17: (Greatest) breadth of the trochlea | D17: von den Driesch 1976 | F17: 89
A18: Radius | B18: GL | C18: Greatest length | D18: von den Driesch 1976
A19: Radius | B19: Ll | C19: Length of the lateral part | D19: von den Driesch 1976
A20: Radius | B20: Bp | C20: (Greatest) breadth of the proximal end | D20: von den Driesch 1976 | F20: 100
A21: Radius | B21: BFp | C21: (Greatest) breadth of the Facies articularis proximalis | D21: von den Driesch 1976
A22: Radius | B22: SD | C22: Smallest breadth of the diaphysis | D22: von den Driesch 1976
A23: Radius | B23: Bd | C23: (Greatest) breadth of the distal end | D23: von den Driesch 1976 | F23: 73
A24: Radius | B24: BFd | C24: (Greatest) breadth of the Facies articularis distalis | D24: von den Driesch 1976
A25: Ulna | B25: GL | C25: Greatest length | D25: von den Driesch 1976
A26: Ulna | B26: LO | C26: Length of the olecranon | D26: von den Driesch 1976
A27: Ulna | B27: DPA | C27: Depth across the Processus anconaeus | D27: von den Driesch 1976 | F27: 75
A28: Ulna | B28: SDO | C28: Smallest depth of the olecranon | D28: von den Driesch 1976
A29: Ulna | B29: BPC | C29: (Greatest) breadth across the coronoid process | D29: von den Driesch 1976
A30: Pelvis | B30: LA | C30: Length of the acetabulum including the lip | D30: von den Driesch 1976
A31: Pelvis | B31: LAR | C31: Length of the acetabulum on the rim | D31: von den Driesch 1976
A32: Pelvis | B32: LFo | C32: Inner length of the foramen obturatum | D32: von den Driesch 1976
A33: Femur | B33: GL | C33: Greatest length | D33: von den Driesch 1976
A34: Femur | B34: GLC | C34: Greatest length from caput femoris | D34: von den Driesch 1976
A35: Femur | B35: Bp | C35: (Greatest) breadth of the proximal end | D35: von den Driesch 1976
A36: Femur | B36: DC | C36: Depth of the caput femoris | D36: von den Driesch 1976 | F36: 57
A37: Femur | B37: SD | C37: Smallest breadth of the diaphysis | D37: von den Driesch 1976
A38: Femur | B38: Bd | C38: (Greatest) breadth of the distal end | D38: von den Driesch 1976
A39: Patella | B39: GL | C39: Greatest length | D39: von den Driesch 1976
A40: Patella | B40: GB | C40: Greatest breadth | D40: von den Driesch 1976
A41: Tibia | B41: GL | C41: Greatest length | D41: von den Driesch 1976
A42: Tibia | B42: Bp | C42: (Greatest) breadth of the proximal end | D42: von den Driesch 1976
A43: Tibia | B43: SD | C43: Smallest breadth of the diaphysis | D43: von den Driesch 1976
A44: Tibia | B44: Bd | C44: (Greatest) breadth of the distal end | D44: von den Driesch 1976 | F44: 78
A45: Tibia | B45: Dd | C45: (Greatest) depth of the distal end | D45: von den Driesch 1976
A46: Fibula | B46: GL | C46: Greatest length | D46: von den Driesch 1976
A47: Astragalus | B47: GLl | C47: Greatest length of the lateral half | D47: von den Driesch 1976 | F47: 83
A48: Astragalus | B48: GLm | C48: Greatest length of the medial half | D48: von den Driesch 1976
A49: Astragalus | B49: Dl | C49: (Greatest) depth of the lateral half | D49: von den Driesch 1976
A50: Astragalus | B50: Dm | C50: (Greatest) depth of the medial half | D50: von den Driesch 1976
A51: Astragalus | B51: Bd | C51: (Greatest) breadth of the distal end | D51: von den Driesch 1976 | F51: 67
A52: Calcaneum | B52: GL | C52: Greatest length | D52: von den Driesch 1976 | F52: 165
A53: Calcaneum | B53: GB | C53: Greatest breadth | D53: von den Driesch 1976 | F53: 46
A54: Central+4th tarsal | B54: GB | C54: Greatest breadth | D54: von den Driesch 1976 | F54: 52
A55: Metacarpal | B55: GL | C55: Greatest length | D55: von den Driesch 1976
A56: Metacarpal | B56: Bp | C56: (Greatest) breadth of the proximal end | D56: von den Driesch 1976 | F56: 74
A57: Metacarpal | B57: Dp | C57: (Greatest) depth of the proximal end | D57: von den Driesch 1976 | F57: 45
A58: Metacarpal | B58: SD | C58: Smallest breadth of the diaphysis | D58: von den Driesch 1976
A59: Metacarpal | B59: Bd | C59: (Greatest) breadth of the distal end | D59: von den Driesch 1976 | F59: 73
A60: Metacarpal | B60: Dd | C60: (Greatest) depth of the distal end | D60: von den Driesch 1976
A61: Metacarpal | B61: LeP | C61: Length excepting the plantar projection | D61: von den Driesch 1976
A62: Metacarpal 3 | B62: GL | C62: Greatest length | D62: von den Driesch 1976
A63: Metacarpal 3 | B63: Bp | C63: (Greatest) breadth of the proximal end | D63: von den Driesch 1976
A64: Metacarpal 3 | B64: Dp | C64: (Greatest) depth of the proximal end | D64: von den Driesch 1976
A65: Metacarpal 3 | B65: SD | C65: Smallest breadth of the diaphysis | D65: von den Driesch 1976
A66: Metacarpal 3 | B66: Bd | C66: (Greatest) breadth of the distal end | D66: von den Driesch 1976
A67: Metacarpal 3 | B67: Dd | C67: (Greatest) depth of the distal end | D67: von den Driesch 1976
A68: Metacarpal 3 | B68: LeP | C68: Length excepting the plantar projection | D68: von den Driesch 1976
A69: Metacarpal 4 | B69: GL | C69: Greatest length | D69: von den Driesch 1976
A70: Metacarpal 4 | B70: Bp | C70: (Greatest) breadth of the proximal end | D70: von den Driesch 1976
A71: Metacarpal 4 | B71: Dp | C71: (Greatest) depth of the proximal end | D71: von den Driesch 1976
... A76: Metatarsal | B76: GL | C76: Greatest length | D76: von den Driesch 1976
A77: Metatarsal | B77: Bp | C77: (Greatest) breadth of the proximal end | D77: von den Driesch 1976 | F77: 62
A78: Metatarsal | B78: Dp | C78: (Greatest) depth of the proximal end | D78: von den Driesch 1976 | F78: 57
A79: Metatarsal | B79: SD | C79: Smallest breadth of the diaphysis | D79: von den Driesch 1976
A80: Metatarsal | B80: Bd | C80: (Greatest) breadth of the distal end | D80: von den Driesch 1976
A81: Metatarsal | B81: Dd | C81: (Greatest) depth of the distal end | D81: von den Driesch 1976
A82: Metatarsal | B82: LeP | C82: Length excepting the plantar projection | D82: von den Driesch 1976
A83: Metatarsal 3 | B83: GL | C83: Greatest length | D83: von den Driesch 1976
A84: Metatarsal 3 | B84: Bp | C84: (Greatest) breadth of the proximal end | D84: von den Driesch 1976
A85: Metatarsal 3 | B85: Dp | C85: (Greatest) depth of the proximal end | D85: von den Driesch 1976
A86: Metatarsal 3 | B86: SD | C86: Smallest breadth of the diaphysis | D86: von den Driesch 1976
A87: Metatarsal 3 | B87: Bd | C87: (Greatest) breadth of the distal end | D87: von den Driesch 1976
A88: Metatarsal 3 | B88: Dd | C88: (Greatest) depth of the distal end | D88: von den Driesch 1976
A89: Metatarsal 3 | B89: LeP | C89: Length excepting the plantar projection | D89: von den Driesch 1976
A90: Metatarsal 4 | B90: GL | C90: Greatest length | D90: von den Driesch 1976
... A96: Metatarsal 4 | B96: LeP | C96: Length excepting the plantar projection | D96: von den Driesch 1976
A97: Prox. phalanx | B97: GL | C97: Greatest length | D97: von den Driesch 1976 | F97: 70.5
A98: Prox. phalanx | B98: GLpe | C98: Greatest length of the peripheral (abaxial) half | D98: von den Driesch 1976
A99: Prox. phalanx | B99: Bp | C99: (Greatest) breadth of the proximal end | D99: von den Driesch 1976 | F99: 37.5
A100: Prox. phalanx | B100: BFp | C100: (Greatest) breadth of the facies articularis proximalis | D100: von den Driesch 1976
A101: Prox. phalanx | B101: Dp | C101: (Greatest) depth of the proximal end | D101: von den Driesch 1976
A102: Prox. phalanx | B102: SD | C102: Smallest breadth of the diaphysis | D102: von den Driesch 1976
A103: Prox. phalanx | B103: Bd | C103: (Greatest) breadth of the distal end | D103: von den Driesch 1976 | F103: 34.5
A104: Prox. phalanx | B104: BFd | C104: (Greatest) breadth of the facies articularis distalis | D104: von den Driesch 1976
A105: Int. phalanx | B105: GL | C105: Greatest length | D105: von den Driesch 1976 | F105: 48.5
A106: Int. phalanx | B106: GLpe | C106: Greatest length of the peripheral (abaxial) half | D106: von den Driesch 1976
A107: Int. phalanx | B107: Bp | C107: (Greatest) breadth of the proximal end | D107: von den Driesch 1976 | F107: 35
A108: Int. phalanx | B108: BFp | C108: (Greatest) breadth of the facies articularis proximalis | D108: von den Driesch 1976
A109: Int. phalanx | B109: Dp | C109: (Greatest) depth of the proximal end | D109: von den Driesch 1976
...
