Workbook

Sheet Unit
A1: SITE | B1: SITE_CODE | C1: UNIT_ID | D1: CONTEXT_DESCRIPTION | E1: PHASE | F1: DATING | G1: UNIT_COMMENTS | H1: BURNING_PC | I1: GNAWING_PC | J1: FRAGMENTATION | K1: HOMOGENEITY
A2: Brompton Castle | B2: BC17 | C2: BC17 1001 | D2: Subsoil | E2: Unphased | F2: 18th and 19th century | G2: Build up of subsoil through centuries of farming and use of site as a garden
A3: Brompton Castle | B3: BC17 | C3: BC17 1003 | D3: Stony deposits in grey loamy soil | E3: Unphased | F3: Unknown | G3: Garden
A4: Brompton Castle | B4: BC17 | C4: BC17 2002 | D4: Stony rubble in orange/brown soil | E4: Unphased | F4: Unknown | G4: Garden
A5: Brompton Castle | B5: BC17 | C5: BC17 Unstrata | D5: Unknown | E5: Unphased | F5: Unknown
A6: Brompton Castle | B6: BC18 | C6: BC18 1002 | D6: Disturbed cobble surface | E6: 2 | F6: Unknown
A7: Brompton Castle | B7: BC18 | C7: BC18 1003 | D7: Spread from construction/levelling of mound | E7: 1 | F7: Unknown | G7: Upcast, artificial mound
A8: Brompton Castle | B8: BC18 | C8: BC18 2001 | D8: Topsoil | E8: 8 | G8: Deposits either side of medieval wall
A9: Brompton Castle | B9: BC18 | C9: BC18 2002 | D9: Wall demolition | E9: 7 | F9: Medieval | G9: Demolition of the wall
A10: Brompton Castle | B10: BC18 | C10: BC18 2003 | D10: Build up on outside of wall | E10: 6 | F10: Medieval | G10: Soil accumulating naturally
A11: Brompton Castle | B11: BC18 | C11: BC18 2005 | D11: Upper wall consutruction | E11: 4 | F11: Medieval | G11: Consolidate the wall foundations
A12: Brompton Castle | B12: BC18 | C12: BC18 2006 | D12: Upper wall consutruction | E12: 4 | F12: Medieval | G12: Consolidate the wall foundations
A13: Brompton Castle | B13: BC18 | C13: BC18 2007 | D13: Orange/brown silt with charcoal | E13: 3 | F13: Medieval | G13: Consolidate the wall foundations
A14: Brompton Castle | B14: BC18 | C14: BC18 2010 | D14: Occupation on inside of wall | E14: 5 | F14: Medieval | G14: Ground level at which construction of wall began
A15: Brompton Castle | B15: BC18 | C15: BC18 2011 | D15: Dark brown silty loam with limestone | E15: 3 | F15: Medieval | G15: Consolidate the wall foundations
A16: Brompton Castle | B16: BC18 | C16: BC18 2012 | D16: Compacted friable soil | E16: 3 | F16: Medieval
A17: Brompton Castle | B17: BC18 | C17: BC18 2013 | D17: Compacted grey soil | E17: 3 | F17: Medieval | G17: Fairly rapid deposit
A18: Brompton Castle | B18: BC18 | C18: BC18 3001 | D18: Topsoil | E18: 7 | G18: Mound overlying several phases of wall
A19: Brompton Castle | B19: BC18 | C19: BC18 3002 | D19: Topsoil | E19: 7 | F19: Recent | G19: Centre of the mound, dumped recently
A20: Brompton Castle | B20: BC18 | C20: BC18 3004 | D20: Final make up of bank | E20: 6 | F20: Medieval | G20: Mound makeup
A21: Brompton Castle | B21: BC18 | C21: BC18 3007 | D21: Spread of soil/rubble - base of bank | E21: 4 | F21: Medieval
A22: Brompton Castle | B22: BC18 | C22: BC18 4002 | D22: Rubble | E22: 2 | G22: Demolition of stone structure
A23: Brompton Castle | B23: BC19 | C23: BC19 5004 | D23: Major build up to west of wall (exterior) | E23: 3
A24: Brompton Castle | B24: BC19 | C24: BC19 5006 | D24: Major build up to west of wall (exterior) | E24: 3
A25: Brompton Castle | B25: BC19 | C25: BC19 5007 | D25: Major build up to west of wall (exterior) | E25: 3
A26: Brompton Castle | B26: BC19 | C26: BC19 5008 | D26: Major build up to west of wall (exterior) | E26: 3 | G26: Dumped rapidly outside of the wall
A27: Brompton Castle | B27: BC19 | C27: BC19 5010 | D27: Working layer/construction on inside of wall - Burnt soil | E27: 4 | G27: Industrial/domestic activity inside the wall which scorched the stonework
A28: Brompton Castle | B28: BC19 | C28: BC19 5012 | D28: Working layer/stone raft on exterior of wall | E28: 5 | G28: Debris from construction of wall
A29: Brompton Castle | B29: BC19 | C29: BC19 5014 | D29: Working layer/stone raft on exterior of wall | E29: 6 | G29: Post-date construction of the wall
A30: Brompton Castle | B30: BC19 | C30: BC19 6001 | D30: Stone wall | E30: 1 | G30: Built from roughly coursed stonework with a rubble core and clay bonded
A31: Brompton Castle | B31: BC19 | C31: BC19 7001 | D31: Dark brown loamy soil | E31: 1 | G31: Built up over demolition deposits
A32: Brompton Castle | B32: BC19 | C32: BC19 7007 | D32: Stony soil | E32: 4 | G32: Demolition fo building
A33: Brompton Castle | B33: BC19 | C33: BC19 7008 | D33: Stony soil | E33: 4 | G33: Demolition fo building
A34: Brompton Castle | B34: BC19 | C34: BC19 8001 | D34: Field, topsoil | E34: 1
A35: Brompton Castle | B35: BC19 | C35: BC19 8003 | D35: Demolition | E35: 3 | G35: Demolition of wall
A36: Brompton Castle | B36: BC19 | C36: BC19 8004 | D36: WW2 slit trench | E36: 2 | F36: WW2 - 1939-1945 | G36: Pit may be connected with use of field for training by Home Guard during WW2
A37: Brompton Castle | B37: BC19 | C37: BC19 8005 | D37: Demolition | E37: 3 | G37: Demolition of wall
A38: Brompton Castle | B38: BC19 | C38: BC19 8007 | D38: Exterior surface | E38: 4 | G38: In between wall and buttress
A39: Brompton Castle | B39: BC19 | C39: BC19 8008 | D39: Demolition/underpinning for barn | E39: 7 | G39: Demolition of structure, compacted to firm base for construction of building
A40: Brompton Castle | B40: BC19 | C40: BC19 8011 | D40: Ash, burnt clay, charcoal - Industrial activity | E40: 8 | G40: Intense burning, hearth
...

Sheet Specimen
H1: Watson 1979 | I1: cm | J1: grams | K1: e.g. from texture | N1: inc. tuber calcis | O1: inc. glenoid | S1: relevant BONE_ID(s)
A2: BONE_ID | B2: UNIT_ID | C2: REC_DATE | D2: TAXON | E2: ELEMENT | F2: SIDE | G2: FRAGS | H2: DZ | I2: LENGTH | J2: WEIGHT | K2: AGE | L2: SEX | M2: PORTION | N2: PROX_FUSION | O2: DIST_FUSION | P2: SURFACE | Q2: BURNING | R2: GNAWING | S2: ARTIC_WITH | T2: ARTIC_TYPE | U2: FOR_ATTENTION | V2: COMMENTS
A3: 1 | B3: BC17 1001 | C3: 45914 | D3: Ovis/Capra | E3: Pelvis | F3: Left | G3: 1 | H3: 1 | I3: 11 | J3: 16 | M3: Acetabulum | N3: Fused | P3: Good | V3: Sawing marks, sawn through ilium
A4: 2 | B4: BC17 1001 | C4: 45914 | D4: Indet. mammal | E4: Indet. | F4: Indet. | G4: 2 | I4: 2 | J4: 2 | M4: Fragment | P4: Average
A5: 3 | B5: BC17 1001 | C5: 45914 | D5: Indet. mammal | E5: Indet. | F5: Indet. | G5: 3 | I5: 3 | J5: 2 | M5: Fragment | P5: Average
A6: 4 | B6: BC17 1001 | C6: 45914 | D6: Indet. mammal | E6: Indet. | F6: Indet. | G6: 8 | I6: 4 | J6: 20 | M6: Fragment | P6: Average
A7: 5 | B7: BC17 1001 | C7: 45914 | D7: Indet. mammal | E7: Indet. | F7: Indet. | G7: 3 | I7: 5 | J7: 7 | M7: Fragment | P7: Average
A8: 6 | B8: BC17 1001 | C8: 45914 | D8: Indet. mammal | E8: Indet. | F8: Indet. | G8: 2 | I8: 6 | J8: 5 | M8: Fragment | P8: Average
A9: 7 | B9: BC17 1001 | C9: 45914 | D9: Medium mammal | E9: Rib | F9: Indet. | G9: 1 | I9: 2 | J9: 1 | M9: Fragment | P9: Average
A10: 8 | B10: BC17 1001 | C10: 45914 | D10: Large mammal | E10: Lumbar vert. | F10: Indet. | G10: 1 | I10: 6 | J10: 15 | M10: Fragment | P10: Average
A11: 9 | B11: BC17 1001 | C11: 45914 | D11: Large mammal | E11: Rib | F11: Indet. | G11: 1 | I11: 11 | J11: 18 | M11: Fragment | P11: Average | V11: Sawing marks through one end of rib
A12: 10 | B12: BC17 1001 | C12: 45914 | D12: Large mammal | E12: Rib | F12: Indet. | G12: 1 | I12: 5 | J12: 5 | M12: Fragment | P12: Average
A13: 11 | B13: BC17 1001 | C13: 45914 | D13: Corvus sp. | E13: Tarsometatarsus | F13: Right | G13: 2 | I13: 5 | J13: 1 | M13: Complete | O13: Fused | P13: Average | V13: Two pieces fit together but have different colouring, broken and then disposed of in different soil deposits
A14: 12 | B14: BC17 1001 | C14: 45914 | D14: Ovis/Capra | E14: Tooth | F14: Indet. | G14: 1 | I14: 3 | J14: 4 | M14: Complete | P14: Average
A15: 13 | B15: BC17 1001 | C15: 45914 | D15: Ovis/Capra | E15: Tooth | F15: Indet. | G15: 1 | I15: 3 | J15: 3 | M15: Complete | P15: Average
A16: 14 | B16: BC17 1001 | C16: 45914 | D16: Ovis/Capra | E16: Tooth | F16: Indet. | G16: 1 | I16: 3 | J16: 1 | M16: Complete | P16: Average
A17: 15 | B17: BC17 1001 | C17: 45914 | D17: Bos taurus | E17: Pelvis | F17: Indet. | G17: 1 | I17: 12 | J17: 46 | M17: Fragment | P17: Average
A18: 16 | B18: BC17 1001 | C18: 45914 | D18: Large mammal | E18: Indet. | F18: Indet. | G18: 1 | I18: 5 | J18: 12 | M18: Fragment | P18: Average
A19: 17 | B19: BC17 1001 | C19: 45914 | D19: Bos taurus | E19: Pelvis | F19: Indet. | G19: 1 | I19: 5 | J19: 17 | M19: Fragment | P19: Average
A20: 18 | B20: BC17 1001 | C20: 45914 | D20: Ovis/Capra | E20: Tibia | F20: Left | G20: 1 | I20: 5 | J20: 8 | M20: Shaft cylinder | P20: Average | V20: Green break
A21: 19 | B21: BC17 1001 | C21: 45914 | D21: Ovis/Capra | E21: Tibia | F21: Right | G21: 1 | I21: 9 | J21: 19 | M21: Shaft cylinder | P21: Average | V21: Sawing marks, sawn through shaft, Zone 9
A22: 20 | B22: BC17 1001 | C22: 45914 | D22: Large mammal | E22: Rib | F22: Indet. | G22: 1 | I22: 6 | J22: 10 | M22: Fragment | P22: Average
A23: 21 | B23: BC17 1001 | C23: 45914 | D23: Bos taurus | E23: Pelvis | F23: Indet. | G23: 1 | I23: 8 | J23: 19 | M23: Fragment | P23: Average
A24: 22 | B24: BC17 1001 | C24: 45914 | D24: Medium mammal | E24: Thoracic vert. | F24: Indet. | G24: 1 | I24: 5 | J24: 4 | M24: Fragment | P24: Average
A25: 23 | B25: BC17 1001 | C25: 45914 | D25: Ovis/Capra | E25: Humerus | F25: Left | G25: 1 | I25: 7 | J25: 14 | M25: Shaft cylinder | P25: Average
A26: 24 | B26: BC17 1001 | C26: 45914 | D26: Sus scrofa | E26: Metacarpal 3 | F26: Left | G26: 1 | H26: 1 | I26: 6 | J26: 5 | M26: Near-complete | O26: Unfused shaft | P26: Average
A27: 25 | B27: BC17 1001 | C27: 45914 | D27: Small mammal | E27: Indet. | F27: Indet. | G27: 1 | I27: 2 | J27: 1 | M27: Fragment | P27: Very poor | Q27: Calcined
A28: 26 | B28: BC17 1001 | C28: 45914 | D28: Large mammal | E28: Indet. | F28: Indet. | G28: 1 | I28: 5 | J28: 11 | M28: Fragment | P28: Average
A29: 27 | B29: BC17 1001 | C29: 45914 | D29: Large mammal | E29: Rib | F29: Indet. | G29: 1 | I29: 7 | J29: 11 | M29: Fragment | P29: Average
A30: 28 | B30: BC17 1001 | C30: 45914 | D30: Small mammal | E30: Rib | F30: Indet. | G30: 1 | I30: 5 | J30: 1 | M30: Fragment | P30: Average
A31: 29 | B31: BC17 1001 | C31: 45914 | D31: Corvus sp. | E31: Ulna | F31: Left | G31: 1 | I31: 2 | J31: 1 | M31: Dist | P31: Average
A32: 30 | B32: BC17 1003 | C32: 45914 | D32: Bos taurus | E32: Mandible | F32: Left | G32: 2 | I32: 8 | J32: 27 | M32: Fragment | P32: Average
A33: 31 | B33: BC17 1003 | C33: 45914 | D33: Bos taurus | E33: Mandible | F33: Left | G33: 4 | I33: N/A | J33: 53 | M33: Fragment | P33: Average | V33: broken but can be fit back together, fragments from the same bone
A34: 32 | B34: BC17 1003 | C34: 45914 | D34: Bos taurus | E34: Tooth | F34: Indet. | G34: 1 | I34: 4 | J34: 15 | M34: Near-complete | P34: Average
A35: 33 | B35: BC17 1003 | C35: 45914 | D35: Bos taurus | E35: Tooth | F35: Indet. | G35: 1 | I35: 3 | J35: 8 | M35: Fragment | P35: Average
A36: 34 | B36: BC17 1003 | C36: 45914 | D36: Bos taurus | E36: Tooth | F36: Indet. | G36: 1 | I36: 2 | J36: 3 | M36: Fragment | P36: Average
A37: 35 | B37: BC17 1003 | C37: 45914 | D37: Bos taurus | E37: Tooth | F37: Indet. | G37: 1 | I37: 3 | J37: 2 | M37: Fragment | P37: Average
A38: 36 | B38: BC17 1003 | C38: 45914 | D38: Indet. mammal | E38: Indet. | F38: Indet. | G38: 3 | I38: 2 | J38: 2 | M38: Fragment | P38: Average
A39: 37 | B39: BC17 1003 | C39: 45914 | D39: Indet. mammal | E39: Indet. | F39: Indet. | G39: 3 | I39: 3 | J39: 2 | M39: Fragment | P39: Average
A40: 38 | B40: BC17 1003 | C40: 45914 | D40: Indet. mammal | E40: Indet. | F40: Indet. | G40: 2 | I40: 4 | J40: 1 | M40: Fragment | P40: Average
...

Sheet Zones
B1: TAXON | C1: (auto) | D1: (auto) | E1: Frontal | F1: Maxilla | G1: Premaxilla | H1: Nasal | I1: Lacrimal | J1: Zygomatic | K1: Parietal | L1: Occipital | M1: Temporal | N1: Petrous | O1: Basioccipital | Q1: <-- Zones for skulls, not listed in Dobney & Reilly 1988
A2: BONE_ID | B2: =if(A2 ="", "", vlookup(A2, Specimen!A:E, 4, FALSE)) -> TAXON | C2: ELEMENT | D2: SIDE | E2: Z_1 | F2: Z_2 | G2: Z_3 | H2: Z_4 | I2: Z_5 | J2: Z_6 | K2: Z_7 | L2: Z_8 | M2: Z_9 | N2: Z_10 | O2: Z_11 | P2: Z_12
A3: 1 | B3: =if(A3 ="", "", vlookup(A3, Specimen!A:E, 4, FALSE)) -> Ovis/Capra | C3: =if(A3 ="", "", vlookup(A3, Specimen!A:F, 5, FALSE)) -> Pelvis | D3: =if(A3 ="", "", vlookup(A3, Specimen!A:G, 6, FALSE)) -> Left | E3: TRUE | F3: TRUE | G3: FALSE | H3: TRUE | I3: TRUE | J3: TRUE | K3: FALSE | L3: FALSE | M3: FALSE | N3: FALSE | O3: FALSE | P3: FALSE
A4: 18 | B4: =if(A4 ="", "", vlookup(A4, Specimen!A:E, 4, FALSE)) -> Ovis/Capra | C4: =if(A4 ="", "", vlookup(A4, Specimen!A:F, 5, FALSE)) -> Tibia | D4: =if(A4 ="", "", vlookup(A4, Specimen!A:G, 6, FALSE)) -> Left | E4: FALSE | F4: FALSE | G4: FALSE | H4: FALSE | I4: FALSE | J4: FALSE | K4: TRUE | L4: FALSE | M4: FALSE | N4: FALSE | O4: FALSE | P4: FALSE
A5: 19 | B5: =if(A5 ="", "", vlookup(A5, Specimen!A:E, 4, FALSE)) -> Ovis/Capra | C5: =if(A5 ="", "", vlookup(A5, Specimen!A:F, 5, FALSE)) -> Tibia | D5: =if(A5 ="", "", vlookup(A5, Specimen!A:G, 6, FALSE)) -> Right | E5: FALSE | F5: FALSE | G5: FALSE | H5: FALSE | I5: FALSE | J5: FALSE | K5: TRUE | L5: TRUE | M5: TRUE | N5: FALSE | O5: FALSE | P5: FALSE
A6: 23 | B6: =if(A6 ="", "", vlookup(A6, Specimen!A:E, 4, FALSE)) -> Ovis/Capra | C6: =if(A6 ="", "", vlookup(A6, Specimen!A:F, 5, FALSE)) -> Humerus | D6: =if(A6 ="", "", vlookup(A6, Specimen!A:G, 6, FALSE)) -> Left | E6: FALSE | F6: FALSE | G6: FALSE | H6: FALSE | I6: FALSE | J6: FALSE | K6: TRUE | L6: TRUE | M6: TRUE | N6: TRUE | O6: TRUE | P6: FALSE
A7: 24 | B7: =if(A7 ="", "", vlookup(A7, Specimen!A:E, 4, FALSE)) -> Sus scrofa | C7: =if(A7 ="", "", vlookup(A7, Specimen!A:F, 5, FALSE)) -> Metacarpal 3 | D7: =if(A7 ="", "", vlookup(A7, Specimen!A:G, 6, FALSE)) -> Left | E7: FALSE | F7: FALSE | G7: TRUE | H7: FALSE | I7: FALSE | J7: FALSE | K7: FALSE | L7: FALSE | M7: FALSE | N7: FALSE | O7: FALSE | P7: FALSE
A8: 51 | B8: =if(A8 ="", "", vlookup(A8, Specimen!A:E, 4, FALSE)) -> Sus scrofa | C8: =if(A8 ="", "", vlookup(A8, Specimen!A:F, 5, FALSE)) -> Humerus | D8: =if(A8 ="", "", vlookup(A8, Specimen!A:G, 6, FALSE)) -> Right | E8: FALSE | F8: FALSE | G8: FALSE | H8: FALSE | I8: FALSE | J8: FALSE | K8: TRUE | L8: TRUE | M8: FALSE | N8: FALSE | O8: FALSE | P8: FALSE
A9: 53 | B9: =if(A9 ="", "", vlookup(A9, Specimen!A:E, 4, FALSE)) -> Ovis/Capra | C9: =if(A9 ="", "", vlookup(A9, Specimen!A:F, 5, FALSE)) -> Ulna | D9: =if(A9 ="", "", vlookup(A9, Specimen!A:G, 6, FALSE)) -> Left | E9: TRUE | F9: TRUE | G9: TRUE | H9: TRUE | I9: TRUE | J9: FALSE | K9: FALSE | L9: FALSE | M9: FALSE | N9: FALSE | O9: FALSE | P9: FALSE
A10: 57 | B10: =if(A10 ="", "", vlookup(A10, Specimen!A:E, 4, FALSE)) -> Sus scrofa | C10: =if(A10 ="", "", vlookup(A10, Specimen!A:F, 5, FALSE)) -> Radius | D10: =if(A10 ="", "", vlookup(A10, Specimen!A:G, 6, FALSE)) -> Right | E10: FALSE | F10: FALSE | G10: FALSE | H10: FALSE | I10: TRUE | J10: TRUE | K10: TRUE | L10: TRUE | M10: FALSE | N10: FALSE | O10: FALSE | P10: FALSE
A11: 58 | B11: =if(A11 ="", "", vlookup(A11, Specimen!A:E, 4, FALSE)) -> Sus scrofa | C11: =if(A11 ="", "", vlookup(A11, Specimen!A:F, 5, FALSE)) -> Tibia | D11: =if(A11 ="", "", vlookup(A11, Specimen!A:G, 6, FALSE)) -> Left | E11: FALSE | F11: FALSE | G11: FALSE | H11: FALSE | I11: FALSE | J11: FALSE | K11: FALSE | L11: TRUE | M11: TRUE | N11: TRUE | O11: FALSE | P11: FALSE
A12: 60 | B12: =if(A12 ="", "", vlookup(A12, Specimen!A:E, 4, FALSE)) -> Bos taurus | C12: =if(A12 ="", "", vlookup(A12, Specimen!A:F, 5, FALSE)) -> Pelvis | D12: =if(A12 ="", "", vlookup(A12, Specimen!A:G, 6, FALSE)) -> Left | E12: TRUE | F12: TRUE | G12: FALSE | H12: TRUE | I12: FALSE | J12: FALSE | K12: FALSE | L12: FALSE | M12: FALSE | N12: FALSE | O12: FALSE | P12: FALSE
A13: 81 | B13: =if(A13 ="", "", vlookup(A13, Specimen!A:E, 4, FALSE)) -> Bos taurus | C13: =if(A13 ="", "", vlookup(A13, Specimen!A:F, 5, FALSE)) -> Dist. phalanx | D13: =if(A13 ="", "", vlookup(A13, Specimen!A:G, 6, FALSE)) -> LM/RL | E13: TRUE | F13: TRUE | G13: FALSE | H13: FALSE | I13: FALSE | J13: FALSE | K13: FALSE | L13: FALSE | M13: FALSE | N13: FALSE | O13: FALSE | P13: FALSE
A14: 100 | B14: =if(A14 ="", "", vlookup(A14, Specimen!A:E, 4, FALSE)) -> Ovis/Capra | C14: =if(A14 ="", "", vlookup(A14, Specimen!A:F, 5, FALSE)) -> Tibia | D14: =if(A14 ="", "", vlookup(A14, Specimen!A:G, 6, FALSE)) -> Right | E14: FALSE | F14: FALSE | G14: FALSE | H14: FALSE | I14: FALSE | J14: FALSE | K14: TRUE | L14: TRUE | M14: FALSE | N14: FALSE | O14: FALSE | P14: FALSE
... A201: 1205 | B201: =if(A201 ="", "", vlookup(A201, Specimen!A:E, 4, FALSE)) -> Bos taurus | C201: =if(A201 ="", "", vlookup(A201, Specimen!A:F, 5, FALSE)) -> Astragalus | D201: =if(A201 ="", "", vlookup(A201, Specimen!A:G, 6, FALSE)) -> Left | E201: TRUE | F201: TRUE | G201: TRUE | H201: TRUE | I201: FALSE | J201: FALSE | K201: FALSE | L201: FALSE | M201: FALSE | N201: FALSE | O201: FALSE | P201: FALSE
B202: =if(A202 ="", "", vlookup(A202, Specimen!A:E, 4, FALSE)) | C202: =if(A202 ="", "", vlookup(A202, Specimen!A:F, 5, FALSE)) | D202: =if(A202 ="", "", vlookup(A202, Specimen!A:G, 6, FALSE)) | E202: FALSE | F202: FALSE | G202: FALSE | H202: FALSE | I202: FALSE | J202: FALSE | K202: FALSE | L202: FALSE | M202: FALSE | N202: FALSE | O202: FALSE | P202: FALSE
B203: =if(A203 ="", "", vlookup(A203, Specimen!A:E, 4, FALSE)) | C203: =if(A203 ="", "", vlookup(A203, Specimen!A:F, 5, FALSE)) | D203: =if(A203 ="", "", vlookup(A203, Specimen!A:G, 6, FALSE)) | E203: FALSE | F203: FALSE | G203: FALSE | H203: FALSE | I203: FALSE | J203: FALSE | K203: FALSE | L203: FALSE | M203: FALSE | N203: FALSE | O203: FALSE | P203: FALSE
B204: =if(A204 ="", "", vlookup(A204, Specimen!A:E, 4, FALSE)) | C204: =if(A204 ="", "", vlookup(A204, Specimen!A:F, 5, FALSE)) | D204: =if(A204 ="", "", vlookup(A204, Specimen!A:G, 6, FALSE)) | E204: FALSE | F204: FALSE | G204: FALSE | H204: FALSE | I204: FALSE | J204: FALSE | K204: FALSE | L204: FALSE | M204: FALSE | N204: FALSE | O204: FALSE | P204: FALSE
B205: =if(A205 ="", "", vlookup(A205, Specimen!A:E, 4, FALSE)) | C205: =if(A205 ="", "", vlookup(A205, Specimen!A:F, 5, FALSE)) | D205: =if(A205 ="", "", vlookup(A205, Specimen!A:G, 6, FALSE)) | E205: FALSE | F205: FALSE | G205: FALSE | H205: FALSE | I205: FALSE | J205: FALSE | K205: FALSE | L205: FALSE | M205: FALSE | N205: FALSE | O205: FALSE | P205: FALSE
B206: =if(A206 ="", "", vlookup(A206, Specimen!A:E, 4, FALSE)) | C206: =if(A206 ="", "", vlookup(A206, Specimen!A:F, 5, FALSE)) | D206: =if(A206 ="", "", vlookup(A206, Specimen!A:G, 6, FALSE)) | E206: FALSE | F206: FALSE | G206: FALSE | H206: FALSE | I206: FALSE | J206: FALSE | K206: FALSE | L206: FALSE | M206: FALSE | N206: FALSE | O206: FALSE | P206: FALSE
B207: =if(A207 ="", "", vlookup(A207, Specimen!A:E, 4, FALSE)) | C207: =if(A207 ="", "", vlookup(A207, Specimen!A:F, 5, FALSE)) | D207: =if(A207 ="", "", vlookup(A207, Specimen!A:G, 6, FALSE)) | E207: FALSE | F207: FALSE | G207: FALSE | H207: FALSE | I207: FALSE | J207: FALSE | K207: FALSE | L207: FALSE | M207: FALSE | N207: FALSE | O207: FALSE | P207: FALSE
B208: =if(A208 ="", "", vlookup(A208, Specimen!A:E, 4, FALSE)) | C208: =if(A208 ="", "", vlookup(A208, Specimen!A:F, 5, FALSE)) | D208: =if(A208 ="", "", vlookup(A208, Specimen!A:G, 6, FALSE)) | E208: FALSE | F208: FALSE | G208: FALSE | H208: FALSE | I208: FALSE | J208: FALSE | K208: FALSE | L208: FALSE | M208: FALSE | N208: FALSE | O208: FALSE | P208: FALSE
B209: =if(A209 ="", "", vlookup(A209, Specimen!A:E, 4, FALSE)) | C209: =if(A209 ="", "", vlookup(A209, Specimen!A:F, 5, FALSE)) | D209: =if(A209 ="", "", vlookup(A209, Specimen!A:G, 6, FALSE)) | E209: FALSE | F209: FALSE | G209: FALSE | H209: FALSE | I209: FALSE | J209: FALSE | K209: FALSE | L209: FALSE | M209: FALSE | N209: FALSE | O209: FALSE | P209: FALSE
B210: =if(A210 ="", "", vlookup(A210, Specimen!A:E, 4, FALSE)) | C210: =if(A210 ="", "", vlookup(A210, Specimen!A:F, 5, FALSE)) | D210: =if(A210 ="", "", vlookup(A210, Specimen!A:G, 6, FALSE)) | E210: FALSE | F210: FALSE | G210: FALSE | H210: FALSE | I210: FALSE | J210: FALSE | K210: FALSE | L210: FALSE | M210: FALSE | N210: FALSE | O210: FALSE | P210: FALSE
B211: =if(A211 ="", "", vlookup(A211, Specimen!A:E, 4, FALSE)) | C211: =if(A211 ="", "", vlookup(A211, Specimen!A:F, 5, FALSE)) | D211: =if(A211 ="", "", vlookup(A211, Specimen!A:G, 6, FALSE)) | E211: FALSE | F211: FALSE | G211: FALSE | H211: FALSE | I211: FALSE | J211: FALSE | K211: FALSE | L211: FALSE | M211: FALSE | N211: FALSE | O211: FALSE | P211: FALSE
B212: =if(A212 ="", "", vlookup(A212, Specimen!A:E, 4, FALSE)) | C212: =if(A212 ="", "", vlookup(A212, Specimen!A:F, 5, FALSE)) | D212: =if(A212 ="", "", vlookup(A212, Specimen!A:G, 6, FALSE)) | E212: FALSE | F212: FALSE | G212: FALSE | H212: FALSE | I212: FALSE | J212: FALSE | K212: FALSE | L212: FALSE | M212: FALSE | N212: FALSE | O212: FALSE | P212: FALSE
B213: =if(A213 ="", "", vlookup(A213, Specimen!A:E, 4, FALSE)) | C213: =if(A213 ="", "", vlookup(A213, Specimen!A:F, 5, FALSE)) | D213: =if(A213 ="", "", vlookup(A213, Specimen!A:G, 6, FALSE)) | E213: FALSE | F213: FALSE | G213: FALSE | H213: FALSE | I213: FALSE | J213: FALSE | K213: FALSE | L213: FALSE | M213: FALSE | N213: FALSE | O213: FALSE | P213: FALSE
... B283: =if(A283 ="", "", vlookup(A283, Specimen!A:E, 4, FALSE)) | C283: =if(A283 ="", "", vlookup(A283, Specimen!A:F, 5, FALSE)) | D283: =if(A283 ="", "", vlookup(A283, Specimen!A:G, 6, FALSE)) | E283: FALSE | F283: FALSE | G283: FALSE | H283: FALSE | I283: FALSE | J283: FALSE | K283: FALSE | L283: FALSE | M283: FALSE | N283: FALSE | O283: FALSE | P283: FALSE
B284: =if(A284 ="", "", vlookup(A284, #REF!, 4, FALSE)) | C284: =if(A284 ="", "", vlookup(A284, Specimen!A:F, 5, FALSE)) | D284: =if(A284 ="", "", vlookup(A284, Specimen!A:G, 6, FALSE)) | E284: FALSE | F284: FALSE | G284: FALSE | H284: FALSE | I284: FALSE | J284: FALSE | K284: FALSE | L284: FALSE | M284: FALSE | N284: FALSE | O284: FALSE | P284: FALSE
B285: =if(A285 ="", "", vlookup(A285, #REF!, 4, FALSE)) | C285: =if(A285 ="", "", vlookup(A285, Specimen!A:F, 5, FALSE)) | D285: =if(A285 ="", "", vlookup(A285, Specimen!A:G, 6, FALSE)) | E285: FALSE | F285: FALSE | G285: FALSE | H285: FALSE | I285: FALSE | J285: FALSE | K285: FALSE | L285: FALSE | M285: FALSE | N285: FALSE | O285: FALSE | P285: FALSE
B286: =if(A286 ="", "", vlookup(A286, #REF!, 4, FALSE)) | C286: =if(A286 ="", "", vlookup(A286, Specimen!A:F, 5, FALSE)) | D286: =if(A286 ="", "", vlookup(A286, Specimen!A:G, 6, FALSE)) | E286: FALSE | F286: FALSE | G286: FALSE | H286: FALSE | I286: FALSE | J286: FALSE | K286: FALSE | L286: FALSE | M286: FALSE | N286: FALSE | O286: FALSE | P286: FALSE
B287: =if(A287 ="", "", vlookup(A287, #REF!, 4, FALSE)) | C287: =if(A287 ="", "", vlookup(A287, Specimen!A:F, 5, FALSE)) | D287: =if(A287 ="", "", vlookup(A287, Specimen!A:G, 6, FALSE)) | E287: FALSE | F287: FALSE | G287: FALSE | H287: FALSE | I287: FALSE | J287: FALSE | K287: FALSE | L287: FALSE | M287: FALSE | N287: FALSE | O287: FALSE | P287: FALSE
B288: =if(A288 ="", "", vlookup(A288, #REF!, 4, FALSE)) | C288: =if(A288 ="", "", vlookup(A288, Specimen!A:F, 5, FALSE)) | D288: =if(A288 ="", "", vlookup(A288, Specimen!A:G, 6, FALSE)) | E288: FALSE | F288: FALSE | G288: FALSE | H288: FALSE | I288: FALSE | J288: FALSE | K288: FALSE | L288: FALSE | M288: FALSE | N288: FALSE | O288: FALSE | P288: FALSE
B289: =if(A289 ="", "", vlookup(A289, #REF!, 4, FALSE)) | C289: =if(A289 ="", "", vlookup(A289, Specimen!A:F, 5, FALSE)) | D289: =if(A289 ="", "", vlookup(A289, Specimen!A:G, 6, FALSE)) | E289: FALSE | F289: FALSE | G289: FALSE | H289: FALSE | I289: FALSE | J289: FALSE | K289: FALSE | L289: FALSE | M289: FALSE | N289: FALSE | O289: FALSE | P289: FALSE
B290: =if(A290 ="", "", vlookup(A290, #REF!, 4, FALSE)) | C290: =if(A290 ="", "", vlookup(A290, Specimen!A:F, 5, FALSE)) | D290: =if(A290 ="", "", vlookup(A290, Specimen!A:G, 6, FALSE)) | E290: FALSE | F290: FALSE | G290: FALSE | H290: FALSE | I290: FALSE | J290: FALSE | K290: FALSE | L290: FALSE | M290: FALSE | N290: FALSE | O290: FALSE | P290: FALSE
B291: =if(A291 ="", "", vlookup(A291, #REF!, 4, FALSE)) | C291: =if(A291 ="", "", vlookup(A291, Specimen!A:F, 5, FALSE)) | D291: =if(A291 ="", "", vlookup(A291, Specimen!A:G, 6, FALSE)) | E291: FALSE | F291: FALSE | G291: FALSE | H291: FALSE | I291: FALSE | J291: FALSE | K291: FALSE | L291: FALSE | M291: FALSE | N291: FALSE | O291: FALSE | P291: FALSE
B292: =if(A292 ="", "", vlookup(A292, #REF!, 4, FALSE)) | C292: =if(A292 ="", "", vlookup(A292, Specimen!A:F, 5, FALSE)) | D292: =if(A292 ="", "", vlookup(A292, Specimen!A:G, 6, FALSE)) | E292: FALSE | F292: FALSE | G292: FALSE | H292: FALSE | I292: FALSE | J292: FALSE | K292: FALSE | L292: FALSE | M292: FALSE | N292: FALSE | O292: FALSE | P292: FALSE
B293: =if(A293 ="", "", vlookup(A293, #REF!, 4, FALSE)) | C293: =if(A293 ="", "", vlookup(A293, Specimen!A:F, 5, FALSE)) | D293: =if(A293 ="", "", vlookup(A293, Specimen!A:G, 6, FALSE)) | E293: FALSE | F293: FALSE | G293: FALSE | H293: FALSE | I293: FALSE | J293: FALSE | K293: FALSE | L293: FALSE | M293: FALSE | N293: FALSE | O293: FALSE | P293: FALSE
B294: =if(A294 ="", "", vlookup(A294, #REF!, 4, FALSE)) | C294: =if(A294 ="", "", vlookup(A294, Specimen!A:F, 5, FALSE)) | D294: =if(A294 ="", "", vlookup(A294, Specimen!A:G, 6, FALSE)) | E294: FALSE | F294: FALSE | G294: FALSE | H294: FALSE | I294: FALSE | J294: FALSE | K294: FALSE | L294: FALSE | M294: FALSE | N294: FALSE | O294: FALSE | P294: FALSE
B295: =if(A295 ="", "", vlookup(A295, #REF!, 4, FALSE)) | C295: =if(A295 ="", "", vlookup(A295, Specimen!A:F, 5, FALSE)) | D295: =if(A295 ="", "", vlookup(A295, Specimen!A:G, 6, FALSE)) | E295: FALSE | F295: FALSE | G295: FALSE | H295: FALSE | I295: FALSE | J295: FALSE | K295: FALSE | L295: FALSE | M295: FALSE | N295: FALSE | O295: FALSE | P295: FALSE
...

Sheet Teeth
B1: TAXON | C1: (auto) | D1: basic tooth status | R1: teeth with Grant stages | W1: where position not known
A2: BONE_ID | B2: =if(A2 ="", "", vlookup(A2, Specimen!A:E, 4, FALSE)) -> TAXON | C2: ELEMENT | D2: dI1 | E2: dI2 | F2: dI3 | G2: dC | H2: I1 | I2: I2 | J2: I3 | K2: C | L2: dP1 | M2: dP2 | N2: dP3 | O2: P1 | P2: P2 | Q2: P3 | R2: dP4 | S2: P4 | T2: M1 | U2: M2 | V2: M3 | W2: LOOSE_CLASS | X2: TEETH_COMMENTS | Y2: GRANT TOTAL | Z2: AGE
A3: 12 | B3: =if(A3 ="", "", vlookup(A3, Specimen!A:E, 4, FALSE)) -> Ovis/Capra | C3: =if(A3 ="", "", vlookup(A3, Specimen!A:F, 5, FALSE)) -> Tooth | W3: Molar
A4: 13 | B4: =if(A4 ="", "", vlookup(A4, Specimen!A:E, 4, FALSE)) -> Ovis/Capra | C4: =if(A4 ="", "", vlookup(A4, Specimen!A:F, 5, FALSE)) -> Tooth | W4: Molar
A5: 14 | B5: =if(A5 ="", "", vlookup(A5, Specimen!A:E, 4, FALSE)) -> Ovis/Capra | C5: =if(A5 ="", "", vlookup(A5, Specimen!A:F, 5, FALSE)) -> Tooth | W5: Canine
A6: 32 | B6: =if(A6 ="", "", vlookup(A6, Specimen!A:E, 4, FALSE)) -> Bos taurus | C6: =if(A6 ="", "", vlookup(A6, Specimen!A:F, 5, FALSE)) -> Tooth | W6: Molar
A7: 33 | B7: =if(A7 ="", "", vlookup(A7, Specimen!A:E, 4, FALSE)) -> Bos taurus | C7: =if(A7 ="", "", vlookup(A7, Specimen!A:F, 5, FALSE)) -> Tooth | W7: Molar
A8: 34 | B8: =if(A8 ="", "", vlookup(A8, Specimen!A:E, 4, FALSE)) -> Bos taurus | C8: =if(A8 ="", "", vlookup(A8, Specimen!A:F, 5, FALSE)) -> Tooth | W8: Molar
A9: 35 | B9: =if(A9 ="", "", vlookup(A9, Specimen!A:E, 4, FALSE)) -> Bos taurus | C9: =if(A9 ="", "", vlookup(A9, Specimen!A:F, 5, FALSE)) -> Tooth | W9: Molar
A10: 90 | B10: =if(A10 ="", "", vlookup(A10, Specimen!A:E, 4, FALSE)) -> Bos taurus | C10: =if(A10 ="", "", vlookup(A10, Specimen!A:F, 5, FALSE)) -> Tooth | W10: Molar
A11: 110 | B11: =if(A11 ="", "", vlookup(A11, Specimen!A:E, 4, FALSE)) -> Ovis/Capra | C11: =if(A11 ="", "", vlookup(A11, Specimen!A:F, 5, FALSE)) -> Tooth | W11: Molar
A12: 111 | B12: =if(A12 ="", "", vlookup(A12, Specimen!A:E, 4, FALSE)) -> Indet. mammal | C12: =if(A12 ="", "", vlookup(A12, Specimen!A:F, 5, FALSE)) -> Tooth | W12: Premolar/Molar | X12: broken, just the root
A13: 114 | B13: =if(A13 ="", "", vlookup(A13, Specimen!A:E, 4, FALSE)) -> Ovis/Capra | C13: =if(A13 ="", "", vlookup(A13, Specimen!A:F, 5, FALSE)) -> Tooth | W13: Incisor
A14: 115 | B14: =if(A14 ="", "", vlookup(A14, Specimen!A:E, 4, FALSE)) -> Sus scrofa | C14: =if(A14 ="", "", vlookup(A14, Specimen!A:F, 5, FALSE)) -> Tooth | W14: Molar
A15: 116 | B15: =if(A15 ="", "", vlookup(A15, Specimen!A:E, 4, FALSE)) -> Sus scrofa | C15: =if(A15 ="", "", vlookup(A15, Specimen!A:F, 5, FALSE)) -> Tooth | W15: Premolar | X15: dp4
A16: 136 | B16: =if(A16 ="", "", vlookup(A16, Specimen!A:E, 4, FALSE)) -> Felis catus | C16: =if(A16 ="", "", vlookup(A16, Specimen!A:F, 5, FALSE)) -> Mandible | K16: 90 Present, wear indet. | Q16: 91 Alveolus only | S16: 2 Visible in crypt | T16: 2 Visible in crypt
A17: 137 | B17: =if(A17 ="", "", vlookup(A17, Specimen!A:E, 4, FALSE)) -> Felis catus | C17: =if(A17 ="", "", vlookup(A17, Specimen!A:F, 5, FALSE)) -> Mandible | K17: 91 Alveolus only | Q17: 91 Alveolus only | R17: 90 Present, wear indet. | S17: 2 Visible in crypt | T17: 2 Visible in crypt
A18: 145 | B18: =if(A18 ="", "", vlookup(A18, Specimen!A:E, 4, FALSE)) -> Bos taurus | C18: =if(A18 ="", "", vlookup(A18, Specimen!A:F, 5, FALSE)) -> Tooth | W18: Molar
A19: 146 | B19: =if(A19 ="", "", vlookup(A19, Specimen!A:E, 4, FALSE)) -> Bos taurus | C19: =if(A19 ="", "", vlookup(A19, Specimen!A:F, 5, FALSE)) -> Tooth | W19: Molar
A20: 147 | B20: =if(A20 ="", "", vlookup(A20, Specimen!A:E, 4, FALSE)) -> Bos taurus | C20: =if(A20 ="", "", vlookup(A20, Specimen!A:F, 5, FALSE)) -> Tooth | W20: Premolar
A21: 148 | B21: =if(A21 ="", "", vlookup(A21, Specimen!A:E, 4, FALSE)) -> Bos taurus | C21: =if(A21 ="", "", vlookup(A21, Specimen!A:F, 5, FALSE)) -> Tooth | W21: Premolar
A22: 149 | B22: =if(A22 ="", "", vlookup(A22, Specimen!A:E, 4, FALSE)) -> Bos taurus | C22: =if(A22 ="", "", vlookup(A22, Specimen!A:F, 5, FALSE)) -> Tooth | W22: Incisor
A23: 194 | B23: =if(A23 ="", "", vlookup(A23, Specimen!A:E, 4, FALSE)) -> Sus scrofa | C23: =if(A23 ="", "", vlookup(A23, Specimen!A:F, 5, FALSE)) -> Mandible | K23: 90 Present, wear indet.
A24: 198 | B24: =if(A24 ="", "", vlookup(A24, Specimen!A:E, 4, FALSE)) -> Sus scrofa | C24: =if(A24 ="", "", vlookup(A24, Specimen!A:F, 5, FALSE)) -> Tooth | W24: Canine
A25: 199 | B25: =if(A25 ="", "", vlookup(A25, Specimen!A:E, 4, FALSE)) -> Sus scrofa | C25: =if(A25 ="", "", vlookup(A25, Specimen!A:F, 5, FALSE)) -> Tooth | W25: Canine
A26: 200 | B26: =if(A26 ="", "", vlookup(A26, Specimen!A:E, 4, FALSE)) -> Sus scrofa | C26: =if(A26 ="", "", vlookup(A26, Specimen!A:F, 5, FALSE)) -> Tooth | W26: Incisor
A27: 201 | B27: =if(A27 ="", "", vlookup(A27, Specimen!A:E, 4, FALSE)) -> Sus scrofa | C27: =if(A27 ="", "", vlookup(A27, Specimen!A:F, 5, FALSE)) -> Tooth | W27: Incisor
A28: 202 | B28: =if(A28 ="", "", vlookup(A28, Specimen!A:E, 4, FALSE)) -> Sus scrofa | C28: =if(A28 ="", "", vlookup(A28, Specimen!A:F, 5, FALSE)) -> Tooth | W28: Incisor | X28: broken, mostly just root
A29: 203 | B29: =if(A29 ="", "", vlookup(A29, Specimen!A:E, 4, FALSE)) -> Sus scrofa | C29: =if(A29 ="", "", vlookup(A29, Specimen!A:F, 5, FALSE)) -> Tooth | W29: Premolar
A30: 204 | B30: =if(A30 ="", "", vlookup(A30, Specimen!A:E, 4, FALSE)) -> Ovis/Capra | C30: =if(A30 ="", "", vlookup(A30, Specimen!A:F, 5, FALSE)) -> Tooth | W30: Molar
A31: 205 | B31: =if(A31 ="", "", vlookup(A31, Specimen!A:E, 4, FALSE)) -> Ovis/Capra | C31: =if(A31 ="", "", vlookup(A31, Specimen!A:F, 5, FALSE)) -> Tooth | R31: 90 Present, wear indet. | W31: Premolar
A32: 206 | B32: =if(A32 ="", "", vlookup(A32, Specimen!A:E, 4, FALSE)) -> Ovis/Capra | C32: =if(A32 ="", "", vlookup(A32, Specimen!A:F, 5, FALSE)) -> Tooth | W32: Premolar
A33: 207 | B33: =if(A33 ="", "", vlookup(A33, Specimen!A:E, 4, FALSE)) -> Ovis/Capra | C33: =if(A33 ="", "", vlookup(A33, Specimen!A:F, 5, FALSE)) -> Tooth | W33: Molar
A34: 208 | B34: =if(A34 ="", "", vlookup(A34, Specimen!A:E, 4, FALSE)) -> Ovis/Capra | C34: =if(A34 ="", "", vlookup(A34, Specimen!A:F, 5, FALSE)) -> Tooth | W34: Molar
A35: 238 | B35: =if(A35 ="", "", vlookup(A35, Specimen!A:E, 4, FALSE)) -> Sus scrofa | C35: =if(A35 ="", "", vlookup(A35, Specimen!A:F, 5, FALSE)) -> Tooth | W35: Premolar/Molar | X35: broken
A36: 240 | B36: =if(A36 ="", "", vlookup(A36, Specimen!A:E, 4, FALSE)) -> Sus scrofa | C36: =if(A36 ="", "", vlookup(A36, Specimen!A:F, 5, FALSE)) -> Mandible | P36: 91 Alveolus only | Q36: 91 Alveolus only | S36: 7 Grant stage b | T36: 13 Grant stage h | U36: 8 Grant stage c | V36: 91 Alveolus only
A37: 241 | B37: =if(A37 ="", "", vlookup(A37, Specimen!A:E, 4, FALSE)) -> Sus scrofa | C37: =if(A37 ="", "", vlookup(A37, Specimen!A:F, 5, FALSE)) -> Tooth | W37: Canine
A38: 243 | B38: =if(A38 ="", "", vlookup(A38, Specimen!A:E, 4, FALSE)) -> Bos taurus | C38: =if(A38 ="", "", vlookup(A38, Specimen!A:F, 5, FALSE)) -> Tooth | W38: Molar
A39: 246 | B39: =if(A39 ="", "", vlookup(A39, Specimen!A:E, 4, FALSE)) -> Bos taurus | C39: =if(A39 ="", "", vlookup(A39, Specimen!A:F, 5, FALSE)) -> Tooth | W39: Incisor
A40: 250 | B40: =if(A40 ="", "", vlookup(A40, Specimen!A:E, 4, FALSE)) -> Sus scrofa | C40: =if(A40 ="", "", vlookup(A40, Specimen!A:F, 5, FALSE)) -> Maxilla | Q40: 90 Present, wear indet. | S40: 90 Present, wear indet. | T40: 90 Present, wear indet.
...

Sheet Measurement
A1: Unique ID | C1: (auto) | D1: (auto) | E1: code in source | F1: mm
A2: M_ID | B2: BONE_ID | C2: TAXON | D2: ELEMENT | E2: MEASUREMENT | F2: VALUE | G2: MODIFIER | H2: M_COMMENTS
A3: 1 | B3: 1 | C3: =if(B3 ="", "", vlookup(B3, Specimen!A:E, 4, FALSE)) -> Ovis/Capra | D3: =if(B3 ="", "", vlookup(B3, Specimen!A:F, 5, FALSE)) -> Pelvis | E3: LA | F3: 30.2
A4: 2 | B4: 11 | C4: =if(B4 ="", "", vlookup(B4, Specimen!A:E, 4, FALSE)) -> Corvus sp. | D4: =if(B4 ="", "", vlookup(B4, Specimen!A:F, 5, FALSE)) -> Tarsometatarsus | E4: GL | F4: 52.7
A5: 3 | B5: 11 | C5: =if(B5 ="", "", vlookup(B5, Specimen!A:E, 4, FALSE)) -> Corvus sp. | D5: =if(B5 ="", "", vlookup(B5, Specimen!A:F, 5, FALSE)) -> Tarsometatarsus | E5: Bp | F5: 8.8
A6: 4 | B6: 11 | C6: =if(B6 ="", "", vlookup(B6, Specimen!A:E, 4, FALSE)) -> Corvus sp. | D6: =if(B6 ="", "", vlookup(B6, Specimen!A:F, 5, FALSE)) -> Tarsometatarsus | E6: SC | F6: 3.3
A7: 5 | B7: 50 | C7: =if(B7 ="", "", vlookup(B7, Specimen!A:E, 4, FALSE)) -> Anser anser | D7: =if(B7 ="", "", vlookup(B7, Specimen!A:F, 5, FALSE)) -> Humerus | E7: Bp | F7: 33.1
A8: 6 | B8: 53 | C8: =if(B8 ="", "", vlookup(B8, Specimen!A:E, 4, FALSE)) -> Ovis/Capra | D8: =if(B8 ="", "", vlookup(B8, Specimen!A:F, 5, FALSE)) -> Ulna | E8: BPC | F8: 14.9
A9: 7 | B9: 53 | C9: =if(B9 ="", "", vlookup(B9, Specimen!A:E, 4, FALSE)) -> Ovis/Capra | D9: =if(B9 ="", "", vlookup(B9, Specimen!A:F, 5, FALSE)) -> Ulna | E9: DPA | F9: 24.7
A10: 8 | B10: 53 | C10: =if(B10 ="", "", vlookup(B10, Specimen!A:E, 4, FALSE)) -> Ovis/Capra | D10: =if(B10 ="", "", vlookup(B10, Specimen!A:F, 5, FALSE)) -> Ulna | E10: SDO | F10: 21
A11: 9 | B11: 53 | C11: =if(B11 ="", "", vlookup(B11, Specimen!A:E, 4, FALSE)) -> Ovis/Capra | D11: =if(B11 ="", "", vlookup(B11, Specimen!A:F, 5, FALSE)) -> Ulna | E11: LO | F11: 34.1
A12: 10 | B12: 60 | C12: =if(B12 ="", "", vlookup(B12, Specimen!A:E, 4, FALSE)) -> Bos taurus | D12: =if(B12 ="", "", vlookup(B12, Specimen!A:F, 5, FALSE)) -> Pelvis | E12: LA | F12: 70.9
A13: 11 | B13: 81 | C13: =if(B13 ="", "", vlookup(B13, Specimen!A:E, 4, FALSE)) -> Bos taurus | D13: =if(B13 ="", "", vlookup(B13, Specimen!A:F, 5, FALSE)) -> Dist. phalanx | E13: Ld | F13: 47.6
A14: 12 | B14: 81 | C14: =if(B14 ="", "", vlookup(B14, Specimen!A:E, 4, FALSE)) -> Bos taurus | D14: =if(B14 ="", "", vlookup(B14, Specimen!A:F, 5, FALSE)) -> Dist. phalanx | E14: MBS | F14: 19.6
... A181: 179 | B181: 1205 | C181: =if(B181 ="", "", vlookup(B181, Specimen!A:E, 4, FALSE)) -> Bos taurus | D181: =if(B181 ="", "", vlookup(B181, Specimen!A:F, 5, FALSE)) -> Astragalus | E181: Bd | F181: 35.7
C182: =if(B182 ="", "", vlookup(B182, Specimen!A:E, 4, FALSE)) | D182: =if(B182 ="", "", vlookup(B182, Specimen!A:F, 5, FALSE))
C183: =if(B183 ="", "", vlookup(B183, Specimen!A:E, 4, FALSE)) | D183: =if(B183 ="", "", vlookup(B183, Specimen!A:F, 5, FALSE))
C184: =if(B184 ="", "", vlookup(B184, Specimen!A:E, 4, FALSE)) | D184: =if(B184 ="", "", vlookup(B184, Specimen!A:F, 5, FALSE))
C185: =if(B185 ="", "", vlookup(B185, Specimen!A:E, 4, FALSE)) | D185: =if(B185 ="", "", vlookup(B185, Specimen!A:F, 5, FALSE))
C186: =if(B186 ="", "", vlookup(B186, Specimen!A:E, 4, FALSE)) | D186: =if(B186 ="", "", vlookup(B186, Specimen!A:F, 5, FALSE))
C187: =if(B187 ="", "", vlookup(B187, Specimen!A:E, 4, FALSE)) | D187: =if(B187 ="", "", vlookup(B187, Specimen!A:F, 5, FALSE))
C188: =if(B188 ="", "", vlookup(B188, Specimen!A:E, 4, FALSE)) | D188: =if(B188 ="", "", vlookup(B188, Specimen!A:F, 5, FALSE))
C189: =if(B189 ="", "", vlookup(B189, Specimen!A:E, 4, FALSE)) | D189: =if(B189 ="", "", vlookup(B189, Specimen!A:F, 5, FALSE))
C190: =if(B190 ="", "", vlookup(B190, Specimen!A:E, 4, FALSE)) | D190: =if(B190 ="", "", vlookup(B190, Specimen!A:F, 5, FALSE))
C191: =if(B191 ="", "", vlookup(B191, Specimen!A:E, 4, FALSE)) | D191: =if(B191 ="", "", vlookup(B191, Specimen!A:F, 5, FALSE))
C192: =if(B192 ="", "", vlookup(B192, Specimen!A:E, 4, FALSE)) | D192: =if(B192 ="", "", vlookup(B192, Specimen!A:F, 5, FALSE))
C193: =if(B193 ="", "", vlookup(B193, Specimen!A:E, 4, FALSE)) | D193: =if(B193 ="", "", vlookup(B193, Specimen!A:F, 5, FALSE))
... C1001: =if(B1001 ="", "", vlookup(B1001, Specimen!A:E, 4, FALSE)) | D1001: =if(B1001 ="", "", vlookup(B1001, Specimen!A:F, 5, FALSE))

Sheet Butchery
A1: unique ID | C1: (auto) | D1: (auto) | E1: broad category | F1: number, position, orientation, size, depth....
A2: BUTCHERY_ID | B2: BONE_ID | C2: TAXON | D2: ELEMENT | E2: TYPE | F2: DESCRIPTION
A3: 1 | B3: 1 | C3: =if(B3 ="", "", vlookup(B3, Specimen!A:E, 4, FALSE)) -> Ovis/Capra | D3: =if(B3 ="", "", vlookup(B3, Specimen!A:F, 5, FALSE)) -> Pelvis | E3: Saw | F3: Sawing marks, sawn through ilium
A4: 2 | B4: 9 | C4: =if(B4 ="", "", vlookup(B4, Specimen!A:E, 4, FALSE)) -> Large mammal | D4: =if(B4 ="", "", vlookup(B4, Specimen!A:F, 5, FALSE)) -> Rib | E4: Saw | F4: Sawing marks, through one end of rib
A5: 3 | B5: 19 | C5: =if(B5 ="", "", vlookup(B5, Specimen!A:E, 4, FALSE)) -> Ovis/Capra | D5: =if(B5 ="", "", vlookup(B5, Specimen!A:F, 5, FALSE)) -> Tibia | E5: Saw | F5: Sawing marks, sawn through shaft, Zone 9
A6: 4 | B6: 63 | C6: =if(B6 ="", "", vlookup(B6, Specimen!A:E, 4, FALSE)) -> Large mammal | D6: =if(B6 ="", "", vlookup(B6, Specimen!A:F, 5, FALSE)) -> Long bone | E6: Chop | F6: Chop has caused the bone to break in a spiral, chopped in middle of shaft
A7: 5 | B7: 100 | C7: =if(B7 ="", "", vlookup(B7, Specimen!A:E, 4, FALSE)) -> Ovis/Capra | D7: =if(B7 ="", "", vlookup(B7, Specimen!A:F, 5, FALSE)) -> Tibia | E7: Chop | F7: Chop caused bone to break, Zone 8
A8: 6 | B8: 159 | C8: =if(B8 ="", "", vlookup(B8, Specimen!A:E, 4, FALSE)) -> Cervus elaphus | D8: =if(B8 ="", "", vlookup(B8, Specimen!A:F, 5, FALSE)) -> Antler | E8: Chop | F8: Chopped around in a traditional way then snapped in half
A9: 7 | B9: 284 | C9: =if(B9 ="", "", vlookup(B9, Specimen!A:E, 4, FALSE)) -> Sus scrofa | D9: =if(B9 ="", "", vlookup(B9, Specimen!A:F, 5, FALSE)) -> Humerus | E9: Cut | F9: Multiple cut on trochlea of humerus
A10: 8 | B10: 339 | C10: =if(B10 ="", "", vlookup(B10, Specimen!A:E, 4, FALSE)) -> Bos taurus | D10: =if(B10 ="", "", vlookup(B10, Specimen!A:F, 5, FALSE)) -> Rib | E10: Saw | F10: Sawing marks, through one end of rib
A11: 9 | B11: 340 | C11: =if(B11 ="", "", vlookup(B11, Specimen!A:E, 4, FALSE)) -> Bos taurus | D11: =if(B11 ="", "", vlookup(B11, Specimen!A:F, 5, FALSE)) -> Femur | E11: Cut | F11: Multiple cut marks on head of femur
A12: 10 | B12: 568 | C12: =if(B12 ="", "", vlookup(B12, Specimen!A:E, 4, FALSE)) -> Anser anser | D12: =if(B12 ="", "", vlookup(B12, Specimen!A:F, 5, FALSE)) -> Tarsometatarsus | E12: Chop | F12: Chopped off proximal end of bone
A13: 11 | B13: 654 | C13: =if(B13 ="", "", vlookup(B13, Specimen!A:E, 4, FALSE)) -> Bos taurus | D13: =if(B13 ="", "", vlookup(B13, Specimen!A:F, 5, FALSE)) -> Ulna | E13: Saw | F13: Distal end of ulna sawn through
A14: 12 | B14: 672 | C14: =if(B14 ="", "", vlookup(B14, Specimen!A:E, 4, FALSE)) -> Bos taurus | D14: =if(B14 ="", "", vlookup(B14, Specimen!A:F, 5, FALSE)) -> Radius | E14: Saw | F14: Sawn through shaft of radius, Zone 5
... A43: 41 | B43: 1211 | C43: =if(B43 ="", "", vlookup(B43, Specimen!A:E, 4, FALSE)) -> Indet. mammal | D43: =if(B43 ="", "", vlookup(B43, Specimen!A:F, 5, FALSE)) -> Indet. | E43: Scrape | F43: Bone artefact, worked bone. Evidence of steps and scraping. May be a needle, unsure, pointed end with a larger "head"
C44: =if(B44 ="", "", vlookup(B44, Specimen!A:E, 4, FALSE)) | D44: =if(B44 ="", "", vlookup(B44, Specimen!A:F, 5, FALSE))
C45: =if(B45 ="", "", vlookup(B45, Specimen!A:E, 4, FALSE)) | D45: =if(B45 ="", "", vlookup(B45, Specimen!A:F, 5, FALSE))
C46: =if(B46 ="", "", vlookup(B46, Specimen!A:E, 4, FALSE)) | D46: =if(B46 ="", "", vlookup(B46, Specimen!A:F, 5, FALSE))
C47: =if(B47 ="", "", vlookup(B47, Specimen!A:E, 4, FALSE)) | D47: =if(B47 ="", "", vlookup(B47, Specimen!A:F, 5, FALSE))
C48: =if(B48 ="", "", vlookup(B48, Specimen!A:E, 4, FALSE)) | D48: =if(B48 ="", "", vlookup(B48, Specimen!A:F, 5, FALSE))
C49: =if(B49 ="", "", vlookup(B49, Specimen!A:E, 4, FALSE)) | D49: =if(B49 ="", "", vlookup(B49, Specimen!A:F, 5, FALSE))
C50: =if(B50 ="", "", vlookup(B50, Specimen!A:E, 4, FALSE)) | D50: =if(B50 ="", "", vlookup(B50, Specimen!A:F, 5, FALSE))
C51: =if(B51 ="", "", vlookup(B51, Specimen!A:E, 4, FALSE)) | D51: =if(B51 ="", "", vlookup(B51, Specimen!A:F, 5, FALSE))
C52: =if(B52 ="", "", vlookup(B52, Specimen!A:E, 4, FALSE)) | D52: =if(B52 ="", "", vlookup(B52, Specimen!A:F, 5, FALSE))
C53: =if(B53 ="", "", vlookup(B53, Specimen!A:E, 4, FALSE)) | D53: =if(B53 ="", "", vlookup(B53, Specimen!A:F, 5, FALSE))
C54: =if(B54 ="", "", vlookup(B54, Specimen!A:E, 4, FALSE)) | D54: =if(B54 ="", "", vlookup(B54, Specimen!A:F, 5, FALSE))
C55: =if(B55 ="", "", vlookup(B55, Specimen!A:E, 4, FALSE)) | D55: =if(B55 ="", "", vlookup(B55, Specimen!A:F, 5, FALSE))
... C1001: =if(B1001 ="", "", vlookup(B1001, Specimen!A:E, 4, FALSE)) | D1001: =if(B1001 ="", "", vlookup(B1001, Specimen!A:F, 5, FALSE))

Sheet Pivot NISP & DZ

Sheet Pivot metrics
C1: MIN of VALUE | D1: MEASUREMENT
A2: TAXON | B2: ELEMENT | C2: BONE_ID | E2: Bb | F2: Bd | G2: BF | H2: BFp | I2: Bp | J2: BPC | K2: BT | L2: DC | M2: Dic | N2: Did | O2: Dip | P2: Dl | Q2: DLS | R2: Dm | S2: DPA | T2: GB | U2: GL | V2: GLl | W2: GLm | X2: GLpe | Y2: LA | Z2: Ld | AA2: Lm | AB2: LO | AC2: MBS | AD2: SC | AE2: SD | AF2: SDO
A3: =if(C3 ="", "", vlookup(C3, Specimen!A:E, 4, FALSE)) | B3: =if(C3 ="", "", vlookup(C3, Specimen!A:F, 5, FALSE)) | D3: 0
A4: =if(C4 ="", "", vlookup(C4, Specimen!A:E, 4, FALSE)) -> Ovis/Capra | B4: =if(C4 ="", "", vlookup(C4, Specimen!A:F, 5, FALSE)) -> Pelvis | C4: 1 | Y4: 30.2
A5: =if(C5 ="", "", vlookup(C5, Specimen!A:E, 4, FALSE)) -> Corvus sp. | B5: =if(C5 ="", "", vlookup(C5, Specimen!A:F, 5, FALSE)) -> Tarsometatarsus | C5: 11 | I5: 8.8 | U5: 52.7 | AD5: 3.3
A6: =if(C6 ="", "", vlookup(C6, Specimen!A:E, 4, FALSE)) -> Anser anser | B6: =if(C6 ="", "", vlookup(C6, Specimen!A:F, 5, FALSE)) -> Humerus | C6: 50 | I6: 33.1
A7: =if(C7 ="", "", vlookup(C7, Specimen!A:E, 4, FALSE)) -> Ovis/Capra | B7: =if(C7 ="", "", vlookup(C7, Specimen!A:F, 5, FALSE)) -> Ulna | C7: 53 | J7: 14.9 | S7: 24.7 | AB7: 34.1 | AF7: 21
A8: =if(C8 ="", "", vlookup(C8, Specimen!A:E, 4, FALSE)) -> Bos taurus | B8: =if(C8 ="", "", vlookup(C8, Specimen!A:F, 5, FALSE)) -> Pelvis | C8: 60 | Y8: 70.9
A9: =if(C9 ="", "", vlookup(C9, Specimen!A:E, 4, FALSE)) -> Bos taurus | B9: =if(C9 ="", "", vlookup(C9, Specimen!A:F, 5, FALSE)) -> Dist. phalanx | C9: 81 | Q9: 59.5 | Z9: 47.6 | AC9: 19.6
A10: =if(C10 ="", "", vlookup(C10, Specimen!A:E, 4, FALSE)) -> Ovis/Capra | B10: =if(C10 ="", "", vlookup(C10, Specimen!A:F, 5, FALSE)) -> Metatarsal | C10: 142 | I10: 21.1
A11: =if(C11 ="", "", vlookup(C11, Specimen!A:E, 4, FALSE)) -> Bos taurus | B11: =if(C11 ="", "", vlookup(C11, Specimen!A:F, 5, FALSE)) -> Prox. phalanx | C11: 143 | F11: 25.7 | X11: 52.5 | AE11: 24.7
A12: =if(C12 ="", "", vlookup(C12, Specimen!A:E, 4, FALSE)) -> Gallus gallus | B12: =if(C12 ="", "", vlookup(C12, Specimen!A:F, 5, FALSE)) -> Coracoid | C12: 150 | E12: 15.7 | G12: 11.6 | U12: 56.3 | AA12: 53.4
A13: =if(C13 ="", "", vlookup(C13, Specimen!A:E, 4, FALSE)) -> Gallus gallus | B13: =if(C13 ="", "", vlookup(C13, Specimen!A:F, 5, FALSE)) -> Coracoid | C13: 151 | E13: 14.4 | G13: 11.7 | U13: 53.1 | AA13: 51
A14: =if(C14 ="", "", vlookup(C14, Specimen!A:E, 4, FALSE)) -> Phasianus sp. | B14: =if(C14 ="", "", vlookup(C14, Specimen!A:F, 5, FALSE)) -> Coracoid | C14: 152 | E14: 12.3 | G14: 11.2 | U14: 52.8 | AA14: 50.1
A15: =if(C15 ="", "", vlookup(C15, Specimen!A:E, 4, FALSE)) -> Anas platyrhyncos | B15: =if(C15 ="", "", vlookup(C15, Specimen!A:F, 5, FALSE)) -> Coracoid | C15: 153 | E15: 19.1 | G15: 16.3 | U15: 46.9 | AA15: 42.6
A16: =if(C16 ="", "", vlookup(C16, Specimen!A:E, 4, FALSE)) -> Gallus gallus | B16: =if(C16 ="", "", vlookup(C16, Specimen!A:F, 5, FALSE)) -> Ulna | C16: 154 | I16: 8.7 | N16: 9.5 | O16: 11.3 | U16: 66.1 | AD16: 4.3
A17: =if(C17 ="", "", vlookup(C17, Specimen!A:E, 4, FALSE)) -> Gallus gallus | B17: =if(C17 ="", "", vlookup(C17, Specimen!A:F, 5, FALSE)) -> Carpometacarpal | C17: 155 | I17: 10.5 | N17: 6.6 | U17: 33
A18: =if(C18 ="", "", vlookup(C18, Specimen!A:E, 4, FALSE)) -> Gallus gallus | B18: =if(C18 ="", "", vlookup(C18, Specimen!A:F, 5, FALSE)) -> Scapula | C18: 157 | M18: 12.5 | U18: 72.7
A19: =if(C19 ="", "", vlookup(C19, Specimen!A:E, 4, FALSE)) -> Bos taurus | B19: =if(C19 ="", "", vlookup(C19, Specimen!A:F, 5, FALSE)) -> Int. phalanx | C19: 160 | F19: 20.7 | I19: 25.7 | U19: 33.9 | AE19: 20.5
A20: =if(C20 ="", "", vlookup(C20, Specimen!A:E, 4, FALSE)) -> Sus scrofa | B20: =if(C20 ="", "", vlookup(C20, Specimen!A:F, 5, FALSE)) -> Humerus | C20: 284 | F20: 35 | K20: 30.2
A21: =if(C21 ="", "", vlookup(C21, Specimen!A:E, 4, FALSE)) -> Ovis aries | B21: =if(C21 ="", "", vlookup(C21, Specimen!A:F, 5, FALSE)) -> Tibia | C21: 321 | F21: 25.7 | AE21: 14.9
A22: =if(C22 ="", "", vlookup(C22, Specimen!A:E, 4, FALSE)) -> Gallus gallus | B22: =if(C22 ="", "", vlookup(C22, Specimen!A:F, 5, FALSE)) -> Ulna | C22: 413 | I22: 7.9 | O22: 11.2
A23: =if(C23 ="", "", vlookup(C23, Specimen!A:E, 4, FALSE)) -> Ovis/Capra | B23: =if(C23 ="", "", vlookup(C23, Specimen!A:F, 5, FALSE)) -> Humerus | C23: 415 | F23: 29.4 | K23: 23.3 | AE23: 12.4
A24: =if(C24 ="", "", vlookup(C24, Specimen!A:E, 4, FALSE)) -> Bos taurus | B24: =if(C24 ="", "", vlookup(C24, Specimen!A:F, 5, FALSE)) -> Astragalus | C24: 429 | F24: 35.6 | P24: 33.4 | R24: 36.5 | V24: 57.1 | W24: 53.3
A25: =if(C25 ="", "", vlookup(C25, Specimen!A:E, 4, FALSE)) -> Bos taurus | B25: =if(C25 ="", "", vlookup(C25, Specimen!A:F, 5, FALSE)) -> Astragalus | C25: 430 | F25: 36.4 | P25: 34 | R25: 31.1 | V25: 59 | W25: 55.3
A26: =if(C26 ="", "", vlookup(C26, Specimen!A:E, 4, FALSE)) -> Bos taurus | B26: =if(C26 ="", "", vlookup(C26, Specimen!A:F, 5, FALSE)) -> Dist. phalanx | C26: 431 | Q26: 83.6 | Z26: 61.1 | AC26: 26.2
A27: =if(C27 ="", "", vlookup(C27, Specimen!A:E, 4, FALSE)) -> Bos taurus | B27: =if(C27 ="", "", vlookup(C27, Specimen!A:F, 5, FALSE)) -> Int. phalanx | C27: 433 | F27: 29.8 | I27: 34.3 | U27: 43.5 | AE27: 27.3
A28: =if(C28 ="", "", vlookup(C28, Specimen!A:E, 4, FALSE)) -> Ovis/Capra | B28: =if(C28 ="", "", vlookup(C28, Specimen!A:F, 5, FALSE)) -> Metacarpal | C28: 450 | I28: 21.2
A29: =if(C29 ="", "", vlookup(C29, Specimen!A:E, 4, FALSE)) -> Equus sp. | B29: =if(C29 ="", "", vlookup(C29, Specimen!A:F, 5, FALSE)) -> Femur | C29: 504 | F29: 71.5
A30: =if(C30 ="", "", vlookup(C30, Specimen!A:E, 4, FALSE)) -> Bos taurus | B30: =if(C30 ="", "", vlookup(C30, Specimen!A:F, 5, FALSE)) -> Int. phalanx | C30: 506 | F30: 28.5 | I30: 33.6 | U30: 47.9 | AE30: 26.3
A31: =if(C31 ="", "", vlookup(C31, Specimen!A:E, 4, FALSE)) -> Ovis/Capra | B31: =if(C31 ="", "", vlookup(C31, Specimen!A:F, 5, FALSE)) -> Calcaneum | C31: 514 | T31: 21.8 | U31: 54.3
A32: =if(C32 ="", "", vlookup(C32, Specimen!A:E, 4, FALSE)) -> Bos taurus | B32: =if(C32 ="", "", vlookup(C32, Specimen!A:F, 5, FALSE)) -> Prox. phalanx | C32: 529 | F32: 27 | I32: 26 | X32: 53.4 | AE32: 22.6
A33: =if(C33 ="", "", vlookup(C33, Specimen!A:E, 4, FALSE)) -> Ovis/Capra | B33: =if(C33 ="", "", vlookup(C33, Specimen!A:F, 5, FALSE)) -> Astragalus | C33: 530 | F33: 19.4 | P33: 16.1 | V33: 28.7 | W33: 26.4
A34: =if(C34 ="", "", vlookup(C34, Specimen!A:E, 4, FALSE)) -> Ovis aries | B34: =if(C34 ="", "", vlookup(C34, Specimen!A:F, 5, FALSE)) -> Astragalus | C34: 603 | F34: 16.7 | P34: 13.7 | V34: 24.9 | W34: 23.6
A35: =if(C35 ="", "", vlookup(C35, Specimen!A:E, 4, FALSE)) -> Bos taurus | B35: =if(C35 ="", "", vlookup(C35, Specimen!A:F, 5, FALSE)) -> Horn core | C35: 613 | Y35: 65.2
A36: =if(C36 ="", "", vlookup(C36, Specimen!A:E, 4, FALSE)) -> Bos taurus | B36: =if(C36 ="", "", vlookup(C36, Specimen!A:F, 5, FALSE)) -> Prox. phalanx | C36: 619 | F36: 24.9 | I36: 27 | X36: 54.1 | AE36: 17.8
A37: =if(C37 ="", "", vlookup(C37, Specimen!A:E, 4, FALSE)) -> Bos taurus | B37: =if(C37 ="", "", vlookup(C37, Specimen!A:F, 5, FALSE)) -> Int. phalanx | C37: 620 | F37: 14.9 | I37: 18.6 | U37: 29 | AE37: 13.3
A38: =if(C38 ="", "", vlookup(C38, Specimen!A:E, 4, FALSE)) -> Ovis/Capra | B38: =if(C38 ="", "", vlookup(C38, Specimen!A:F, 5, FALSE)) -> Prox. phalanx | C38: 652 | I38: 12.8
A39: =if(C39 ="", "", vlookup(C39, Specimen!A:E, 4, FALSE)) -> Ovis/Capra | B39: =if(C39 ="", "", vlookup(C39, Specimen!A:F, 5, FALSE)) -> Tibia | C39: 653 | F39: 28
A40: =if(C40 ="", "", vlookup(C40, Specimen!A:E, 4, FALSE)) -> Bos taurus | B40: =if(C40 ="", "", vlookup(C40, Specimen!A:F, 5, FALSE)) -> Radius | C40: 672 | H40: 78.5 | I40: 84.9
...

Sheet CODES
A1: Unit | C1: ADD ADDITIONAL CODES BY ENTERING THEM INTO THE RELEVANT GREY BOXES
A2: BURNING_PC | B2: 0-5% | C2: 6-10% | D2: 11-25% | E2: 26-50% | F2: 51-75% | G2: 76-100%
A3: GNAWING_PC | B3: 0-5% | C3: 6-10% | D3: 11-25% | E3: 26-50% | F3: 51-75% | G3: 76-100%
A4: FRAGMENTATION | B4: Very light | C4: Light | D4: Normal | E4: Severe | F4: Very severe
A5: HOMOGENEITY | B5: V. homogeneous | C5: Homogeneous | D5: Normal | E5: Mixed | F5: V. mixed
A7: Specimen
A8: SIDE | B8: Left | C8: Right | D8: Central | E8: Both | F8: LL/RM | G8: LM/RL | H8: Indet.
A9: AGE | B9: Adult | C9: Young
A10: SEX | B10: Male | C10: Female | D10: Probably male | E10: Probably female
A11: PORTION | B11: Prox | C11: Dist | D11: Both | E11: Shaft cylinder | F11: Shaft splinter | G11: Complete | H11: Near-complete | I11: Fragment | J11: Centrum | K11: Dorsal process | L11: Transverse process | M11: Zygapophysis | N11: Acetabulum | O11: Ischium | P11: Ilium | Q11: Pubis
A13: FUSION | B13: Fused | C13: Fusing | D13: Unfused shaft | E13: Unfused end | F13: Unfused both
A14: SURFACE | B14: Very good | C14: Good | D14: Average | E14: Poor | F14: Very poor
A15: BURNING | B15: Burnt | C15: Carbonized | D15: Calcined | E15: See comment
A16: GNAWING | B16: Carnivore - light | C16: Carnivore - heavy | D16: Rodent | E16: Prob. carnivore | F16: Prob. rodent
A17: DIGESTION | B17: Digested | C17: Prob. digested
A18: ARTIC_TYPE | B18: Articulated | C18: Prob. articulated | D18: Paired | E18: Prob. paired | F18: Fused
A20: Teeth
A21: [main teeth] | B21: 0 Unformed | C21: 1 Perforation in crypt | D21: 2 Visible in crypt | E21: 3 Erupting | F21: 4 Half erupted | G21: 5 Almost erupted | H21: 6 Grant stage a | I21: 7 Grant stage b | J21: 8 Grant stage c | K21: 9 Grant stage d | L21: 10 Grant stage e | M21: 11 Grant stage f | N21: 12 Grant stage g | O21: 13 Grant stage h | P21: 14 Grant stage j | Q21: 15 Grant stage k | R21: 16 Grant stage l | S21: 17 Grant stage m | T21: 18 Grant stage n | U21: 19 Grant stage o | V21: 20 Grant stage p
A22: [all teeth] | B22: 30 Not in wear | C22: 40 In wear | D22: 50 Light wear | E22: 60 Moderate wear | F22: 70 Heavy wear | G22: 80 Very heavy wear | H22: 90 Present, wear indet. | I22: 91 Alveolus only | J22: 92 Lost pre-mortem | K22: 95 Congenitally absent | L22: 99 No data
A23: LOOSE_CLASS | B23: Incisor | C23: Canine | D23: Premolar | E23: Molar | F23: Incisor/Canine | G23: Premolar/Molar
A25: Measurement
A26: SOURCE | B26: vdD | C26: Davis 1996
A27: MODIFIER | B27: Normal | C27: Unfused / young | D27: Burnt | E27: Eroded | F27: Pathological | G27: See comment
A29: Butchery
A30: TYPE | B30: Cut | C30: Chop | D30: Saw | E30: Scrape | F30: Impact

Sheet TAXA
A2: TAXON | B2: Common_name | C2: Level | D2: Status | E2: Size_class | F2: QGroup | G2: ID | H2: Lumped_1 | I2: Lumped_2 | J2: Group | K2: Family | L2: Genus | M2: Species
A3: Ovis aries | B3: Sheep | C3: Species | D3: Domestic | E3: 3 | F3: 1 | G3: TRUE | H3: Sheep / goat | I3: Sheep / goat | J3: Mammal
A4: Capra hircus | B4: Goat | C4: Species | D4: Domestic | E4: 3 | F4: 1 | G4: TRUE | H4: Sheep / goat | I4: Sheep / goat | J4: Mammal
A5: Ovis/Capra | B5: Sheep / goat | C5: Informal | D5: Domestic | E5: 3 | F5: 1 | G5: TRUE | H5: Sheep / goat | I5: Sheep / goat | J5: Mammal
A6: Bos taurus | B6: Cattle | C6: Species | D6: Domestic | E6: 5 | F6: 1 | G6: TRUE | H6: Cattle | I6: Cattle | J6: Mammal
A7: Bos primigenius | B7: Aurochs | C7: Species | D7: Wild | E7: 6 | F7: 1 | G7: TRUE | H7: Aurochs | I7: Cattle | J7: Mammal
A8: Bos sp. | B8: Cattle / aurochs | C8: Genus | D8: Uncertain | E8: 5 | F8: 1 | G8: TRUE | H8: Cattle / aurochs | I8: Cattle | J8: Mammal
A9: Sus scrofa | B9: Pig | C9: Species | D9: Uncertain | E9: 4 | F9: 2 | G9: TRUE | H9: Pig | I9: Pig | J9: Mammal
A10: Sus scrofa (dom.) | B10: Domestic pig | C10: Species | D10: Domestic | E10: 4 | F10: 2 | G10: TRUE | H10: Domestic pig | I10: Pig | J10: Mammal
A11: Sus scrofa (wild) | B11: Wild pig | C11: Species | D11: Wild | E11: 4 | F11: 2 | G11: TRUE | H11: Wild pig | I11: Pig | J11: Mammal
A12: Canis familiaris | B12: Dog | C12: Species | D12: Domestic | E12: 3 | F12: 4 | G12: TRUE | H12: Dog | I12: Dog / wolf | J12: Mammal
A13: Canis lupus | B13: Wolf | C13: Species | D13: Wild | E13: 3 | F13: 4 | G13: TRUE | H13: Wolf | I13: Dog / wolf | J13: Mammal
A14: Canis sp. | B14: Dog / wolf | C14: Genus | D14: Uncertain | E14: 3 | F14: 4 | G14: TRUE | H14: Dog / wolf | I14: Dog / wolf | J14: Mammal
... A56: Small carnivore | B56: Small carnivore | C56: Order | D56: Uncertain | E56: 2 | F56: 4 | G56: FALSE | H56: Small carnivore | I56: Small carnivore | J56: Mammal
A57: Phoca vitulina | B57: Harbour seal | C57: Species | D57: Wild | E57: 4 | G57: TRUE | H57: Harbour seal | I57: Seal | J57: Mammal
A58: Halichoerus grypus | B58: Grey seal | C58: Species | D58: Wild | E58: 4 | G58: TRUE | H58: Grey seal | I58: Seal | J58: Mammal
A59: Phocidae | B59: Seal | C59: Family | D59: Wild | E59: 4 | G59: TRUE | H59: Seal | I59: Seal | J59: Mammal
A60: Small cetacean | B60: Small cetacean | C60: Order | D60: Wild | E60: 6 | G60: FALSE | H60: Small cetacean | I60: Cetacean | J60: Mammal
A61: Large cetacean | B61: Large cetacean | C61: Order | D61: Wild | E61: 6 | G61: FALSE | H61: Large cetacean | I61: Cetacean | J61: Mammal
A62: Rattus rattus | B62: Black rat | C62: Species | D62: Wild | E62: 1 | F62: 4 | G62: TRUE | H62: Rat | I62: Rat | J62: Mammal
A63: Rattus norvegicus | B63: Brown rat | C63: Species | D63: Wild | E63: 1 | F63: 4 | G63: TRUE | H63: Rat | I63: Rat | J63: Mammal
A64: Rattus sp. | B64: Rat | C64: Genus | D64: Wild | E64: 1 | F64: 4 | G64: TRUE | H64: Rat | I64: Rat | J64: Mammal
A65: Cricetus cricetus | B65: Hamster | C65: Species | D65: Wild | E65: 1 | F65: 4 | G65: TRUE | H65: Hamster | I65: Hamster | J65: Mammal
A66: Mus musculus | B66: House mouse | C66: Species | D66: Wild | E66: 1 | F66: 4 | G66: TRUE | H66: Mouse | I66: Mouse | J66: Mammal
A67: Mus sp. | B67: Mus sp. | C67: Genus | D67: Wild | E67: 1 | F67: 4 | G67: TRUE | H67: Mouse | I67: Mouse | J67: Mammal
A68: Apodemus sylvaticus | B68: Wood mouse | C68: Species | D68: Wild | E68: 1 | F68: 4 | G68: TRUE | H68: Mouse | I68: Mouse | J68: Mammal
A69: Apodemus flavicollis | B69: Yellow-necked mouse | C69: Species | D69: Wild | E69: 1 | F69: 4 | G69: TRUE | H69: Mouse | I69: Mouse | J69: Mammal
A70: Apodemus sp. | B70: Wood mouse | C70: Genus | D70: Wild | E70: 1 | F70: 4 | G70: TRUE | H70: Mouse | I70: Mouse | J70: Mammal
A71: Mus/Apodemus | B71: Mouse | C71: Informal | D71: Wild | E71: 1 | F71: 4 | G71: TRUE | H71: Mouse | I71: Mouse | J71: Mammal
A72: Micromys minutus | B72: Harvest mouse | C72: Species | D72: Wild | E72: 1 | F72: 4 | G72: TRUE | H72: Mouse | I72: Mouse | J72: Mammal
A73: Muridae | B73: Murid | C73: Family | D73: Wild | E73: 1 | F73: 4 | G73: TRUE | H73: Murid | I73: Rodent | J73: Mammal
A74: Rodentia | B74: Rodent | C74: Order | D74: Wild | F74: 4 | G74: FALSE | H74: Rodent | I74: Rodent | J74: Mammal
A75: Arvicola amphibius | B75: Water vole | C75: Species | D75: Wild | E75: 1 | F75: 4 | G75: TRUE | H75: Water vole | I75: Vole | J75: Mammal
A76: Microtus arvalis | B76: Common vole | C76: Species | D76: Wild | E76: 1 | F76: 4 | G76: TRUE | H76: Common vole | I76: Vole | J76: Mammal
A77: Microtus arvalis orcadensis | B77: Orkney vole | C77: Subspecies | D77: Wild | E77: 1 | F77: 4 | G77: TRUE | H77: Orkney vole | I77: Vole | J77: Mammal
A78: Microtus agrestis | B78: Field vole | C78: Species | D78: Wild | E78: 1 | F78: 4 | G78: TRUE | H78: Field vole | I78: Vole | J78: Mammal
A79: Microtus sp. | B79: Vole | C79: Genus | D79: Wild | E79: 1 | F79: 4 | G79: TRUE | H79: Vole | I79: Vole | J79: Mammal
A80: Myodes glareolus | B80: Bank vole | C80: Species | D80: Wild | E80: 1 | F80: 4 | G80: TRUE | H80: Bank vole | I80: Vole | J80: Mammal
A81: Testudo sp. | B81: Tortoise | C81: Genus | D81: Wild | E81: 2 | G81: TRUE | H81: Tortoise | I81: Testudines | J81: Reptile
A82: Emys orbicularis | B82: Pond turtle | C82: Species | D82: Wild | E82: 2 | G82: TRUE | H82: Pond turtle | I82: Testudines | J82: Reptile
...

Sheet ELEMENT
C1: Number for correcting NISP (nb. based on lumped element) | D1: Bovids & Cervids | E1: Pigs | F1: Equids | G1: Canids | H1: Birds | I1: Fish | J1: Only where we want it included in counts | L1: Fusion groups (refs): | M1: Zeder 2006 | N1: Ritz and Wing 1994 | P1: Ritz and Wing 1994
A2: ELEMENT | B2: Cranial | C2: LumpedElement | D2: n1 | E2: n2 | F2: n3 | G2: n4 | H2: n5 | I2: n6 | J2: REGION | K2: Q_Zone | L2: proxOvis | M2: distOvis | N2: proxBos | O2: distBos | P2: proxSus | Q2: distSus
A3: Antler | B3: TRUE | C3: Antler | D3: 2 | J3: Antler / horn core
A4: Horn core | B4: TRUE | C4: Horn core | D4: 2 | J4: Antler / horn core
A5: Skull | B5: TRUE | C5: Skull | D5: 1 | E5: 1 | F5: 1 | G5: 1 | J5: Head | K5: 2
A6: Upper tooth | B6: TRUE | C6: Tooth | D6: 32 | E6: 42 | F6: 40 | G6: 42 | J6: Head
A7: Lower tooth | B7: TRUE | C7: Tooth | D7: 32 | E7: 42 | F7: 40 | G7: 42 | J7: Head
A8: Tooth | B8: TRUE | C8: Tooth | J8: Head
A9: Mandible | B9: TRUE | C9: Mandible | D9: 2 | E9: 2 | F9: 2 | G9: 2 | J9: Head | K9: 2
A10: Hyoid | B10: FALSE | C10: Hyoid | D10: 2 | E10: 2 | F10: 2 | G10: 2 | J10: Head
A11: Atlas | B11: FALSE | C11: Atlas | D11: 1 | E11: 1 | F11: 1 | G11: 1 | J11: Neck | K11: 1
A12: Axis | B12: FALSE | C12: Axis | D12: 1 | E12: 1 | F12: 1 | G12: 1 | J12: Neck | K12: 1
A13: Cervical vert. | B13: FALSE | C13: Cervical vert. | D13: 5 | E13: 5 | F13: 5 | G13: 5 | J13: Neck
A14: Thoracic vert. | B14: FALSE | C14: Vertebrae | D14: 19 | E14: 22 | F14: 24 | G14: 20 | J14: Axial
A15: Lumbar vert. | B15: FALSE | C15: Vertebrae | D15: 19 | E15: 22 | F15: 24 | G15: 20 | J15: Axial
A16: Sacrum | B16: FALSE | C16: Sacrum | D16: 1 | E16: 1 | F16: 1 | G16: 1 | J16: Axial | K16: 1
